BEGIN:VCALENDAR
VERSION:2.0
PRODID:-//TEST Apricus e.V.//NONSGML kigkonsult.se iCalcreator 2.41.92//
CALSCALE:GREGORIAN
METHOD:PUBLISH
UID:34653464-3930-4438-b139-356531333838
X-WR-CALNAME:iCagenda
X-WR-CALDESC:Event Management Extension for Joomla!
X-WR-RELCALID:3E26604A-50F4-4449-8B3E-E4F4932D05B5
X-WR-TIMEZONE:Europe/Berlin
BEGIN:VTIMEZONE
TZID:Europe/Berlin
TZUNTIL:20231029T010000Z
BEGIN:STANDARD
TZNAME:CET
DTSTART:20211031T030000
TZOFFSETFROM:+0200
TZOFFSETTO:+0100
RDATE:20221030T030000
END:STANDARD
BEGIN:DAYLIGHT
TZNAME:CEST
DTSTART:20210328T020000
TZOFFSETFROM:+0100
TZOFFSETTO:+0200
RDATE:20220327T020000
RDATE:20230326T020000
END:DAYLIGHT
END:VTIMEZONE
BEGIN:VEVENT
UID:61653366-6431-4565-b466-363865353162
DTSTAMP:20260425T213426Z
CATEGORIES:Wandern
CLASS:PUBLIC
DESCRIPTION;ALTREP="CID:<FFFF__=0ABBE548DFE235B58f9e8a93d@coffeebean.com>":
 Achtung – Terminänderung: 07.11.2021 statt ursprünglich 30.10.2021\nTouren
 beschreibung\nWelche Jahreszeit ist schöner als der Herbst\, wenn man in d
 en Wäldern des Hohen Fläming wandern will? Die Bäume\, vor allem die Buche
 n zeigen sich von ihrer bunten Seite...\nIch habe in den Wäldern zwischen 
 Serno\, Stackelitz und der Landesgrenze einige Merkwürdigkeiten aufgespürt
 \, die ich Euch mit dieser Wanderung gern zeigen möchte. Es geht zum Kilzp
 fuhl und zum Kilzbrunnen\, die an das einstige Dorf Kilz erinnern - aber a
 uch einen mir bislang noch unbekannten Findling und einen alten Gedenkstei
 n mit mir leider unbekannter Bedeutung mitten im Wald werden wir besuchen.
 Zu Beginn der Wanderung würden wir gern einmal mehr die Sernoer Dorfkirche
  mit ihrem Unikat\, dem Stabgeläute anschauen.\nTreffpunkt ist vor dem Dor
 fgemeinschaftshaus in Serno um 11:00&nbsp\;Uhr (hier kann auch geparkt wer
 den).\nDie Wanderung selbst wird um die 10 - 12&nbsp\;km lang sein. Einen 
 Verpflegungspunkt unterwegs gibt es nicht\, so dass sich jeder auf ein Unt
 erwegs-Picknick aus dem Rucksack einstellen sollte. Sollte uns der Heimatv
 erein im Anschluss an die Wanderung einen kleinen Imbiss anbieten wollen\,
  dann werde ich das in der Ausschreibung hier aktualisieren. Eventuell müs
 sen dann auch die Teilnehmergebühren und die Termine zur Anmeldung angegli
 chen werden.\nSollte es bei rein autarker Verpflegung bleiben\, reicht ein
 e Anmeldung bis 04.11.2021 aus\, Gäste zahlen dann den üblichen 1&nbsp\;€ 
 für die Sportunfallversicherung vor Ort\, sonst entstehen keine weiteren K
 osten.\nAnmeldung bei Torsten Hammer\, Telefon: 034903/189761 (auch AB nut
 zen) bzw.&nbsp\;thapricus@aol.com\nHerbstlicher Flämingwald
DTSTART:20211107T090000Z
DTEND:20211107T160000Z
GEO:00;0
LOCATION:
ORGANIZER:
SEQUENCE:1
SUMMARY:Herbstliche Wanderung durch die Flämingwälder um Serno
TRANSP:OPAQUE
URL:https://test.apricus-ev.de/component/icagenda/herbstliche-wanderung-ser
 no?layout=vcal
END:VEVENT
END:VCALENDAR
