BEGIN:VCALENDAR
VERSION:2.0
PRODID:-//TEST Apricus e.V.//NONSGML kigkonsult.se iCalcreator 2.41.92//
CALSCALE:GREGORIAN
METHOD:PUBLISH
UID:31616262-6133-4663-a537-386235333837
X-WR-CALNAME:iCagenda
X-WR-CALDESC:Event Management Extension for Joomla!
X-WR-RELCALID:3E26604A-50F4-4449-8B3E-E4F4932D05B5
X-WR-TIMEZONE:Europe/Berlin
BEGIN:VTIMEZONE
TZID:Europe/Berlin
TZUNTIL:20260329T010000Z
BEGIN:STANDARD
TZNAME:CET
DTSTART:20231029T030000
TZOFFSETFROM:+0200
TZOFFSETTO:+0100
RDATE:20241027T030000
RDATE:20251026T030000
END:STANDARD
BEGIN:DAYLIGHT
TZNAME:CEST
DTSTART:20240331T020000
TZOFFSETFROM:+0100
TZOFFSETTO:+0200
RDATE:20250330T020000
END:DAYLIGHT
END:VTIMEZONE
BEGIN:VEVENT
UID:65666165-6462-4536-b236-366366656534
DTSTAMP:20260425T213427Z
CATEGORIES:Paddeln\, Rudern
CLASS:PUBLIC
DESCRIPTION;ALTREP="CID:<FFFF__=0ABBE548DFE235B58f9e8a93d@coffeebean.com>":
 Info vom 16.4.:\nHallo ihr Sympathisanten des tratitionellen\, jährlichen 
 Wasserschlagens: vom 8.5.-&nbsp\; 12.5.2024 ist es wieder soweit und wir w
 ollen die Unstrut\, beladen mit gar kostbarer Fracht in guter Piratenmanie
 r unsicher machen. Die Boote sind gechartert\, doch es sind noch freie Plä
 tze vorhanden\, die es zu besetzen gilt. Dazu habt ihr noch bis diesen Fre
 itag\, den 19.4.2024\, Zeit.\nAnmeldung weiterhin bei Alexander Roth (cool
 ossi84@web.de ODER unter 0160-92225887)\nP.S.: Wir werden uns nicht wie Ba
 rbaren aufführen und es muss auch niemand befüchten\, aufgeknöpft zu werde
 n. Das einzige was wir knöpfen\, wären unsere Rettungswesten AUF &amp\; ZU
 ...\n\nWie schon aus der Überschrift ersichtlich\, werden unsere Boote die
 ses Jahr von der Unstrut getragen. Diese schlängelt sich dabei malerisch d
 urch das Thüringer Becken und Teile Sachsen-Anhalts. Die Region wird nicht
  von ungefähr „Toskana des Nordens“ genannt: mit Weinbergen\, romantischen
  Städten und schöner Natur mutet das Unstruttal mediterran an. Mal ein bis
 schen romantisch\, mal langsam und träge\, dann wieder eingezwängt in ein 
 Korsett von Muschelkalk- oder Sandsteinbergen erschließt die Unstrut das b
 ekannte Weinanbaugebiet Saale-Unstrut und wird daher auch „Land aus Stein 
 und Wein“ genannt. Entlang des Flusses gibt es geschichtsträchtige Orte wi
 e Mühlhausen\, Memleben oder Freyburg zu entdecken. Ebenso sind die vielen
  Burgen und Schlösser wie auch die moderne Arche Nebra am Fundort der berü
 hmten Himmelsscheibe ein vorbeipaddeln und evtl. aussteigen wert.\nMittwoc
 h\, 08. Mai 2024:\nWir treffen uns alle am Nachmittag/Abend auf dem Bootsh
 ausgelände des Kanu- und Wanderverein Artern e.V.\, An der Schleuse\, 0655
 6 Artern. Eine kleine Anfahrtsskizze inkl. Transportvorschläge findet ihr 
 nochmal unter dem Punkt „Organisatorisches“.\nDonnerstag\, 09. Mai 2024:\n
 \nTagesstrecke: 12&nbsp\;km\n\nNachdem wir die erste Nacht vor unserem Abe
 nteuer absolviert\, unser Hab&nbsp\;&amp\; Gut wassersicher verpackt\, die
  obligatorische Unterweisung vom Obermaat Thomas\, der „Redsame“\, erhalte
 n und vor gierigen Seeräubern verpackt haben\, stechen wir in die Unstrut.
  Diese soll in diesem Abschnitt besonders zähfließend sein\, weshalb wir h
 eute nur eine kleene Strecke vor uns haben. Doch aufgepasst! Man munkelt v
 on einem erhöhten Aufkommen an Seepiraten\, die zwar keiner Laus was zu Le
 ide tun\, aber auf die süße Fracht aus sind. Daher versteckt die Schätze\,
  Hab&nbsp\;&amp\; Gut und alles\, was von Wert. Lasst hier nix unverstärkt
 . Unser Tagesziel soll heut sein\, der sanitär ausgestattete Biwakplatz „K
 upferhütte“ bei Bottendorf.\nFreitag\, 10. Mai 2024:\n\nTagesstrecke: 20&n
 bsp\;km\n\nHeute kreuzen wir die auf einem Gipsfelsen thronende Burgruine 
 Wendelstein. Wahrscheinlich diente die Burg im Mittelalter als Grenzfeste 
 der Sachsen gegen die Franken. Wälle und Festungsgräben zeugen von der ein
 stigen Wehrhaftigkeit. Später queren wir bei&nbsp\;Memleben&nbsp\;die Land
 esgrenze zu Sachsen-Anhalt. Dort können wir vom Kanu aus die terrassenförm
 igen Weinhänge bewundern und am Abend (k)einen der besten Weine Deutschlan
 ds genießen. Ein wunderbarer Blick in das Unstrut-Tal bietet sich\, wenn w
 ir es schaffen\, bei Wangen eine Pause einzulegen und uns auf die Terrasse
  der Arche Nebra zu setzen. Dort befindet sich auch die „Himmelsscheibe vo
 n Nebra“\, die zusammen mit einem Bronzeschatz von zwei Raubgräbern auf de
 m Mittelberg ausgegraben wurde\, und die kleine Stadt berühmt machte. Die 
 Scheibe gilt als früheste bekannte Himmelsdarstellung der Menschheitsgesch
 ichte. Hier kann dann auch wieder Nahrung und Piratenbeute eingekauft werd
 en. Nachdem wir noch Burg Vitzenburg kreuzen\, erreichen wir unser Tageszi
 el\, einen Biwakplatz bei Reinsdorf.\nSamstag\, 11. Mai 2024:\n\nTagesstre
 cke: 22&nbsp\;- 26&nbsp\;km\n\nHeute haben wir evtl. die längste Tagesetap
 pe vor uns\, welche uns an Burgscheidungen und Laucha nach Freyburg oder B
 algstädt führt. Laucha war einst eine reiche\, blühende Stadt\, jedoch wur
 de die Stadt oft von Kriegshorden geplündert und gebrandschatzt. Auch Natu
 rkatastrophen\, wie Hochwasser\, suchten die Stadt mehrmals heim. Dennoch 
 findet man bis heute in Lauche eine große Anzahl an historischen Gebäuden.
 \nIn einem engen Tal an einer Biegung der Unstrut liegt die Stadt Freyburg
 . Hier ist das Zentrum des Weinbaugebiets Saale-Unstrut. Heute werden dort
  Weiß- und Grauburgunder\, Riesling\, Dornfelder oder Müller-Thurgau gekel
 tert.&nbsp\;Berühmter noch ist der Sekt aus Freyburg\, der eine wundersame
  Metamorphose vom kaiserlichen Sekt zum Lieblingssekt der Deutschen durchl
 ebte (so berühmt\, dass ich diesen nicht kenne). Unser Tagesziel ist entwe
 der ein Biwakplatz in Balgstädt oder&nbsp\;- wenn es sich zeitlich ergibt&
 nbsp\;- in Freyburg.\nSonntag\, 12. Mai 2024:\n\nTagesstrecke: 8-12 km\n\n
 Nach einer letzten kleinen Tour\, ob mit oder ohne Paddelschläge\, schippe
 rn wir im Ziel\, 3&nbsp\;km nach der Mündung der Unstrut in die Saale\, in
  Naumburg-Henne ein. Von da aus sind es 3&nbsp\;- 4&nbsp\;km Fußweg zum Ha
 uptbahnhof Naumburg/Saale. Von dort aus sollte ein Zerstreuen der Meute in
  alle Himmelsrichtungen möglich sein. Doch auch gilt ein letztes Mal: aufg
 epasst! Denn in wogenden Wellen in blauem Licht\, endliche Weite\, die das
  Glück verspricht. Unsere Schiffe teils noch beladen mit edler Fracht\, be
 finden wir uns noch immer im Reiche Poseidons - in seiner Macht. Tage zuvo
 r traten wir ein in sein magisches Reich und was einst begann\, so lieblic
 h und reich\, kann manchen vorn uns werden\, zum Schicksalsort. Lasst euch
  gesagt sein: niemand verließ je diesen Ort und nur Zuckerwatte bringt je 
 einen Menschen dort fort...\nJa ist klar\, ihr habt natürlich immer eine Z
 uckerwattemaschine mit dabei. Kann uns allen also nüscht passieren. \;-)\n
 Organisatorisches:\nTreffpunkt:&nbsp\; Kanu- und Wanderverein Artern e.V. 
 / An der Schleuse\, 06556 Artern\nLage von Treffpunkt und Bahnhof in Arter
 n\nKosten:\n*) Die Preise für Kinder und Jugendliche bis 26 Jahre sind dur
 ch den Verein gestützt/reduziert.  \n\n\n\n\n\nTN-Gruppe\nApricus\nGäste\n
 \n\n\n\nErwachsene\n\n128\n148\n\n\nBürgergeldempfänger/Studenten ab 27 Ja
 hre\n\n105\n125\n\n\nJugendliche 16-26 Jahre *\n\n85\n93\n\n\nKinder/Jugen
 dliche 3-15 Jahre *\n\n70\n78\n\n\n\nAnmeldeschluss&nbsp\;ist der&nbsp\;19
 .&nbsp\;April 2024.\nDanach&nbsp\;eingehende Anmeldende müssen ihr Boot se
 lbst mitbringen oder bauen und zusätzlich eine Strafe in Form von Süßkram 
 in die Piratenkasse einzahlen. Freiwillige Spenden sind auch gern gesehen\
 , wenn auch diese nicht steuerlich absetzbar sind.\nGetreu unserem Motto „
 Natur gemeinsam aktiv erleben“ wollen wir jedem ermöglichen\, an unseren V
 eranstaltungen teilzunehmen. Daher gibt es besonders für Kinder\, Jugendli
 che und Familien schon einige Fördermöglichkeiten\, beispielsweise für die
  Reisekosten oder Zuschüsse aus einem Spendentopf. Genaue Informationen er
 haltet Ihr unter folgendem Link: Fördermöglichkeiten bei Apricus-Veranstal
 tungen.\nWenn für Jemanden der Teilnehmerbeitrag zu hoch ist\, meldet euch
  bitte unbedingt bei uns. \nIm Preis&nbsp\;enthalten&nbsp\;sind:\n\nÜberna
 chtungen auf den Zeltplätzen\nBootsausleihe\n\n...nicht&nbsp\;enthalten:\n
 \neure Verpflegung müsst ihr euch selbst jagen und bezahlen\nZuckerwatte u
 nd die jeweilige Maschine zur Produktion\n\nMitzubringen:\n\ngute Laune\, 
 Wasserschuhe\, entsprechende Kleidung\, Wassersäcke\, wasserdichte elektro
 nische Geräte\, Unterwasserkamera &amp\; Lust auf schöne gemeinsame Tage\n
 Augenklappen\, Piratenflagge\, Enterhaken und jede Menge potenzielles Beut
 egut in Form von Süßigkeiten :-)\, Rum bekommen wir die Tage schon irgendw
 ie.\nGitarre für regionale Wassermusik\nKlopapier\n\nAnmeldungen:\n...bitt
 e bei : Alexander Roth an die Mailadresse&nbsp\;coolossi84@web.de&nbsp\;od
 er telefonisch: 016092225887.\nDie Anmeldung gilt nur bei Einzahlung auf d
 as{loadposition ap-kontodaten}\nAuf großartige Tage und auf Euch freuen si
 ch\,Thomas\, Alexander\, die Unstrut und ein Haufen Schleusen
DTSTART:20240508T150000Z
DTEND:20240512T160000Z
GEO:00;0
LOCATION:
ORGANIZER:
SEQUENCE:1
SUMMARY:Himmelfahrtspaddeln auf der Unstrut
TRANSP:OPAQUE
URL:https://test.apricus-ev.de/component/icagenda/himmelfahrtspaddeln-2?lay
 out=vcal
END:VEVENT
END:VCALENDAR
