BEGIN:VCALENDAR
VERSION:2.0
PRODID:-//TEST Apricus e.V.//NONSGML kigkonsult.se iCalcreator 2.41.92//
CALSCALE:GREGORIAN
METHOD:PUBLISH
UID:37373931-6338-4433-b539-323234343730
X-WR-CALNAME:iCagenda
X-WR-CALDESC:Event Management Extension for Joomla!
X-WR-RELCALID:3E26604A-50F4-4449-8B3E-E4F4932D05B5
X-WR-TIMEZONE:Europe/Berlin
BEGIN:VTIMEZONE
TZID:Europe/Berlin
TZUNTIL:20250330T010000Z
BEGIN:STANDARD
TZNAME:CET
DTSTART:20221030T030000
TZOFFSETFROM:+0200
TZOFFSETTO:+0100
RDATE:20231029T030000
RDATE:20241027T030000
END:STANDARD
BEGIN:DAYLIGHT
TZNAME:CEST
DTSTART:20230326T020000
TZOFFSETFROM:+0100
TZOFFSETTO:+0200
RDATE:20240331T020000
END:DAYLIGHT
END:VTIMEZONE
BEGIN:VEVENT
UID:37313061-6161-4230-b266-633830356161
DTSTAMP:20260425T231944Z
CATEGORIES:Paddeln\, Rudern
CLASS:PUBLIC
DESCRIPTION;ALTREP="CID:<FFFF__=0ABBE548DFE235B58f9e8a93d@coffeebean.com>":
 Wasserumwälzung auf der Werra\nHallo liebe Apricus-Freunde\,\ndieses Jahr 
 verschlägt uns die jährliche Himmelfahrts-Paddeltour mal wieder auf einen 
 einst schon befahrenen und geschichtsträchtigen Flusslauf. Genauer gesagt 
 auf die Werra zwischen Meiningen und Sallmannshausen.\nWir&nbsp\;treffen&n
 bsp\;uns am&nbsp\;Mittwoch-Abend am Bootshaus&nbsp\;/ auf der Zeltwiese de
 s Meininger Kanusportverein e.V. in&nbsp\;Meiningen\, welcher direkt am be
 sagten Fluss liegt. Das Bootshaus&nbsp\;/ Zeltwiese ist fußläufig laut Rou
 tenplaner in 35 Minuten vom Bahnhof zu erreichen (siehe Karte)\, es soll a
 ber auch via Bus und Zug erreichbar sein..\nAm&nbsp\;Donnerstag-Morgen bek
 ommen wir unsere Boote geliefert und machen erstmal eine kleine Einweisung
  und geben praktische Hinweise zum Paddeln generell\, zum Steuern speziell
  und zur bevorstehenden Tour. Der Start wäre spätestens 11:00&nbsp\;Uhr un
 d führt uns auf einer „knackigen“ Etappe bis zum „Strandbad“ in&nbsp\;Brei
 tungen. Dort soll es soviel Luxus geben\, dass man die auf sich genommenen
  Strapazen gleich wieder vergisst. Neee\, Palmen gibt´s dort nicht\, aber 
 spezielle Tees nach denen die Sterne auch bei wolkenverhangenem Himmel zu 
 sehen sind.\nAm Freitag treibt uns die Werra durch Auen ins Land der weiße
 n Berge: von der Sole-Kurstadt Bad Salzungen am Krayenberg\, entlang durch
  das Südthüringer Kalirevier bei Tiefenort nach Dorndorf. Es stehen rechts
  die Hügel des Thüringer Waldes\, links die Kuppen der Vorderrhön. Im Baum
 korridor zwischen Bad Salzungen und Tiefenort zeigt sich\, wie naturnah un
 d baumreich die Werra an ihrem Mittellauf ist. In Dorndorf angekommen\, sc
 hlagen wir unser Lager am Umtrageplatz des dortigen Wehrs auf. Zumindest w
 äre das der Plan\, wenn das dortige Gemeindeamt uns die Zustimmung dazu er
 teilt. Mit ein wenig Glück\, bekommen wir auch eine Sanitäre Einrichtung z
 ugewiesen (Sportplatz in der Nähe). Alternativ gibt es eine Tankstelle 10 
 min Laufentfernung und für überaus dringende Notfälle den Spaten… Apropoa 
 Wehr: Da so ein von Menschenhand geschaffenes Ding nicht leise ist\, bring
 t euch bitte Ohropax mit. (Bitte entschuldigt\, doch auf dieser Etappe ist
  bezüglich Campings TOTE HOSE und wir brüten nach Lösungen).\nDer Samstag 
 führt uns über Vacha (Thüringen) in die Grenzregion zwischen Hessen und Th
 üringen\, nordwärts durch das größte produktive Kalirevier zwischen Philip
 psthal und Heringen. Über den „Hessen-Zipfel“ geht es wieder nach Thüringe
 n bei Dankmarshausen. Dabei passieren wir auch das ausgedehnte Naturschutz
 gebiet Rhäden. In Berka/Werra endet unsere Tagestour und ein angeblich wei
 terer luxuriöser Campingplatz ohne Goldarmaturen im Sanitärbereich erwarte
 t uns.\nAm Sonntag...\, ja da geht die Tour leider wieder dem Ende entgege
 n und man muss sich im Gedanken mit dem weichen Bett zuhause abfinden. Doc
 h so klanglos wollen wir nicht enden und so schippern wir noch ein wenig d
 urch das Westthüringer Grenzland zu Hessen\, das während der DDR-Zeit jahr
 zehntelang als Sperrgebiet&nbsp\;abgeriegelt&nbsp\;war. Wir passieren dabe
 i die Weite des Berkaer Beckens nördlich nach Gerstungen.&nbsp\;Bei Sallma
 nnshausen zwängt sich der&nbsp\;Fluss&nbsp\;durch eine&nbsp\;Talpforte an 
 den Ausläufern des Thüringer Waldes\, um dann im großen Bogen durch die&nb
 sp\;hügelige Landschaft des Thüringer-Wald-Vorlandes nach Osten abzudrehen
 . Dem aufmerksamen Leser ist nun aufgefallen\, in Sallmanshausen müssen wi
 r der Werra Adieu sagen und den Heimweg antreten. Doch beachtet: Die Boote
  müssen nicht nur entladen sondern auch grob durchgeputzt werden. Nehmt eu
 ch bitte diese Zeit!\nAnreise und Treffpunkt:\nMittwoch-Abend am:\n\n„Boot
 shaus / Zeltwiese“ des Meininger Kanusportverein e.V. in 98617 Meiningen.K
 oordinaten: 50.552454503038604\, 10.410613378912581!!! Nicht mit dem Haupt
 sitz am „Am Schelmengraben“ verwechseln!!!{zhosmmap-path:3}\n\n&nbsp\;Ausg
 ehend vom Drehkreuz Erfurt kommt man per Regionalzügen mit Direktverbindun
 gen nach Meiningen\nAbreise\n\nSonntag\, 21.05.\, ab ca. 14&nbsp\;/ 15:00&
 nbsp\;Uhr\nab Sallmannshausen bei Gerstungen\nBusse von dort aus nach Gers
 tungen und Eisenach und dann mit Zügen in die restliche Republik\n\nÜberna
 chtungen\n\nin eigenen Zelten mit Selbstverpflegung\nZeltgemeinschaften we
 rden geduldet\n\nEinkaufsmöglichkeiten\n\nDiese sind jedoch reichhaltig vo
 rhanden. Wir fahren schließlich nicht im Kongo\, Nil-Delta oder dergleiche
 n. Jedoch kann das als zukünftiger Tourenanreiz gesehen werden ? --&gt\; F
 reiwillige vor!!\n\nPreise\n\n* Bürgergeld-ALG-Empfänger: bitte Nachweis v
 orlegen** Die Preise für Kinder und Jugendliche bis 26 Jahre sind durch de
 n Verein gestützt/reduziert.\n  \n\n\n\n\n\nTN-Gruppe\nApricus\nGäste\n\n
 \n\n\nErwachsene\n\n125\n145\n\n\nBürgergeld-&nbsp\;/ ALG-Empfänger *\n\n1
 15\n135\n\n\nJugendliche bis 26 Jahre **\n\n100\n108\n\n\nKinder bis 14 Ja
 hre **\n\n85\n93\n\n\n\nWenn für Jemanden der Teilnehmerbeitrag zu hoch is
 t\, meldet euch bitte unbedingt bei uns. Wir haben einen Spendentopf einge
 richtet\, um bedürftige Personen oder Familien zu unterstützen.\nAnmeldesc
 hluss\n...ist der&nbsp\;07.&nbsp\;Mai\nAnzahl Teilnehmer:\nWir haben vorer
 st 10 Boote für jeweils 2-3 Personen bestellt&nbsp\;(ca. 23&nbsp\;Personen
 )&nbsp\;bestellt. Eventuell können noch 1-2 Boote nachgeordert werden\, da
 s ist aber nicht sicher.\nIm Preis enthalten sind:\n\ndie Bootsmiete incl.
  Transport der Boote\ndie Übernachtungskosten\n\nNicht enthalten sind:\n\n
 Kosten für Essen und Trinken\neventuelle Eintrittspreise für Besichtigunge
 n\nAn- und Abreisekosten\n\nMitzubringen:\n\nCamping-Utensilien: Zelt\, Sc
 hlafsack\, Matte\, ….\nKoch- und Ess-Utensilien\nGute Laune!\n\nAnmeldung
 \nBitte an Alexander Roth per E-Mail an: coolossi84@web.de&nbsp\;oder per 
 Telefon unter 016092225887 (o.g. Anmeldeschluss beachten).\nWie immer gilt
  die Anmeldung nur bei gleichzeitiger Einzahlung des Teilnehmerbeitrages a
 uf das{loadposition ap-kontodaten} notwendig..\nAuf eine großartige\, aben
 teuerliche Paddeltour\, auf dem einstigen Grenzfluss Werra und dessen schö
 ner Landschaft rechts und links sowie dahinter und vor einem selbst. Es fr
 euen sich auf Euch und auf entsprechend ansprechendes Wetter\, EureAlexand
 er und Thomas aus Jena.\nam Bootshaus / Zeltwiese des Meininger Kanusportv
 erein e.V. in&nbsp\;Meiningen\, welcher direkt am besagten Fluss liegt. Da
 s Bootshaus / Zeltwiese ist fußläufig laut Maps in 35 Minuten vom Bahnhof 
 zu erreichen (siehe Bildschirmabfotografie)\, es soll aber auch via Bus un
 d Zug erreichbar sein.
DTSTART:20230517T150000Z
DTEND:20230521T160000Z
GEO:00;0
LOCATION:
ORGANIZER:
SEQUENCE:1
SUMMARY:Himmelfahrtspaddeln auf der Werra
TRANSP:OPAQUE
URL:https://test.apricus-ev.de/component/icagenda/himmelfahrtspaddeln-auf-d
 er-werra?layout=vcal
END:VEVENT
END:VCALENDAR
