BEGIN:VCALENDAR
VERSION:2.0
PRODID:-//TEST Apricus e.V.//NONSGML kigkonsult.se iCalcreator 2.41.92//
CALSCALE:GREGORIAN
METHOD:PUBLISH
UID:66613436-3532-4036-b633-363365363734
X-WR-CALNAME:iCagenda
X-WR-CALDESC:Event Management Extension for Joomla!
X-WR-RELCALID:3E26604A-50F4-4449-8B3E-E4F4932D05B5
X-WR-TIMEZONE:Europe/Berlin
BEGIN:VTIMEZONE
TZID:Europe/Berlin
TZUNTIL:20240331T010000Z
BEGIN:STANDARD
TZNAME:CET
DTSTART:20211031T030000
TZOFFSETFROM:+0200
TZOFFSETTO:+0100
RDATE:20221030T030000
RDATE:20231029T030000
END:STANDARD
BEGIN:DAYLIGHT
TZNAME:CEST
DTSTART:20220327T020000
TZOFFSETFROM:+0100
TZOFFSETTO:+0200
RDATE:20230326T020000
END:DAYLIGHT
END:VTIMEZONE
BEGIN:VEVENT
UID:37383830-3361-4134-b832-616563303864
DTSTAMP:20260425T213430Z
CATEGORIES:Paddeln\, Rudern
CLASS:PUBLIC
DESCRIPTION;ALTREP="CID:<FFFF__=0ABBE548DFE235B58f9e8a93d@coffeebean.com>":
 Info vom 1.5.2022:Die vorgemeldeten 23 Plätze sind nun vergeben. Wir werde
 n versuchen\, weitere Boote nachzubestellen.\n\nHallo liebe Apricus-Freund
 e\,\ndieses Jahr verschlägt uns die jährliche Himmelfahrts-Paddeltour mal 
 wieder auf teilweise alt-bekannte Pfade - oder besser: in alt-bekannte Was
 ser\, nämlich auf die Saale zwischen Saalfeld und Camburg.\nWir treffen un
 s am Mittwoch-Abend auf dem „Strand 24“-Campingplatz in Saalfeld\, direkt 
 da\, wo die Lache in die Saale fließt. Der Platz ist fußläufig in 20 Minut
 en vom Bahnhof zu erreichen (s.u.).\nAm Donnerstag-Morgen bekommen wir uns
 ere Boote geliefert und machen erstmal eine kleine Einweisung und geben pr
 aktische Hinweise zum Paddeln generell\, zum Steuern speziell und zur bevo
 rstehenden Tour. Die Paddelei beginnt dann ca. 12:00&nbsp\;Uhr und führt u
 ns auf einer kurzen Etappe bis nach Rudolstadt.\nDie Saale ist in diesem B
 ereich noch recht flach und je nach Wasserstand kann es passieren\, dass w
 ir sogar mal kurz schieben müssen. In Rudolstadt angekommen haben wir genu
 g Zeit\, um einen Spaziergang zum Residenzschloss Heidecksburg und zum Sch
 illerhaus zu unternehmen.\nAm Freitag geht es weiter bis nach Großeutersdo
 rf\, wo wir auf einen Wasserwanderrastplatz campieren werden. Der Bürgerme
 ister ist so nett und öffnet uns dort die Toiletten und den Wasserzugang. 
 Wer an diesem Tag noch etwas einkaufen möchte\, kann das direkt im Ort mac
 hen\, wenn wir vor 17&nbsp\;Uhr da sind. Ansonsten steht ein netter Fußmar
 sch von 2km nach Kahla an.\nSamstag führt uns der Fluss nach Jena\, „Unter
  dem Jenzig“. Hier versuchen wir\, gemeinsam mit unseren teilnehmenden Ure
 inwohnern ein nettes Grillen hinzubekommen und - je nach Zeit - uns vor Or
 t etwas umzuschauen.\nDie Zieletappe am Sonntag führt uns nach Camburg\, w
 o wir mit allen\, die noch Zeit haben\, die Burg Camburg erklimmen und ans
 ehen werden.\nGenerell ist zu beachten\, dass die Saale mit zunehmender Di
 stanz immer voller und auch schneller wird und dass wir auf unserer Tour e
 inige Male umtragen müssen. Am Anfang kann sie dagegen etwas leerer sein u
 nd die Boote können auch mal aufsetzen. Evtl. müsste man auch mal ein paar
  Meter aussteigen und im Wasser schieben\, damit das Boot nicht zu sehr au
 fsetzt.\nAnreise und Treffpunkt:\n\nMittwochabend\, Campingplatz „Strand 2
 4“ in Saalfeld\nDie Adresse lautet: Am Weidig&nbsp\;3\nEs sind ca. 20&nbsp
 \;Minuten Fußweg vom Bahnhof Saalfeld:\n\n{zhosmmap-path:2}\nAbreise:\n\nS
 onntag\, 29.05.\, ab ca. 16:00&nbsp\;Uhr\n\nVon Camburg kommt man regelmäß
 ig nach Süden (Jena\, Saalfeld) und Norden (Naumburg\, Leipzig\, Halle) pe
 r Bahn zurück.\nÜbernachtungen:\n\nin eigenen Zelten mit Selbstverpflegung
 \n\nEinkaufsmöglichkeiten:\n\nMittwoch in Saalfeld\, Donnerstag/Feiertag s
 ind wir in Rudolstadt\, Freitag am ehesten in Kahla\, Samstag in Jena\n\nP
 reise:\n\n*) Nachweis beim Organisator vorlegen **) Die Preise für Kinder 
 und Jugendliche sind durch den Verein gestützt&nbsp\;/ reduziert\nHinweis:
  Weitere Förderungen für Kinder\, Jugendliche und Familien für die Tour bz
 w. die Anfahrt sind in Einzelfällen entsprechend unserer Finanzrichtlinie 
 möglich. Bitte bei der Anmeldung beantragen (formlos beim Organisator).\n 
  \n\n\n\n\n\nTN-Gruppe\nApricus\nGäste\n\n\n\n\nErwachsene\n\n125\n145\n\n
 \nErmäßigt / Hartz-IV-Empfänger *\n\n100\n120\n\n\nJugendliche bis 26 Jahr
 e **\n\n85\n93\n\n\nKinder bis 14 Jahre **\n\n75\n83\n\n\nmit eigenem Boot
 \n\n75\n95\n\n\n\nAnmeldeschluss ist der 07.&nbsp\;Mai\nAnzahl Teilnehmer:
 \nWir haben vorerst für 23&nbsp\;Personen bestellt. Eventuell können noch 
 1 - 2 Boote nachgeordert werden\, das ist aber nicht sicher.\nIm Preis ent
 halten sind:\n\ndie Bootsmiete incl. Transport der Boote\ndie Übernachtung
 skosten\n\nNicht enthalten sind:\n\nKosten für Essen und Trinken\neventuel
 le Eintrittspreise für Besichtigungen\nAn- und Abreisekosten\n\nMitzubring
 en:\n\nCamping-Utensilien: Zelt\, Schlafsack\, Matte\, ….\nKoch- und Ess-U
 tensilien\nGute Laune!\n\nAnmeldung\nBitte an Micha per E-Mail an:&nbsp\;m
 kraus70@yahoo.de oder per Telefon unter 0176-31330108 (o.g. Anmeldeschluss
  beachten).\nWie immer gilt die Anmeldung nur bei gleichzeitiger Einzahlun
 g des Teilnehmerbeitrages auf das {loadmoduleid 114}.\nAuf eine tolle\, ab
 enteuerliche Paddeltour\, auf die wunderschöne Saalelandschaft und auf Euc
 h freuen sich\,Helge und Micha
DTSTART:20220525T150000Z
DTEND:20220529T150000Z
GEO:00;0
LOCATION:Saale ab Saalfeld
ORGANIZER:
SEQUENCE:1
SUMMARY:Himmelfahrtspaddeln
TRANSP:OPAQUE
URL:https://test.apricus-ev.de/component/icagenda/himmelfahrtspaddeln?layou
 t=vcal
END:VEVENT
END:VCALENDAR
