BEGIN:VCALENDAR
VERSION:2.0
PRODID:-//TEST Apricus e.V.//NONSGML kigkonsult.se iCalcreator 2.41.92//
CALSCALE:GREGORIAN
METHOD:PUBLISH
UID:66306334-6639-4138-b735-336634313339
X-WR-CALNAME:iCagenda
X-WR-CALDESC:Event Management Extension for Joomla!
X-WR-RELCALID:3E26604A-50F4-4449-8B3E-E4F4932D05B5
X-WR-TIMEZONE:Europe/Berlin
BEGIN:VTIMEZONE
TZID:Europe/Berlin
TZUNTIL:20261025T010000Z
BEGIN:STANDARD
TZNAME:CET
DTSTART:20241027T030000
TZOFFSETFROM:+0200
TZOFFSETTO:+0100
RDATE:20251026T030000
END:STANDARD
BEGIN:DAYLIGHT
TZNAME:CEST
DTSTART:20240331T020000
TZOFFSETFROM:+0100
TZOFFSETTO:+0200
RDATE:20250330T020000
RDATE:20260329T020000
END:DAYLIGHT
END:VTIMEZONE
BEGIN:VEVENT
UID:39336136-3738-4037-b234-376464646135
DTSTAMP:20260425T232437Z
CATEGORIES:Wandern
CLASS:PUBLIC
DESCRIPTION;ALTREP="CID:<FFFF__=0ABBE548DFE235B58f9e8a93d@coffeebean.com>":
 Hallo liebe Apricusse (und Gäste)\,\ndas diesjährige Jahrestreffen wird im
  KieZ 'Querxenland' in Seifhennersdorf stattfinden. Der Unterkunft und Erl
 ebnisstätte haben wir schon einige Male auf unseren Touren oder zum Jahres
 treffen einen Besuch abgestattet und uns immer recht wohl in der waldreich
 en und geradezu mystischen Gegend gefühlt. Seifhennersdorf liegt am Rande 
 des Zittauer Gebirges\, unweit von Zittau\, an der tschechischen Grenze. D
 er tschechische Nachbarort heißt Varnsdorf und ist uns gut bekannt für sei
 ne Brauerei 'Pivovar Kocour' inklusive Erlebnisbahnhof.\nFreitag - Anreise
 :\nWer mit dem ÖPNV aus westlichen Richtungen anreist\, fährt über Dresden
  zum Bf. Neugersdorf und läuft ca. 250m zur Bushaltestelle 'Volksbank Neug
 ersdorf'. Dort fährt der Bus 30 in Richtung Grenze Rumburk/Seifhennersdorf
  bis zur Haltestelle 'Silberteich' in Seifhennersdorf. Von dort ist es noc
 h ca.&nbsp\;1km bis zum Querxenland.\nWer aus Richtung Berlin kommt (mit N
 ahverkehr)\, fährt besser über Cottbus und Zittau nach Seifhennersdorf. Vo
 m Bahnhof Seifhennersdorf kann man mit dem Bus 30 in Richtung Löbau bis zu
 r Haltestelle 'Silberteich' oder man läuft die restlichen\, rund 2\,5 km b
 is zum KieZ.\nBitte seid bis spätestens 18:00 Uhr zum Abendbrot da\, sonst
  wird es schwierig mit dem Hinkommen und dem Abendessen. Nach dem Essen un
 d dem Einrichten in den Zimmern blicken wir zurück auf das Apricus-Jahr 20
 24. Dazu werden wir mal wieder jede Menge Bilder an die Wand werfen und in
  Erinnerungen schwelgen. Wer Bilder des Jahres hat und uns teilhaben lasse
 n möchte\, der kann sie bitte per Stick\, Computer oder CD mitbringen oder
  irgendwo (Cloud) hinstellen\, wo Jens und/oder ich sie abrufen und dann a
 nzeigen können.\nSamstag:\nNach dem Frühstück wandern wir durch die herrli
 che\, hügelige Landschaft. Gegen Mittag landen wir dabei in Varnsdorf mit 
 dem Erlebnisbahnhof und der Brauerei\, wo wir einkehren werden. Auf andere
 n Pfaden geht es dann zurück.\nNach dem Abendessen im KieZ steht das bekan
 nte Programm an:\n\nZunächst prämieren wie die Helden des Apricus-Sportjah
 res. Mal sehen\, wen es dieses Jahr erwischt?\nDanach schmeißen wir wieder
  kräftig die Würfel um uns\, um herauszufinden\, welches Wichtel-Geschenk 
 für wen bestimmt ist. Denkt bitte alle dran\, ein kleines(!) Wichtel-Gesch
 enk für dieses traditionelle Gewürfel mitzubringen. Ihr müsst da nix neues
 /großes kaufen.\n\nSonntag:\nNach dem Frühstück und dem Zimmeraufräumen kö
 nnen wir noch eine kleinere Wanderung nach Neugersdorf unternehmen. Und we
 r möchte - oder bei wem es passt - kann von hier aus noch nach Zittau auf 
 den dortigen Weihnachtsmarkt fahren.\nPreise\n*) Bitte Nachweis vorlegen**
 ) Die Preise für Kinder und Jugendliche sind durch den Verein gestützt.  
 \n\n\n\n\n\nTN-Gruppe\nApricus\nGäste\n\n\n\n\nErwachsene\n\n107\n117\n\n
 \nBürgergeldempfänger/Studenten ab 27 Jahre *\n\n92\n102\n\n\nJugendliche 
 16-26 Jahre **\n\n77\n81\n\n\nKinder/Jugendliche 3-15 Jahre **\n\n57\n61\n
 \n\n\nGetreu unserem Motto „Natur gemeinsam aktiv erleben“ wollen wir jede
 m ermöglichen\, an unseren Veranstaltungen teilzunehmen. Daher gibt es bes
 onders für Kinder\, Jugendliche und Familien schon einige Fördermöglichkei
 ten\, beispielsweise für die Reisekosten oder Zuschüsse aus einem Spendent
 opf. Genaue Informationen erhaltet Ihr unter folgendem Link: Fördermöglich
 keiten bei Apricus-Veranstaltungen. Wenn für Jemanden der Teilnehmerbeitra
 g zu hoch ist\, meldet euch bitte unbedingt bei uns. \nIm Preis enthalten:
 \n\nÜbernachtung (incl.Bettwäsche)\nFrühstück und Abendbrot\n\nEs gibt die
  Möglichkeit ein kleines Handtuch zum Preis von 1&nbsp\;€ auszuleihen.\nMi
 tbringen:\n\nWichtelgeschenke\nFotos von diesjährigen Veranstaltungen\n\nA
 nmeldung\nBitte meldet Euch bis spätestens zum 03.11.24 bei Thomas Stark u
 nter der 0160 97061324 oder per Mail an troeglitz1966@aol.com an. Bitte ge
 bt bei der Anmeldung an\, wann Ihr kommt und ob Ihr vegetarisch oder glute
 nfreies etc. Essen wollt.\nWie immer gilt die Anmeldung nur bei gleichzeit
 ger Einzahlung des Teilnehmerbeitrags (s.o.) auf das {loadposition ap-kont
 odaten}\nAuf ein schönes – vielleicht ja winterliches (?)&nbsp\;– Wochenen
 de im herrlichen Querxenland freut sichDer Thomas
DTSTART:20241206T170000Z
DTEND:20241208T170000Z
GEO:00;0
LOCATION:
ORGANIZER:
SEQUENCE:1
SUMMARY:Jahrestreffen in Seifhennersdorf
TRANSP:OPAQUE
URL:https://test.apricus-ev.de/component/icagenda/jahrestreffen-seifhenners
 dorf?layout=vcal
END:VEVENT
END:VCALENDAR
