BEGIN:VCALENDAR
VERSION:2.0
PRODID:-//TEST Apricus e.V.//NONSGML kigkonsult.se iCalcreator 2.41.92//
CALSCALE:GREGORIAN
METHOD:PUBLISH
UID:65303332-6663-4439-b666-666235303933
X-WR-CALNAME:iCagenda
X-WR-CALDESC:Event Management Extension for Joomla!
X-WR-RELCALID:3E26604A-50F4-4449-8B3E-E4F4932D05B5
X-WR-TIMEZONE:Europe/Berlin
BEGIN:VTIMEZONE
TZID:Europe/Berlin
TZUNTIL:20231029T010000Z
BEGIN:STANDARD
TZNAME:CET
DTSTART:20211031T030000
TZOFFSETFROM:+0200
TZOFFSETTO:+0100
RDATE:20221030T030000
END:STANDARD
BEGIN:DAYLIGHT
TZNAME:CEST
DTSTART:20210328T020000
TZOFFSETFROM:+0100
TZOFFSETTO:+0200
RDATE:20220327T020000
RDATE:20230326T020000
END:DAYLIGHT
END:VTIMEZONE
BEGIN:VEVENT
UID:36343365-3335-4161-b835-346235623964
DTSTAMP:20260425T213430Z
CATEGORIES:Wandern
CLASS:PUBLIC
DESCRIPTION;ALTREP="CID:<FFFF__=0ABBE548DFE235B58f9e8a93d@coffeebean.com>":
 ...im Tagungshaus und Kinderherberge Baitz\nLiebe Apricüsse\,\nwir wollen 
 es mal wieder versuchen\, uns zum traditionellen Jahrestreffen zusammenzuf
 inden\, obwohl die (Corona-)Sterne tendenziell ungünstig stehen...\nDiesma
 l verschlägt es uns nach Baitz (mit Bahnhof!)\, es liegt recht zentral an 
 der Bahnstrecke zwischen Brück und Bad Belzig\, ist also sehr gut mit öffe
 ntlichen Verkehrsmitteln zu erreichen. Manchen bekannt ist es vielleicht a
 uch durch seine Lage am Südrand des Naturschutzgebietes Belziger Landschaf
 tswiesen&nbsp\;/ Übergang zum Hohen Fläming\, in dem mit etwas (oder viel)
  Glück die inzwischen sehr selten gewordenenen Großtrappen zu sehen sind. 
 Wir sind hier auch einmal zu einer Fläming-(Ski-)Wanderung nach Bad Belzig
  gestartet. Unser Haus ist aus einem alten märkischen Bauernhof entstanden
 \, der Anfang der 90er-Jahre umgebaut und saniert wurde.\nWir treffen uns 
 wie üblich am Freitagabend (03.12.21) zu gemütlicher Runde mit Erinnerunge
 n unserer - trotz diverser Einschränkungen - vielfältigen Touren und Erleb
 nissen aus diesem Jahr (also bitte Fotos etc. mitbringen!).\nAm Samstag\, 
 04.12.21\, geht's auf unserer Wanderung zuerst zur Naturschutzstation Bait
 z mit Informationen zum NSG\, weiter am Rande der Landschaftwiesen Richtun
 g Schwanebeck\, dann tauchen wir natürlich auch wieder in den Wald ein bev
 or es zur Springbachmühle bei Bad Belzig geht. Nach der Stärkung und Besic
 htigung des großräumigen Mühlengeländes mit einigen Vieh-chereien geht es 
 entweder im Bogen zurück nach Baitz (vielleicht vorzugsweise bei genügend 
 Schnee zum Skifahren)\, oder wir wandern noch weiter und gucken uns das we
 ihnachtliche\, immer wieder sehenswerte Bad Belzig an und nehmen dann den 
 Zug nach Baitz.\nDort lassen wir mit Abendbrot\, Auswertung des Jahreswett
 bewerbs\, dem beliebten Reste...-Julklapp und evtl. Betrachten von weitere
 n Apricus-Bildern den Abend ausklingen.\nAuf unserer insgesamt recht waldr
 eichen Sonntagstour geht es am Übergang vom Hohen Fläming in die Planenied
 erung am Fuchsberg vorbei zu einem Aussichtsturm mit weitem Blick über die
  Landschaftswiesen. Über die Räuberberge kommen wir nach Trebitz\; hier tr
 effen wir auf die Plane\, die die ganze Niederung bestimmt. Hoffentlich kö
 nnen wir uns hier im 'Hotel zur Linde' stärken\, bevor es dann über die Wü
 hlmühle und Neschholz wieder nach Baitz zurückgeht. Wer es eiliger hat\, k
 ann in Trebitz auch der Plane nach Brück folgen und hier in den Zug steige
 n.\nOrganisatorisches\nWichtig: Änderungen sind gerade wieder wegen aktuel
 ler Corona-Entwicklungen jederzeit möglich\, ebenso eventuelle Einschränku
 ngen für Nichtgeimpfte. ggf. Variante als Tagesgast!\nAnmeldungen\n...bitt
 e bis zum 22.11.2021 bei Andreas unter a.koch-coswig@t-online.de oder 0151
 -57534833 oder bei Frank\, vize-mitglieder@apricus-ev.de.\nMit der Anmeldu
 ng wird die Teilnehmereigenbeteiligung fällig\, die gleichzeitig auf das{l
 oadmoduleid 114} einzuzahlen ist.\nTeilnehmereigenbeteiligung\n*) Nachweis
  beim Organisator vorlegen **) Die Preise für Kinder und Jugendliche sind 
 durch den Verein gestützt / reduziert  \n\n\n\n\n\nTN-Gruppe\nApricus\nGäs
 te\n\n\n\n\nErwachsene\n\n55\n65\n\n\nHartz-IV-Empfänger *\n\n45\n55\n\n\n
 6- bis 26-Jährige / Studenten **\n\n45\n51\n\n\nKinder bis 5 Jahre *\n\n30
 \n40\n\n\n\nHinweis: Weitere Förderungen für Kinder\, Jugendliche und Fami
 lien für die Anfahrt sind entsprechend unserer Finanzrichtlinie möglich. B
 itte bei der Anmeldung beantragen (formlos beim Organisator).\nIm Preis en
 thalten sind: die Organisation\, die Unterkunft\, 2x Frühstück und Abendbr
 ot\, sowie die Eintrittspreise für Kulturpunkte unterwegs. Das Mittagessen
  ist nicht im Preis enthalten.\n\nVerpflegung: morgens und abends (HP) in 
 der Unterkunft\nÜbernachtung: in 3- bzw. 4-Bett-Zimmern\nBettzeug und Hand
 tücher sind mitzubringen. Im Notfall können sie für 7&nbsp\;€ aus&shy\;gel
 iehen werden.\nHausschuhe ebenfalls mitbringen!\n\nAnreise\nAdresse: Baitz
 er Bahnhofstraße 1\, 14822 Brück (vom Bhf. Baitz ca. 800m Richtung NNW)\n.
 ..mit der Bahn (empfohlen)\nEs fahren stündlich Züge nach Baitz\n\nab Berl
 in Hbf. Fahrzeit ca.&nbsp\;1h\, RE7\, Richtung Bad Belzig&nbsp\;/ Dessau\n
 ab Leipzig Hbf.\, Fahrzeit ca.&nbsp\;1¾h\, Umsteigen in Dessau bzw. Roßlau
  (RE13 / RE7)\n\n...mit dem Auto\n\nab Berlin Abf. Linthe\, dann Richtung 
 Brück\, links auf B246 bis Neschholz\, dann rechts nach Baitz\noder Abf. N
 iemegk Richtung Locktow\, Ziezow\, Neschholz\, hier kurz rechts auf B246\,
  dann links nach Baitz\n\nWir wünschen uns viele Teilnehmer und ein fröhli
 ches\, erlebnisreiches Jahrestreffen!Andreas (Tesi) und Frank
DTSTART:20211203T170000Z
DTEND:20211205T170000Z
GEO:00;0
LOCATION:
ORGANIZER:
SEQUENCE:1
SUMMARY:Jahrestreffen
TRANSP:OPAQUE
URL:https://test.apricus-ev.de/component/icagenda/jahrestreffen?layout=vcal
END:VEVENT
END:VCALENDAR
