BEGIN:VCALENDAR
VERSION:2.0
PRODID:-//TEST Apricus e.V.//NONSGML kigkonsult.se iCalcreator 2.41.92//
CALSCALE:GREGORIAN
METHOD:PUBLISH
UID:39313930-3239-4039-b865-646230316561
X-WR-CALNAME:iCagenda
X-WR-CALDESC:Event Management Extension for Joomla!
X-WR-RELCALID:3E26604A-50F4-4449-8B3E-E4F4932D05B5
X-WR-TIMEZONE:Europe/Berlin
BEGIN:VTIMEZONE
TZID:Europe/Berlin
TZUNTIL:20210328T010000Z
BEGIN:STANDARD
TZNAME:CET
DTSTART:20181028T030000
TZOFFSETFROM:+0200
TZOFFSETTO:+0100
RDATE:20191027T030000
RDATE:20201025T030000
END:STANDARD
BEGIN:DAYLIGHT
TZNAME:CEST
DTSTART:20190331T020000
TZOFFSETFROM:+0100
TZOFFSETTO:+0200
RDATE:20200329T020000
END:DAYLIGHT
END:VTIMEZONE
BEGIN:VEVENT
UID:34396438-3763-4539-b539-346334656462
DTSTAMP:20260425T221239Z
CATEGORIES:Treffen
CLASS:PUBLIC
DESCRIPTION;ALTREP="CID:<FFFF__=0ABBE548DFE235B58f9e8a93d@coffeebean.com>":
 Liebe aktive oder ehemalige Apricüsse oder die es mal werden wollen\,\nin 
 diesem Jahr wird unser Erlebnissportverband 40 Jahre alt (kaum zu glauben)
  und das müssen wir natürlich feiern. Dafür wollen wir uns am Wochenende v
 om 13.&nbsp\;bis 15.&nbsp\;September treffen und zwar dort\, wo alles ange
 fangen hat. Das Coswiger Flämingbad bietet uns für das Wochenende Obdach u
 nd lädt uns ein\, in Erinnerungen zu schwelgen\, vorwärts zu schauen und z
 u feiern.\n Hiermit laden wir alle aktiven und alle ehemaligen Mitglieder 
 oder Teilnehmer an Apricus-Veranstaltungen ein und gern auch solche\, die 
 das in Zukunft vorhaben. \nAm Freitagabend werden wir uns erstmal alle tre
 ffen\, die Bungalows beschlagnahmen und nach dem Abendessen – vielleicht a
 m Feuer oder am Wasser – über alte Zeiten sinnieren\, schauen\, wie es den
  anderen so ergangen ist und wen es denn so Neues unter den Apricüssen gib
 t.\nSamstag gehen wir – nach dem gemeinsamen Frühstück - unseren ureigenst
 en Anliegen nach und erobern die Natur (und Kultur) zu Fuß auf – für Apric
 us – historischen Pfaden. Am Abend wird es dann ein bisschen offiziell und
  wir feiern Jubiläum: nach dem Abendessen gibt es viel zu sehen. Dann könn
 en wir mit Bild und Ton auf viele wunderbare Jahre und Erlebnisse zurückbl
 icken. Große Bitte: Wer noch Fotos von vergangenen Touren oder Treffen bes
 itzt\, die nicht schon auf der Homepage stehen\, möge die uns bitte schick
 en\, damit wir sie hier mit einbauen können. Wem das Zurück-Schauen dann z
 u lang wird\, für den halten wir auch ein alternatives Abendprogramm berei
 t.\nSonntag können uns die „alten“ Coswiger gern nach dem Frühstück mal ze
 igen\, was sich bei Ihnen und in der Stadt so getan hat seit den Anfängen.
 \nWas\, wann genau stattfindet\, erfahrt Ihr noch zeitnah vor dem Wochenen
 de. Hier nur die wichtigsten Eckdaten:\n\nAnreise: Freitag 13.September ab
  17:00&nbsp\;Uhr zum Feriendorf am Flämingbad in Coswig (Anhalt)\, Ziekoer
  Landstraße 4\nÜbernachtung: In Bungalows\, ggf. zu Hause für die Einheimi
 schen\nVerpflegung: Freitag- und Samstagabend sowie Samstag- und Sonntagmo
 rgen für alle\, auch die Einheimischen\n\nPreise:\n  \n\n\n\n\n\nTN-Gruppe
 \nMit Übernachtung\nHeimschläfer\n\n\n\n\nErwachsene\n\n55\n20\n\n\nArbeit
 slose / Hartz-4-Empfänger\n\n45\n15\n\n\nJugendliche 14 bis 26 Jahre\n\n45
 \n15\n\n\nKinder 7 bis 14 Jahre\n\n35\n10\n\n\n\nDie Preise sind generell 
 vom Verein gestützt. In besonderen Fällen besteht die Möglichkeit einer zu
 sätzlichen Unterstützung beim Teilnehmerpreis oder bei den Anreisekosten. 
 Meldet euch dazu beim Vorstand bzw. dem Kontakt (s.u.).\nAnmeldeschluss: 2
 5.&nbsp\;August bei Micha Kraus per Mail an mkraus70&lt\;@&gt\;yahoo.de od
 er telefonisch unter der 0176 31330108 .\nWie immer gelten die Anmeldungen
  nur bei Einzahlung des Teilnehmerbeitrages auf das {loadposition ap-konto
 daten}\nFür weitere Informationen könnt ihr euch gerne auch bei den „alten
  und noch aktiven Hasen“ (Tesi\, Omo\, Frank\, Jörg) melden.\nAuf ein toll
 es Treffen und eine aktive Apricus-Zukunft freuen sich - Alle Apricüsse
DTSTART:20190913T150000Z
DTEND:20190915T150000Z
GEO:00;0
LOCATION:
ORGANIZER:
SEQUENCE:1
SUMMARY:Jubiläumswochenende '40 Jahre Apricus'
TRANSP:OPAQUE
URL:https://test.apricus-ev.de/component/icagenda/jubilaeumswochenende-40-j
 ahre-apricus?layout=vcal
END:VEVENT
END:VCALENDAR
