BEGIN:VCALENDAR
VERSION:2.0
PRODID:-//TEST Apricus e.V.//NONSGML kigkonsult.se iCalcreator 2.41.92//
CALSCALE:GREGORIAN
METHOD:PUBLISH
UID:31353431-3338-4430-a535-383330363333
X-WR-CALNAME:iCagenda
X-WR-CALDESC:Event Management Extension for Joomla!
X-WR-RELCALID:3E26604A-50F4-4449-8B3E-E4F4932D05B5
X-WR-TIMEZONE:Europe/Berlin
BEGIN:VTIMEZONE
TZID:Europe/Berlin
TZUNTIL:20250330T010000Z
BEGIN:STANDARD
TZNAME:CET
DTSTART:20221030T030000
TZOFFSETFROM:+0200
TZOFFSETTO:+0100
RDATE:20231029T030000
RDATE:20241027T030000
END:STANDARD
BEGIN:DAYLIGHT
TZNAME:CEST
DTSTART:20230326T020000
TZOFFSETFROM:+0100
TZOFFSETTO:+0200
RDATE:20240331T020000
END:DAYLIGHT
END:VTIMEZONE
BEGIN:VEVENT
UID:34663930-3030-4439-a364-653365353134
DTSTAMP:20260425T213426Z
CATEGORIES:Absage bzw. Verschiebung
CLASS:PUBLIC
DESCRIPTION;ALTREP="CID:<FFFF__=0ABBE548DFE235B58f9e8a93d@coffeebean.com>":
 Info von Torsten vom 2.&nbsp\;September:\nDie ursprünglich für das Wochene
 nde 8.&nbsp\;-10.&nbsp\;September vorgesehene Kletter- und Klettersteigtou
 r für Anfänger und Fortgeschrittene\, auch mit Boofen muss aus technischen
  Gründen für dieses Wochenende abgesagt werden. Denkbar wäre eine kurzfris
 tige Verschiebung auf einen Zeitraum zwischen 13. und 17.10.2023 (3 Tage u
 nd 2 Nächte\, hier sind Herbstferien in Sachsen-Anhalt). Voraussetzung wär
 e hier neben passendem Wetter aber vor allem mindestens 1 Erziehungsberech
 tigter für die an der Tour interessierten Jugendlichen und jemand\, der so
 wohl mich im Vorstieg sichern kann als auch unten kontrolliert\, dass jede
 r ordentlich eingebunden ist.\nDas 'Go' dafür fällt dann recht kurzfristig
 \, wenn die Bedingungen erfüllt sind. Interessenten können sich gern bei m
 ir melden\, dass ich die Interessen schon mal koordinieren kann. Programm 
 würde haargenau das sein\, was jetzt für das kommende Wochenende vorgesehe
 n war. Wer dabei sein will\, aber keine Lust auf Boofen hat\, kann sich da
 nn selbstständig um ein Quartier in Hinterhermsdorf bemühen.\nP.S.: Die an
 dere Kletter(steig)tour ist davon nicht betroffen und findet wie geplant i
 m September statt.\n\n\nIn diesem Herbst gibt es von Apricus zwei Veransta
 ltungen für Kleingruppen von Bergsportinteressierten statt\, bei beiden wi
 rd in einer Boofe übernachtet. Dies ist die Ausschreibung für die\, die im
  Sandsteinfelsen klettern und einen Klettersteig (keine Stiegen\, sondern 
 gesicherter Klettersteig) machen wollen\, für den spezielle Ausrüstung not
 wendig ist.\nTeilnahmeinteressierte sollten über eigenes Klettermaterial v
 erfügen oder sich solches im Vorfeld leihen. In geringem Maße kann auch de
 r Leiter\, Torsten Hammer\, Material gegen eine geringe Nutzungsgebühr ver
 leihen. Da dies sehr individuell unterschiedlich sein kann\, sind die Kost
 en dafür auch entsprechend einzeln zu behandeln. Die Kosten für gemeinsam 
 genutztes Material (Seile und Sicherheitsausrüstungen) werden nach der tat
 sächlichen Nutzung auf alle Beteiligten umgelegt\, ebenso wie Kosten für n
 otwendige Transfers und anfallende Parkgebühren. Es wird darauf geachtet\,
  diese so gering wie möglich zu halten\, d.h. wir sind nur mit minimal not
 wendigen Fahrzeugen unterwegs.\nDie Kosten für die Verpflegung trägt jeder
  selbst - bitte beachten\, dass ihr euch genug Lebensmittel besorgt und au
 ch ausreichend Wasser (zum Kochen\, Abwaschen und für die Körperpflege) da
 bei habt\, in der Boofe selbst bzw. in unmittelbarer Nähe gibt es keinerle
 i Wasserstelle. Offenes Feuer ist verboten\, ein kleiner abgeschlossener K
 ocher (z.B.) Trangia wird aber toleriert. Wer noch nie boofen war\, kann a
 uch gern eine Boofencheckliste anfordern\, in der alles Wichtige zum Thema
  Boofen steht. Wir übernachten in einer vom Nationalpark zum Zwecke der Au
 sübung des Klettersportes autorisierten Boofe\, für die Übernachtung entst
 ehen daher keinerlei Kosten. Wer komfortabler übernachten möchte\, muss se
 lbst tätig werden und sich in Hinterhermsdorf oder im oberen Kirnitzschtal
  ein Bett organisieren – aber derjenige zahlt nicht nur mehr\, er verpasst
  auch jede Menge Boofenromantik!\nParkplatz für die Anreise ist „Sturmbaue
 rs Eck“ zwischen der Buschmühle (Kirnitzschtal) und Hinterhermsdorf. Die b
 enutzte Boofe befindet sich im Goldbachtal (ca 15 Minuten zu Fuß bei anfan
 gs mäßiger Steigung)\, eine Anreiseskizze wird bei Anmeldung gereicht. Bit
 te auf eine Anreise zwischen 16 und 18 Uhr orientieren\, da wir vor dem Es
 sen noch eine Theorieeinheit zum Materialgebrauch und den nötigen Knoten m
 achen wollen und gegebenenfalls eine kleine Abseilübung stattfinden soll. 
 Wer das alles schon kann und kennt\, darf natürlich auch gern später anrei
 sen.\nAm Samstag werden wir nach Hinterhermsdorf fahren und dort zur Eisen
 spitze wandern. Hier handelt es sich um einen kleinen\, lohnenden Anfänger
 gipfel\, der auch leichte Wandklettereien bietet - im Gegensatz zu vielen 
 anderen Felsen\, bei denen die leichten Wege meist Kamine sind. Hier gibt 
 es mehrere Wege zwischen dem II. und dem V.&nbsp\;Grad\, der Alte Weg ist 
 dabei eine Sternchen II (lohnender Weg) und die Südwestkante ist sogar ein
 e Doppelsternchen III (sehr lohnender Weg). In der Nähe gäbe es auch noch 
 weitere Gipfel\, falls es uns nicht reicht\, in nur einem Gipfelbuch zu st
 ehen...\nAm Sonntag fahren wir ins Sebnitztal und machen den Sportkletters
 teig an den Ochelwänden\, bevor wir uns dann am Nachmittag wieder individu
 ell die Heimreise antreten. Der Klettersteig ist anfängergeeignet\, da er 
 nur mäßig schwer ist. Dabei handelt es sich um den einzigen echten Kletter
 steig in der gesamten Sächsischen Schweiz\, der im Gegensatz zu den Stiege
 n auch durchgängig mit einem Sicherungsseil versehen ist. Während man Stie
 gen auch zum anspruchsvolleren Wandern nimmt\, um von A nach B zu kommen\,
  hat der Klettersteig in den Ochelwänden nur den Sinn und Anspruch\, sich 
 selbst zu genügen.\nDa Klettern im Sandstein nur möglich ist\, wenn es nic
 ht regnet\, habe ich für eventuelles Regenwetter auch eine Alternative in 
 Petto\, wir machen dann eine Höhlenbefahrung inklusive Abseilen in der Böh
 mischen Schweiz alternativ zum Klettern am Fels quasi Klettern im Fels.\nO
 rganisatorisches\nDie Anzahl der möglichen aktiven Teilnehmer wird auf 5&n
 bsp\;bis 8 begrenzt\, je nach dem Erfahrungsstand der Teilnehmer. Von dahe
 r ist eine zeitige Anmeldung wichtig (mit Angabe der Klettererfahrungen\, 
 der bereits vorhandenen Ausrüstung\, der Größe zwischen XS und XL und der 
 Schuhgröße).\nDa keine größeren Kosten wie sonst z.B. bei Übernachtungen a
 nfallen\, wird die Veranstaltung als zusammenhängende Tagestouren durchgef
 ührt\, d.h. alle Unkosten sind vor Ort selbst zu tragen.\nMit der Anmeldeb
 estätigung wird für den Organisationsaufwand eine Pfandgebühr von 30€ älli
 g. Diese wird bei Erscheinen vor Ort zurückgegeben bzw. mit den entstehend
 en Gemeinkosten verrechnet. Bei Nichtteilnahme\, die der Veranstalter nich
 t zu verantworten hat\, dient diese Gebühr zur Kompensation der allgemeine
 n Unkosten\, um diese nicht bei den anderen Teilnehmern zusätzlich erhöhen
  zu müssen. Nichtmitglieder zahlen vor Ort 1€ pro Tag zusätzlich für die S
 portversicherung.\nDie&nbsp\; Pfandgebühr ist nach Abstimmung/Aufforderung
  direkt an Torsten Hammer zu überweisen (Kontodaten erhaltet ihr direkt vo
 n ihm). \nMinderjährige dürfen nur im Beisein eines Erziehungsberechtigten
  teilnehmen\, ganz gleich\, ob der Erziehungsberechtigte mitklettert oder 
 nur dabei ist (bitte bei der Anmeldung gesondert mit angeben).\nAnmeldunge
 n an Torsten Hammer\, thapricus@aol.com. Nachfragen und detaillierte Infor
 mationen und Absprachen auch per Telefon 034903-189761.\nZeitgleich findet
  eine Stiegenwanderung auch mit Boofenübernachtung im Schmilkaer Gebiet st
 att\, organisiert von Aziza Mustafa. Leider wird es keine gemeinsame Boofe
  geben aus Gründen der Anreisekompatibilität bzw. der unterschiedlichen Ra
 hmenbedingungen. Da allerdings die Zielgruppen unterschiedlich sind\, soll
 te es auch so passen\, dass zwei unterschiedliche Veranstaltungen dennoch 
 am selben Wochen konzertiert stattfinden.\nTorsten Hammer
DTSTART:20230908T160000Z
DTEND:20230910T160000Z
GEO:00;0
LOCATION:
ORGANIZER:
SEQUENCE:1
SUMMARY:Klettern in der Sächsischen Schweiz
TRANSP:OPAQUE
URL:https://test.apricus-ev.de/component/icagenda/klettern-in-der-saechsisc
 hen-schweiz?layout=vcal
END:VEVENT
END:VCALENDAR
