BEGIN:VCALENDAR
VERSION:2.0
PRODID:-//TEST Apricus e.V.//NONSGML kigkonsult.se iCalcreator 2.41.92//
CALSCALE:GREGORIAN
METHOD:PUBLISH
UID:62663932-3732-4165-a336-346561343566
X-WR-CALNAME:iCagenda
X-WR-CALDESC:Event Management Extension for Joomla!
X-WR-RELCALID:3E26604A-50F4-4449-8B3E-E4F4932D05B5
X-WR-TIMEZONE:Europe/Berlin
BEGIN:VTIMEZONE
TZID:Europe/Berlin
TZUNTIL:20241027T010000Z
BEGIN:STANDARD
TZNAME:CET
DTSTART:20221030T030000
TZOFFSETFROM:+0200
TZOFFSETTO:+0100
RDATE:20231029T030000
END:STANDARD
BEGIN:DAYLIGHT
TZNAME:CEST
DTSTART:20230326T020000
TZOFFSETFROM:+0100
TZOFFSETTO:+0200
RDATE:20240331T020000
END:DAYLIGHT
END:VTIMEZONE
BEGIN:VEVENT
UID:39313764-3332-4237-b939-366534343237
DTSTAMP:20260425T213430Z
CATEGORIES:Klettern
CLASS:PUBLIC
DESCRIPTION;ALTREP="CID:<FFFF__=0ABBE548DFE235B58f9e8a93d@coffeebean.com>":
 Die Schäferwand in Děčín ist ein ultimatives Paradies\, wenn man kennenler
 nen möchte\, ob man Gefallen am Klettersteigegehen finden kann\, aber auch
  ein super Training für jeden Klettersteig-Freak. Es gibt dort mittlerweil
 e 16 Routen von ganz einfach bis schwierig\, man hat verschiedene Kombinat
 ionsmöglichkeiten und kann sich entsprechend seinem Gusto austoben.\nDas K
 lettergebiet ist quasi direkt in der Stadt\, vielleicht eine Viertelstunde
  bis 20 Minuten Fußweg vom Hauptbahnhof weg (elbabwärts gehen\, ohne die E
 lbe zu überqueren) und in unmittelbarer Nähe gibt es auch kostenplose PKW-
 Parkplätze. In der Nachbarschaft gibt es mehrere Verleihstationen von Klet
 tersteig-Sets für diejenigen\, die kein eigenes Material haben. Vor dem Ei
 nstiegsplatz gibt es Picknickbänke\, nebenan gibt es auch Gaststätten und 
 sogar eine Pension. Die Nutzung der Klettersteige selbst ist kostenlos. Ei
 nen Steig hat man in 15 bis 20 Minuten gemacht\, danach muss man wieder hi
 nunterlaufen und kann sich dann den nächsten Steig vornehmen. Beste Beding
 ungen also.\nAufgrund der hervorragenden Bedingungen kann die Aktivität al
 s Tagestour ausgeschrieben werden. Wer Material benötigt\, leiht sich dies
 es auf eigene Kosten aus\, genauso gehen die Verpflegung und Kosten für ei
 ne eventuelle Unterkunft auf die eigene Kappe.\nIch selbst werde von Freit
 ag bis Sonntag in der Pension Vesna in Srbská Kamenice übernachten\, allei
 ne schon wegen des wunderbaren Essens und des freundlichen Empfanges dort.
  Dem einen oder anderen ist die Pension ja bereits vertraut\, man war dort
  schon vor Jahrzehnten gern\, inzwischen ist alles moderner und schöner. W
 er dort ebenso übernachten möchte\, für denjenigen kann ich vermitteln\, b
 uchen sollte er oder sie aber schon selbst.\nAm Samstag und am Sonntag wer
 de ich gegen 10:30&nbsp\;Uhr dann vor Ort sein. Ich führe gern Neulinge in
  die fachgerechte Nutzung des Materials ein und gebe Instruktionen zum ric
 htigen Klettersteiggehen. Ich selbst werde zunächst mit den einfachsten St
 eigen beginnen und das Niveau dann steigern. Je später jemand dazu kommt\,
  desto schwerer wird es also werden. Um 11:00&nbsp\;Uhr am Samstag werde i
 ch in den ersten Steig mit der anwesenden Truppe einsteigen. Wer später ko
 mmt\, beobachtet uns von unten und wartet bis wir wieder unten sein werden
 . Sind wir nicht zu sehen\, dann sind wir bereits auf dem Wanderweg nach u
 nten.\nOrganisatorisches\nNähere Auskünfte und Anmeldungen bei Torsten Ham
 mer unter thapricus@aol.com oder telefonisch unter 034903-189761 (auch AB 
 nutzen!).\nAnmeldung bis zum 29.03.2023 erbeten\, um den Überblick zu habe
 n\, wer kommen möchte. Bei der Anmeldung bitte auch angeben\, ob man berei
 ts Klettersteigerfahrung hat und bis zu welchem Schwierigkeitsgrad.\nGäste
  zahlen einen Nichtmitgliederbeitrag in Höhe von 1&nbsp\;€ pro Tag. Für Ap
 ricus-Mitglieder entstehen keine Teilnehmerkosten für die Aktivität an sic
 h. Alle Kosten für Verpflegung\, eventuelle Unterkunft und Materialleihe t
 rägt jeder Teilnehmer selbst.\nTorsten
DTSTART:20230401T073000Z
DTEND:20230402T160000Z
GEO:00;0
LOCATION:
ORGANIZER:
SEQUENCE:1
SUMMARY:Klettern/Klettersteige Děčín
TRANSP:OPAQUE
URL:https://test.apricus-ev.de/component/icagenda/klettern-klettersteige-de
 cin?layout=vcal
END:VEVENT
END:VCALENDAR
