BEGIN:VCALENDAR
VERSION:2.0
PRODID:-//TEST Apricus e.V.//NONSGML kigkonsult.se iCalcreator 2.41.92//
CALSCALE:GREGORIAN
METHOD:PUBLISH
UID:61616561-6434-4166-b262-313439666637
X-WR-CALNAME:iCagenda
X-WR-CALDESC:Event Management Extension for Joomla!
X-WR-RELCALID:3E26604A-50F4-4449-8B3E-E4F4932D05B5
X-WR-TIMEZONE:Europe/Berlin
BEGIN:VTIMEZONE
TZID:Europe/Berlin
TZUNTIL:20220327T010000Z
BEGIN:STANDARD
TZNAME:CET
DTSTART:20191027T030000
TZOFFSETFROM:+0200
TZOFFSETTO:+0100
RDATE:20201025T030000
RDATE:20211031T030000
END:STANDARD
BEGIN:DAYLIGHT
TZNAME:CEST
DTSTART:20200329T020000
TZOFFSETFROM:+0100
TZOFFSETTO:+0200
RDATE:20210328T020000
END:DAYLIGHT
END:VTIMEZONE
BEGIN:VEVENT
UID:34623934-3561-4761-b335-343433613562
DTSTAMP:20260425T221202Z
CATEGORIES:Klettern
CLASS:PUBLIC
DESCRIPTION;ALTREP="CID:<FFFF__=0ABBE548DFE235B58f9e8a93d@coffeebean.com>":
 Leider musste ich die Veranstaltung noch eine Woche nach hinten schieben\,
  um einen 2. fachkundigen Animateur dabei haben zu können.\nAm Freitag wär
 e die Anreise bis 20:00&nbsp\;Uhr zur legendären Rübezahlbaude in Waltersd
 orf – direkt an der tschechischen Grenze gelegen. Wer schon in den 90ern d
 abei war\, erinnert sich an den tollen Empfang durch Hannes Hüttel und sei
 n Team dort.\nWie auch in den letzten Jahren dort üblich\, dürfen wir wied
 er auf der Wiese zelten\, Pool und Außendusche nutzen und eventuell auch d
 ie Innendusche und den Innenpool\, wenn es das Wetter erfordern sollte.\nD
 as generöse Frühstücksbufett wird uns Kraft für den Tag geben und abends w
 erden wir in gewohnter Manier mit einem Dreigang-Menü plus einem Getränk v
 erwöhnt. Zwar ist der Preis etwas höher als noch vor ein paar Jahren beim 
 letzten Mal dort\, aber es ist nach wie vor für die gebotene Qualität ein 
 sehr gutes Angebot\, was Hannes Hüttel und sein Team machen\, erinnert er 
 sich doch genau wie wir an viele schöne gemeinsame Erlebnisse dort.\nAm So
 nnabend werden wir zum Alpinen Grat fahren\, d.h. eine Teilgruppe wird wan
 dern und eine mit Autos fahren\, so dass wir den Klettersteig in zwei Grup
 pen gehen werden\, wenn mehr als 5 Klettersteigneulinge diesen faszinieren
 den Abenteuersport ausprobieren wollen. Diejenigen\, die mit dem Auto gefa
 hren sind\, wandern dann in dem Falle zurück und umgekehrt. Da kann dann g
 leich das zu Pfingsten beim Orientierungskurs Erlernte gefestigt werden.\n
 Der Alpine Grat ist der einfachere der beiden Steige - was nicht heißt\, d
 ass es keinen Mut und keine Kraft erfordert\, diesen Weg sportlich zu durc
 hsteigen\, denn natürlich wollen wir versuchen\, uns so wenig wie möglich 
 am Sicherungsseil hochzuziehen. Von den etwa 100 Höhenmetern entfallen etw
 as mehr als 60 Höhenmeter auf den eigentlichen gesicherten Steig\, der mit
  AD bis AD+ (für kleinere Leute) (mäßig schwierig) eingeschätzt werden kan
 n. Es geht ziemlich direkt und ohne Gekrauche zum Teil vertikal nach oben\
 , allerdings gibt es etliche Pausenstellen zum Ausruhen.\nSonntag wandern 
 wir dann zum Nonnensteig nach Jonsdorf und gehen diesen auch wieder in zwe
 i Gruppen analog des Samstags hoch. Der Nonnensteig ist der ältere und spe
 ktakulärere der beiden Steige des Zittauer Gebirges. Auch hier gibt es zwi
 schendrin etliche Ausruhstücken und meist ist er nicht schwerer als der Al
 pine Grat\, dennoch gibt es ein paar kurze Stücken\, die schon ein D für s
 chwierig verdienen würden\, so eine ausgesetzte Querung für das Herz mit k
 urzem Reibungsausstieg\, einen kurzen\, aber knackigen Überhang\, ein paar
  kleine Psychostellen und oben eine kurze aber spannende Seilbrücke für de
 n\, der so was noch nie vorher gegangen ist.\nWer meint\, das wäre alles z
 u schwer\, dem sei gesagt\, dass hier auch 7- bis 9-jährige Kinder hoch ge
 hen\; wer kleiner als 1\,50 m ist\, der kann allerdings schon mal die Händ
 e aus den Taschen nehmen müssen. Alles in allem steht der Spaß und das Abe
 nteuer im Vordergrund und wer sich an die Anweisungen und Regeln hält und 
 die normale Apricus-Fitness hat\, der hat keinerlei Probleme mit den beide
 n Steigen.\nGebraucht wird ein Klettergurt mit Klettersteigset\, eine kurz
 e und eine längere Standschlinge (wenigstens die längere) und ein Helm. We
 r nicht über diese Ausrüstung verfügt\, der kann sich im Kletterwald Großs
 chönau die Ausrüstung leihen – 30€ für 2&nbsp\;Tage pro Set\, bitte bei de
 r Anmeldung den Bedarf und die Größe angeben (XS bis XXL)... - ich hole di
 e Ausrüstung dann für alle am Samstag vor dem Start ab. Die 30&nbsp\;€ müs
 sen bei der Anreise bei uns bar bezahlt werden und sind nicht im Teilnehme
 rbetrag einkalkuliert.\nFür das Zelten / Baden / Duschen denkt bitte auch 
 an eure Stirnlampen und Badesachen. Wer Vegetarier ist\, sollte das für di
 e Planung des Abendessens auch sagen. Normalerweise gibt es das jeweilige 
 Tagesmenü\, also für jeden dasselbe\, aber wie ich Hannes kenne\, wird nic
 ht das Preiswerteste auf den Tisch kommen... jeder\, der schon mal da war\
 , weiß das.\nAus Platzgründen sind Leute\, die nicht am Programm teilnehme
 n wollen\, nur im äußersten Ausnahmefall gern gesehen - wer teilnimmt\, so
 llte sich schon zumindest bereit zeigen\, die Herausforderungen anzunehmen
 . Wer mich und Yvonne kennt\, weiß\, dass wir uns auch besonders liebevoll
  um Ängstliche kümmern\, um ihnen ein Erfolgserlebnis zu verschaffen.\nDie
  Teilnehmerzahl bei Anfängern ohne Klettersteigerfahrung ist auf 8 bis 10 
 begrenzt\, d.h. 4 oder 5 pro Durchgang\, Leute mit Grundkenntnissen\, die 
 schon mal im Klettersteig waren\, können die Gesamtgruppe gern bereichern.
 \nIm Internet sind etliche Videos zu den Steigen zu finden\, etliches dabe
 i ist „dick aufgetragen“\, oft ist auch zu sehen\, wie man den Steig nicht
  machen sollte – sprich sich äffchenmäßig am Sicherungsseil hoch zu ziehen
 . Leider gibt es im Netz viele Videos\, die da schlechte Vorbilder sind. W
 er sich drauf einlässt\, der findet (fast) immer genug zum Stehen und Grei
 fen.\nDie Teilnehmerliste ist eröffnet\, wir freuen uns auf jede Anmeldung
  und auf ein tolles Wochenende.\nBerg Heil!Yvonne und Torsten\nPS: Die Pre
 ise bitte der entsprechenden Liste entnehmen und bei der Anmeldung genau a
 ngeben\, für wieviele Tage und ob Material gebraucht wird oder vorhanden i
 st.\nAnmeldungen und Nachfragen an Torsten Hammer\, Tel. 034903-189761\, t
 hapricus@aol.com oder über Facebook.\nDie Anmeldung wird gültig mit der Ei
 nzahlung des Teilnehmerbetrages auf das {loadmoduleid 114}.\n\nTeilnehmerg
 ebühr\n*) Die Preise für Kinder und Jugendliche sind durch den Verein gest
 ützt / reduziert.Kinder\, Jugendliche und Familien können einen Zuschuss z
 u den An- und Abreisekosten bei der Anmeldung beantragen (formlos beim Org
 anisator).  \n\n\nTeilnahme 2 Tage\nTeilnahme 3 Tage\n\nTN-Gruppe\nApricus
 \nGäste\nApricus\nGäste\n\n\n\n\nErwachsene\n\n80\n90\n105\n120\n\n\nHartz
 4-Empfänger / Arbeitslose\n\n65\n75\n90\n105\n\n\nKinder (8 - 18 Jahre)* /
  Azubi / Studenten\n\n55\n59\n75\n81\n\n\n\nIm Preis enthalten sind: die O
 rganisation und Animation\, die Übernachtung und die Verpflegung morgens u
 nd abends und die Fahrkosten im Rahmen des Programmes.
DTSTART:20200911T140000Z
DTEND:20200913T170000Z
GEO:00;0
LOCATION:Großschönau - Zittauer Gebirge
ORGANIZER:
SEQUENCE:1
SUMMARY:Verlängertes Klettersteigwochenende in Waltersdorf
TRANSP:OPAQUE
URL:https://test.apricus-ev.de/component/icagenda/klettern-klettersteige-im
 -zittauer-gebirge?layout=vcal
END:VEVENT
END:VCALENDAR
