BEGIN:VCALENDAR
VERSION:2.0
PRODID:-//TEST Apricus e.V.//NONSGML kigkonsult.se iCalcreator 2.41.92//
CALSCALE:GREGORIAN
METHOD:PUBLISH
UID:66323035-3363-4438-b735-313663663832
X-WR-CALNAME:iCagenda
X-WR-CALDESC:Event Management Extension for Joomla!
X-WR-RELCALID:3E26604A-50F4-4449-8B3E-E4F4932D05B5
X-WR-TIMEZONE:Europe/Berlin
BEGIN:VTIMEZONE
TZID:Europe/Berlin
TZUNTIL:20260329T010000Z
BEGIN:STANDARD
TZNAME:CET
DTSTART:20231029T030000
TZOFFSETFROM:+0200
TZOFFSETTO:+0100
RDATE:20241027T030000
RDATE:20251026T030000
END:STANDARD
BEGIN:DAYLIGHT
TZNAME:CEST
DTSTART:20240331T020000
TZOFFSETFROM:+0100
TZOFFSETTO:+0200
RDATE:20250330T020000
END:DAYLIGHT
END:VTIMEZONE
BEGIN:VEVENT
UID:63646530-3737-4365-b163-303232393862
DTSTAMP:20260425T213435Z
CATEGORIES:Klettern
CLASS:PUBLIC
DESCRIPTION;ALTREP="CID:<FFFF__=0ABBE548DFE235B58f9e8a93d@coffeebean.com>":
 Klettersteige gehen – ein Apricus-Erlebniswochenende\n\nDas Klettersteigwo
 chenende musste aus diversen personellen Gründen auf das kommende Wochenen
 de\, 7.6. bis 9.6.2024\, verlegt werden.\nIn Absprache mit den potentiell 
 Interessierten ist nun das Folgende geplant: Treffen am Freitagnachmittag 
 in&nbsp\;Děčín an den Klettersteigen\, wo diejenigen\, die kein eigenes Ma
 terial oder nur Teile davon haben\, sich auf eigene Kosten mit Leihmateria
 l ausstatten können. Direkt bei den dortigen Klettersteigen gibt es mehrer
 e professionelle Materialverleiher. Natürlich kann man sich sein Material 
 auch woanders leihen und direkt nach Waltersdorf anreisen\, aber die Leihe
  in&nbsp\;Děčín ist die potentiell preisgünstigste Möglichkeit und es hat 
 den Charme\, dass wir - gutes Wetter vorausgesetzt - dort auch schon mal w
 as Leichtes machen können am Freitagnachmittag.\nWer das ganze Wochenende 
 dabei sein will\, hat wie in früheren Veranstaltungen dieser Art die Mögli
 chkeit\, sein Zelt an der Rübezahlbaude in Waltersdorf aufzustellen – zu K
 onditionen\, die immer noch vergleichbar günstig sind\, auch wenn es natür
 lich inflationsbedingt auch hier teurer geworden ist. (Für die Halbpension
  wie früher üblich ist inzwischen mit etwa 30-35&nbsp\;€ pro Nacht zu rech
 nen\, dafür ist aber sowohl das Frühstück als auch das Abendessen qualitat
 iv und quantitativ hochwertig! Die dafür anfallenden Kosten trägt jeder se
 lbst.)\nDie eigentlichen Tage\, Freitag\, Samstag und Sonntag werden jewei
 ls lediglich als Tagesveranstaltung ausgeschrieben. Kosten für Verpflegung
 \, Fahrkosten und eventuell nötige Materialleihe trägt jeder in eigener Ve
 rantwortung selbst. Apricus-Mitglieder sind mit 3&nbsp\;€ pro Tag dabei\, 
 Apricus-Nichtmitglieder zahlen für die Versicherung jeweils 1&nbsp\;€ zusä
 tzlich. In den Kosten enthalten ist die Animation und Leitung der Touren. 
 Kinder und Jugendliche bis 18&nbsp\;Jahre benötigen entweder eine Einverst
 ändniserklärung eines Erziehungsberechtigten oder die Teilnahme/Anwesenhei
 t eines solchen.\nErster Treffpunkt am 8.6.2024 ist um 10:00&nbsp\;Uhr auf
  dem Wanderparkplatz oberhalb des Kelchsteines oberhalb von Oybin. Von hie
 r aus wandern wir in etwa 30&nbsp\;Minuten zum ersten Klettersteig\, dem „
 Alpinen Grat“. Nachdem wir diesen bezwungen haben\, wandern wir zurück zum
  Parkplatz und wechseln nach Jonsdorf. Hier werden wir am Nachmittag den „
 Nonnensteig“ machen. Wer nicht um 10:00&nbsp\;Uhr bereits vor Ort sei kann
 \, der kann sich auch nur für den 2.&nbsp\;Steig des Tages einklinken und 
 dazu direkt nach Jonsdorf kommen. Per Handykontakt sollten wir dann zueina
 nder finden\, denkbar ist als Treffpunkt die Eisdiele am Gondelteich in Jo
 nsdorf. Wir orientieren auf 14:00&nbsp\;Uhr bis 14:30&nbsp\;Uhr als Start 
 ab dort.\nOffizieller Treffpunkt am Sonntag ist die Ochelbaude an den Oche
 lwänden im Sebnitztal in der Sächsischen Schweiz. Wer in Waltersdorf mit ü
 bernachtet\, der wird nach dem Frühstück dort und dem Abbau des Zeltes übe
 r den kurzen Weg von Großschönau und Krasna Lipa nach Sebnitz fahren und v
 on dort über Hohnstein den dortigen Klettersteig avisieren. Wir orientiere
 n auf einen Start um 11:30&nbsp\;Uhr spätestens ab der Ochelbaude. Für die
 sen Klettersteig ist ein kleiner Eintrittsobolus direkt am Steig auf eigen
 e Kosten zu zahlen. Es handelt sich hier um den einzigen wirklichen Klette
 rsteig der Sächsischen Schweiz\, der nicht aus einer Stiege hervorgegangen
  ist. Er ist kurz und recht einfach\, es gibt zwei machbare Varianten. Man
  sollte hier jeweils 20&nbsp\;Minuten Steigzeit und 10 Minuten&nbsp\;Absti
 eg rechnen\; 50&nbsp\;Höhenmeter sind hier zu überwinden.\nIm Anschluss wü
 rden wir nach&nbsp\;Děčín fahren\, wo das geliehene Material zurückgegeben
  werden muss und wir würden dann - fakultativ natürlich - noch in eine Böh
 mische Gaststätte zum Mittagessen einkehren. Selbstverständlich kann man a
 uch direkt nach dem Steig an den Ochelwänden zurückfahren\, wenn man keine
  Verpflichtungen zur Materialrückgabe hat oder das jemand anderes mit über
 nimmt.\nAnmeldung\nWer noch Interesse an der Teilnahme hat\, der melde sic
 h bitte umgehend bei Torsten Hammer\, thapricus@aol.com bzw. telefonisch u
 nter 034903-189761 (auch den AB nutzen)\, um die weiteren Details abzuspre
 chen.\nBei neuen Interessenten kann die Teilnahme gegen eine Kaution verei
 nbart werden\, die am Start zurückerstattet bzw. gegen die diversen Kosten
  verrechnet wird. Da sich das Angebot auch an Anfänger richtet\, muss gesa
 gt werden\, dass die Plätze insgesamt begrenzt sind. Die Zahl der Plätze r
 ichtet sich dabei nach dem Verhältnis von Anfängern zu Fortgeschrittenen m
 it entsprechenden Grundkenntnissen.\nTorsten
DTSTART:20240607T130000Z
DTEND:20240609T160000Z
GEO:00;0
LOCATION:
ORGANIZER:
SEQUENCE:1
SUMMARY:Klettersteig-Wochenende
TRANSP:OPAQUE
URL:https://test.apricus-ev.de/component/icagenda/klettersteig-wochenende?l
 ayout=vcal
END:VEVENT
END:VCALENDAR
