BEGIN:VCALENDAR
VERSION:2.0
PRODID:-//TEST Apricus e.V.//NONSGML kigkonsult.se iCalcreator 2.41.92//
CALSCALE:GREGORIAN
METHOD:PUBLISH
UID:39616135-6335-4234-b236-366664396463
X-WR-CALNAME:iCagenda
X-WR-CALDESC:Event Management Extension for Joomla!
X-WR-RELCALID:3E26604A-50F4-4449-8B3E-E4F4932D05B5
X-WR-TIMEZONE:Europe/Berlin
BEGIN:VTIMEZONE
TZID:Europe/Berlin
TZUNTIL:20271031T010000Z
BEGIN:STANDARD
TZNAME:CET
DTSTART:20241027T030000
TZOFFSETFROM:+0200
TZOFFSETTO:+0100
RDATE:20251026T030000
RDATE:20261025T030000
END:STANDARD
BEGIN:DAYLIGHT
TZNAME:CEST
DTSTART:20250330T020000
TZOFFSETFROM:+0100
TZOFFSETTO:+0200
RDATE:20260329T020000
RDATE:20270328T020000
END:DAYLIGHT
END:VTIMEZONE
BEGIN:VEVENT
UID:65623138-3936-4339-b133-663964643136
DTSTAMP:20260425T215229Z
CATEGORIES:Radfahren
CLASS:PUBLIC
DESCRIPTION;ALTREP="CID:<FFFF__=0ABBE548DFE235B58f9e8a93d@coffeebean.com>":
 Wichtige Informationen vom 14.10.2025:\nDer bisher veröffentlichte Plan mu
 sste hier und da noch angepasst und verfeinert werden - Andreas hat dazu e
 ine PDF-Datei mit den aktuellen Informationen zusammengestellt. Wegen der 
 Kürze der Zeit habe ich mich entschieden\, hier einfach die Datei zur Verf
 ügung zu stellen. Diese könnt Ihr unter folgendem Link herunterladen:\n\n2
 025-10_linum-infos.pdf.\n\nBesonders wichtige Punkte möchte ich schon einm
 al herausheben:\n\nEs gibt noch ein Doppelzimmer in der Pension für Kurzen
 tschlossene - btte bei Andreas P. melden (s.u.).\nTagesgäste (Sa./So.) sin
 d herzlich willkommen. Gäste zahlen dann 1€ pro Tag für die Sportversicher
 ung.\nAnfahrt per Zug funktioniert derzeit nicht über Nauen wegen Bauarbei
 ten!\nInformationen zu Essen\,&nbsp\;Trinken und Unterkünften\nweitere Inf
 os zu den geplanten Touren und zur Kranichbeobachtung\n\n\n\nWer einen Kra
 nich sieht\, hat Glück. Wer einen Kranich tanzen sieht\, hat doppelt Glück
 .(Sibirisches Sprichwort)\n\nLiebe Apricusse und Gäste\,\nder Herbstzug de
 r Kraniche ist ein besonderes Naturschauspiel. Der Kranichrastplatz Linum 
 im Rhinluch ist einer der größten in Europa. In den letzten Jahren wurden 
 in der 3. Oktoberwoche zwischen 70/80.000 Kraniche gezählt. Am Wochenende 
 17.&nbsp\;Oktober bis 19.&nbsp\;Oktober folgen wir dem Ruf des Kranichs im
  Natur- und Vogelschutzgebiet Linum:\nFreitag 17.10.2025\nIndividuelle Anr
 eise der Teilnehmer. Da sich noch Änderungen zum bisher veröffentlichten e
 rgeben haben\, orientiert Ihr Euch am besten an den Informationen im oben 
 verlinkten PDF mit den aktuellen Informationen.\n\nBahnhof Kremmen: 12 Fah
 rradkilometer bis Linum (kein Radweg\, asphaltierte Straße)\nBahnhof Nauen
  nach Linum ist der schönere Weg durch die Natur 21\,1 km&nbsp\;→ derzeit 
 nicht möglich wegen Bauarbeiten\nweitere Möglichkeiten\, s. PDF mit den ak
 tuellen Informationen\n\nSamstag 18.10.2025\, 10:00 Uhr\nWir treffen in Li
 num Frau Dr. Kristina Hühn. Frau Dr. Hühn hat am Kranichrastplatz Rhinluch
  promoviert und kennt sich bestens mit den Kranichen\, ihren Verhaltenswei
 sen und den Gegebenheiten vor Ort aus. Bei ihrer Führung zu den Nahrungsfl
 ächen gibt es nach einer anschaulichen Einführung in Linum die Gelegenheit
 \, Kraniche auf den Feldern zu beobachten. Ferngläser und Spektive können 
 ausgeliehen werden. Exklusivtour für unsere Apricus Gruppe (Dauer ca 3\,0 
 Stunden).\nAnschließend fahren wir mit den Rädern in das Kremmener Scheune
 nviertel\, wo immer am 3.&nbsp\;Oktoberwochenende das traditionelle Kürbis
 fest stattfindet. Am Abend werden wir vor dem geselligen Beisammensein die
  Kranichzüge beobachten\, die in der Abenddämmerung ca. gegen 17 Uhr begin
 nen.\nSonntag 19.10.2025\nAlle Freunde des gepflegten Frühaufstehens treff
 en sich 7:30&nbsp\;Uhr im NABU Naturschutzzentrum Storchenschmiede in Linu
 m. Geführter 1\,5-stündiger Spaziergang beim morgendlichen Ausflug der Vög
 el\, gespickt mit Wissen und Anekdoten über die Glücksvögel. (Ferngläser k
 önnen ausgeliehen werden).\nNach dem Frühstück schwingen wir uns auf unser
 e Drahtesel zu einer abschließenden kleinen Radrunde von Linum\, vorbei an
  der Siegessäule von der Schlacht bei Fehrbellin nach Wustrau und zum Fisc
 her Pfefferkorn in Alt-Friesack wo wir uns bei einem Blick über den kleine
 n See mit leckeren Aalbrötchen stärken. (ca. 20 km).\nBitte dringend nachf
 olgende Hinweise beachten:\nEine Anmeldung für diese Tour ist zwingend erf
 orderlich - von September bis Anfang November ist in Linum Hochsaison. Wir
  müssen in allen Gaststätten Plätze reservieren.\nBitte für die Pensionspl
 ätze melden bis 28. Juli 2025\,für Zeltübernachtung bis 17.&nbsp\;August 2
 025.\nAnmeldungen bei: andreas.protze@yahoo.de oder T: 0157-34043847 . Die
  Anmeldung ist wie immer nur gültig bei gleichzeitiger Einzahlung des Teil
 nehmerbeitrags (s.u.) auf das {loadposition ap-kontodaten}\nUnterkünfte\n(
 Die allermeisten Unterkünfte sind bereits ausgebucht - leider gibt es kein
 e JH\, die nächstgelegene JH ist 52 km entfernt in Wandlitz.)\nPensionen:
 \nBis 28.07.2025 habe ich 6 Doppelzimmer in der Landpension Adebar direkt 
 in Linum geblockt.Adresse: Nauener Straße 25\, 16833 Linum\nZelten in Linu
 m/Fehrbellin\nCampen ist ohne Reservierung möglich (unweit der Pension)\, 
 WC und Dusche inklusive. Hofladen geöffnetAngeln und baden darf man hier n
 icht mehr\, Natur- und Vogelschutzgebiet.\nTeilnehmerbeitrag\n*) Bitte Nac
 hweis vorlegen.  \n\n\nPension\nZelt\n\nTN-Gruppe\nApricus\nGäste\nApricus
 \nGäste\n\n\n\n\nErwachsene\n\n171\n181\n40\n50\n\n\nErmäßigte (Bürgergeld
 empfänger / Jugendliche etc.) *\n\n151\n161\n30\n40\n\n\n\nDie Preise enth
 alten...\n\nfür die Variante 'Pension': 2 Übernachtungen mit Frühstück\, F
 ührung am Sonnabend\nfür die Variante 'Zelt': 2 Übernachtungen ohne Frühst
 ück\, Führung am Sonnabend\n\nAlles weitere (Verpflegung\, Teilnahme an de
 r Sonntags-Führung etc.) ist nicht enthalten.\nGetreu unserem Motto „Natur
  gemeinsam aktiv erleben“ wollen wir jedem ermöglichen\, an unseren Verans
 taltungen teilzunehmen. Daher gibt es besonders für Kinder\, Jugendliche u
 nd Familien schon einige Fördermöglichkeiten\, beispielsweise für die Reis
 ekosten oder Zuschüsse aus einem Spendentopf.Genaue Informationen erhaltet
  Ihr unter folgendem Link: Fördermöglichkeiten bei Apricus-Veranstaltungen
 . Wenn für Jemanden der Teilnehmerbeitrag zu hoch ist\, meldet euch bitte 
 unbedingt bei uns\nAuf eine interessante Tour zu den Kranichen freuen sich
 Andreas\, Marianne und Frank
DTSTART:20251017T140000Z
DTEND:20251019T160000Z
GEO:00;0
LOCATION:
ORGANIZER:
SEQUENCE:1
SUMMARY:Kranichtour nach Linum
TRANSP:OPAQUE
URL:https://test.apricus-ev.de/component/icagenda/kranichtour-nach-linum?la
 yout=vcal
END:VEVENT
END:VCALENDAR
