BEGIN:VCALENDAR
VERSION:2.0
PRODID:-//TEST Apricus e.V.//NONSGML kigkonsult.se iCalcreator 2.41.92//
CALSCALE:GREGORIAN
METHOD:PUBLISH
UID:37636666-3161-4137-b539-636262366330
X-WR-CALNAME:iCagenda
X-WR-CALDESC:Event Management Extension for Joomla!
X-WR-RELCALID:3E26604A-50F4-4449-8B3E-E4F4932D05B5
X-WR-TIMEZONE:Europe/Berlin
BEGIN:VTIMEZONE
TZID:Europe/Berlin
TZUNTIL:20260329T010000Z
BEGIN:STANDARD
TZNAME:CET
DTSTART:20231029T030000
TZOFFSETFROM:+0200
TZOFFSETTO:+0100
RDATE:20241027T030000
RDATE:20251026T030000
END:STANDARD
BEGIN:DAYLIGHT
TZNAME:CEST
DTSTART:20240331T020000
TZOFFSETFROM:+0100
TZOFFSETTO:+0200
RDATE:20250330T020000
END:DAYLIGHT
END:VTIMEZONE
BEGIN:VEVENT
UID:30613931-3539-4330-b163-303331313634
DTSTAMP:20260425T214125Z
CATEGORIES:Paddeln\, Rudern
CLASS:PUBLIC
DESCRIPTION;ALTREP="CID:<FFFF__=0ABBE548DFE235B58f9e8a93d@coffeebean.com>":
 Nach der grandiosen Premiere im letzten Jahr wollen wir uns auch 2024 am B
 ernburger Kutterrudern beteiligen. Bei dieser Sportart wird ein Holzboot m
 it etwa 1t Eigengewicht von 10 begeisterten Ruderinnen und Ruderern über e
 ine Strecke von 750m bewegt. Dabei kommt es nicht nur auf Ausdauer\, sonde
 rn vor allem auf Teamfähigkeit und Koordination an.\nDer Bernburger Mariti
 me Club veranstaltet seit 25 Jahren auf der Saale den Bernburger Kutterrud
 erpokal\, eine der bundesweit größten Veranstaltung dieses Sports. Nebenhe
 r ist das Ganze eine große Party. Wer sich einen Eindruck vom Bernburger K
 utterruderpokal 2023 holen will\, schaue sich diese Videos an:\n\nhttps://
 www.apricus-ev.de/eindruecke/2023/kutterrudern-auf-der-saale\nhttps://yout
 u.be/_8ycILHJrHI?feature=shared\n\nWir konnten bei unserer ersten Teilnahm
 e immerhin die Rosa Laterne der Mixed-Wertung gewinnen (die bekommt man fü
 r den vorletzten Platz). Die wollen wir diesmal natürlich verteidigen. Die
  Ankündigung der Veranstaltung selbst findet Ihr hier: https://bernburger-
 maritimer-club.jimdofree.com/ausschreibung-kutterrudern-24/.\nEs ist ausdr
 ücklich erwünscht\, dass Neulinge (wie wir) sich bei jener Veranstaltung m
 al in diesem Sport ausprobieren. Dafür wird uns vom Veranstalter ein Kutte
 r zur Verfügung gestellt und beigebracht\, wie das Ganze funktioniert. Wir
  treffen uns am Vorabend (Freitag) auf dem benachbarten Zeltplatz. Da werd
 en wir auch die Gelegenheit zum Üben bekommen. Lagerfeuer und/oder Grill w
 erden wir vermutlich auch wieder haben Am Samstag sind dann die Rennen.\nA
 nmeldung:\n\nbei gleichzeitiger Einzahlung des Teilnahmebeitrags (s.u.) au
 f das {loadposition ap-kontodaten}\nbis spätestens 22.&nbsp\;Mai 2024 bei 
 Osama Mustafa (eMail: com@uni-jena.de bzw. 01577/8306406).\nEine Mannschaf
 t besteht aus 10 Personen.\n\nTeilnehmer-Beiträge:\n  \n\n\n\n\n\nTN-Grupp
 e\nApricus\nGäste\n\n\n\n\nKinder (6 - 13 Jahre)\n\n2\n6\n\n\nErmäßigte (S
 chüler\, Azubis\, Studenten\, ALG II-Empfänger)\n\n4\n8\n\n\nErwachsene\n
 \n5\n9\n\n\n\nDer Teilnehmerbeitrag wird für die Startgebühr der Mannschaf
 t verwendet. Für alle anderen Kosten (Verpflegung\, Unterkunft) kommt der 
 Teilnehmer selbst auf.\nEs sind Zeltplätze auf dem benachbarten Gelände de
 s MBSV Wasserwandern Bernburg e. V. (https://wasserwandern-bernburg.de/cam
 pingplatz/) reserviert:\n\nZelt: 6€\nErwachsener: 5\,50€\nKind (4-16 Jahre
 ) / Schüler / Student: 3€\n\nEs gibt in begrenztem Umfang auch Gästezimmer
  oder einen Platz auf dem Dachboden. Die Anmeldung der Übernachtungen bitt
 e bei mir (s.o.)\, ich teile das dann den Verwaltern des Zeltplatzes mit. 
 Bei Bedarf kann ich auch Zelt- oder Kochgemeinschaften vermitteln. Für Ver
 pflegung ist jeder selbst verantwortlich. Auf der Veranstaltung gibt es je
 doch genügend Möglichkeiten\, Hunger und Durst zu stillen.\nEs wäre toll\,
  wenn wir wieder eine gut gelaunte Mannschaft zusammenbekommen!Osama
DTSTART:20240608T080000Z
DTEND:20240609T150000Z
GEO:00;0
LOCATION:
ORGANIZER:
SEQUENCE:1
SUMMARY:Kutterrudern in Bernburg
TRANSP:OPAQUE
URL:https://test.apricus-ev.de/component/icagenda/kutterrudern-in-bernburg-
 3?layout=vcal
END:VEVENT
END:VCALENDAR
