BEGIN:VCALENDAR
VERSION:2.0
PRODID:-//TEST Apricus e.V.//NONSGML kigkonsult.se iCalcreator 2.41.92//
CALSCALE:GREGORIAN
METHOD:PUBLISH
UID:36343238-3439-4634-a333-333230383430
X-WR-CALNAME:iCagenda
X-WR-CALDESC:Event Management Extension for Joomla!
X-WR-RELCALID:3E26604A-50F4-4449-8B3E-E4F4932D05B5
X-WR-TIMEZONE:Europe/Berlin
BEGIN:VTIMEZONE
TZID:Europe/Berlin
TZUNTIL:20270328T010000Z
BEGIN:STANDARD
TZNAME:CET
DTSTART:20241027T030000
TZOFFSETFROM:+0200
TZOFFSETTO:+0100
RDATE:20251026T030000
RDATE:20261025T030000
END:STANDARD
BEGIN:DAYLIGHT
TZNAME:CEST
DTSTART:20250330T020000
TZOFFSETFROM:+0100
TZOFFSETTO:+0200
RDATE:20260329T020000
END:DAYLIGHT
END:VTIMEZONE
BEGIN:VEVENT
UID:65633563-3864-4630-b730-613938306261
DTSTAMP:20260425T214125Z
CATEGORIES:Paddeln\, Rudern
CLASS:PUBLIC
DESCRIPTION;ALTREP="CID:<FFFF__=0ABBE548DFE235B58f9e8a93d@coffeebean.com>":
 Nach der grandiosen Premiere 2023 und der Steigerung 2024 wollen wir uns a
 uch 2025 am Bernburger Kutterrudern beteiligen.\nBei dieser Sportart wird 
 ein Holzboot mit etwa 1t Eigengewicht von 10 begeisterten Ruderinnen und R
 uderern über eine Strecke von 750m bewegt. Dabei kommt es nicht nur auf Au
 sdauer\, sondern vor allem auf Teamfähigkeit und Koordination an. Der Bern
 burger Maritime Club veranstaltet seit 25 Jahren auf der Saale den Bernbur
 ger Kutterruderpokal\, eine der bundesweit größten Veranstaltungen dieses 
 Sports. Nebenher ist das ganze eine große Party.\nWer sich einen Eindruck 
 vom Bernburger Kutterruderpokal 2024 holen will\, schaue sich dieses Video
  an: https://www.youtube.com/watch?v=bNShtklaYjY\nWir konnten bei unserer 
 ersten Teilnahme immerhin die Rosa Laterne der Mixed-Wertung gewinnen (die
  bekommt man für den vorletzten Platz). Bei der Teilnahme 2024 steigerten 
 wir uns auf den 5. von 8 Plätzen. Diese Erfolgsserie wollen wir diesmal na
 türlich fortsetzen.\nEs ist ausdrücklich erwünscht\, dass Neulinge in dies
 em Sport (wie wir) sich bei dieser Veranstaltung einfach mal darin ausprob
 ieren. Dafür wird uns vom Veranstalter ein Kutter zur Verfügung gestellt u
 nd beigebracht\, wie das ganze funktioniert.\nWir treffen uns am Vorabend 
 (Freitag) auf dem benachbarten Zeltplatz. Da werden wir ab etwa 18&nbsp\;U
 hr auch die Gelegenheit zum Üben bekommen. Lagerfeuer und/oder Grill werde
 n wir vermutlich auch wieder haben. Am Samstag sind dann die Rennen.\nAnme
 ldung:\nBei gleichzeitiger Einzahlung des Teilnahmebeitrags (s.u.) auf das
  {loadposition ap-kontodaten} bis spätestens 2.&nbsp\;Juni 2025 bei Osama 
 Mustafa (eMail: com@uni-jena.de bzw. 01577/8306406).\nEine Mannschaft best
 eht aus 10 Personen und 2 Ersatzleuten. Weitere Ersatzleute\, Teambetreuer
 \, Zuschauer und Fans sind gern gesehen. Wenn sich genügend Leute finden\,
  können wir auch ein zweites Boot anmelden.\nTeilnehmer-Beiträge\n  \n\n\n
 \n\n\nTN-Gruppe\nApricus\nGäste\n\n\n\n\nErwachsene\n\n5\n9\n\n\nErmäßigte
  (Schüler\, Azubis\, Studenten\, Bürgergeld-Empfänger)\n\n4\n8\n\n\nKinder
  (6 - 14)\n\n2\n6\n\n\n\nDer Teilnehmerbeitrag wird für die Startgebühr de
 r Mannschaft verwendet. Für alle anderen Kosten (Verpflegung\, Unterkunft)
  kommt der Teilnehmer selbst auf.\nEs sind Zeltplätze auf dem benachbarten
  Gelände des MBSV Wasserwandern Bernburg e. V. (https://wasserwandern-bern
 burg.de/campingplatz/) reserviert.\n\nZelt: 6€\nErwachsener: 5\,50€\nKind 
 (4-16 Jahre) / Schüler / Student: 3€\n\nEs gibt in begrenztem Umfang auch 
 Gästezimmer oder einen Platz auf dem Dachboden. Die Anmeldung der Übernach
 tungen bitte bei mir\, ich teile das dann den Verwaltern des Zeltplatzes m
 it. Bei Bedarf kann ich auch Zelt- oder Kochgemeinschaften vermitteln.\nFü
 r Verpflegung ist jeder selbst verantwortlich. Auf der Veranstaltung gibt 
 es jedoch genügend Möglichkeiten Hunger und Durst zu stillen.\nEs wäre tol
 l\, wenn wir wieder eine gut gelaunte Mannschaft zusammenbekommen!Osama
DTSTART:20250613T160000Z
DTEND:20250615T150000Z
GEO:00;0
LOCATION:
ORGANIZER:
SEQUENCE:1
SUMMARY:Kutterrudern in Bernburg
TRANSP:OPAQUE
URL:https://test.apricus-ev.de/component/icagenda/kutterrudern-in-bernburg-
 4?layout=vcal
END:VEVENT
END:VCALENDAR
