BEGIN:VCALENDAR
VERSION:2.0
PRODID:-//TEST Apricus e.V.//NONSGML kigkonsult.se iCalcreator 2.41.92//
CALSCALE:GREGORIAN
METHOD:PUBLISH
UID:33366562-6534-4565-a132-613832376438
X-WR-CALNAME:iCagenda
X-WR-CALDESC:Event Management Extension for Joomla!
X-WR-RELCALID:3E26604A-50F4-4449-8B3E-E4F4932D05B5
X-WR-TIMEZONE:Europe/Berlin
BEGIN:VTIMEZONE
TZID:Europe/Berlin
TZUNTIL:20240331T010000Z
BEGIN:STANDARD
TZNAME:CET
DTSTART:20211031T030000
TZOFFSETFROM:+0200
TZOFFSETTO:+0100
RDATE:20221030T030000
RDATE:20231029T030000
END:STANDARD
BEGIN:DAYLIGHT
TZNAME:CEST
DTSTART:20220327T020000
TZOFFSETFROM:+0100
TZOFFSETTO:+0200
RDATE:20230326T020000
END:DAYLIGHT
END:VTIMEZONE
BEGIN:VEVENT
UID:30363634-3162-4365-b734-363062313266
DTSTAMP:20260425T214644Z
CATEGORIES:Absage bzw. Verschiebung
CLASS:PUBLIC
DESCRIPTION;ALTREP="CID:<FFFF__=0ABBE548DFE235B58f9e8a93d@coffeebean.com>":
 Information 22.6.: Da sich leider auf die Schnelle keine Ersatz-Organisato
 r gefunden hat\, gibt es dieses Jahr noch kein Apricus-Boot beim Kutterrud
 ern.\n\nBeim Kutterrudern bewegen 10 Leute und ein Steuermann ein großes H
 olzboot flussauf und -abwärts. Der Kutterruderpokal in Bernburg ist die gr
 ößte Veranstaltung dieser Sportart in Deutschland. Wir wollen erstmals auc
 h mit einer Apricus-Mannschaft daran teilnehmen. Vorkenntnisse sind nicht 
 notwendig.
DTSTART:20220624T140000Z
DTEND:20220626T140000Z
GEO:00;0
LOCATION:
ORGANIZER:
SEQUENCE:1
SUMMARY:Kutterrudern auf der Saale\, Bernburg
TRANSP:OPAQUE
URL:https://test.apricus-ev.de/component/icagenda/kutterrudern-saale-bernbu
 rg?layout=vcal
END:VEVENT
END:VCALENDAR
