BEGIN:VCALENDAR
VERSION:2.0
PRODID:-//TEST Apricus e.V.//NONSGML kigkonsult.se iCalcreator 2.41.92//
CALSCALE:GREGORIAN
METHOD:PUBLISH
UID:37343035-3033-4334-b234-636537623162
X-WR-CALNAME:iCagenda
X-WR-CALDESC:Event Management Extension for Joomla!
X-WR-RELCALID:3E26604A-50F4-4449-8B3E-E4F4932D05B5
X-WR-TIMEZONE:Europe/Berlin
BEGIN:VTIMEZONE
TZID:Europe/Berlin
TZUNTIL:20221030T010000Z
BEGIN:STANDARD
TZNAME:CET
DTSTART:20201025T030000
TZOFFSETFROM:+0200
TZOFFSETTO:+0100
RDATE:20211031T030000
END:STANDARD
BEGIN:DAYLIGHT
TZNAME:CEST
DTSTART:20200329T020000
TZOFFSETFROM:+0100
TZOFFSETTO:+0200
RDATE:20210328T020000
RDATE:20220327T020000
END:DAYLIGHT
END:VTIMEZONE
BEGIN:VEVENT
UID:39303164-3566-4164-b539-386235336537
DTSTAMP:20260425T214124Z
CATEGORIES:Absage bzw. Verschiebung
CLASS:PUBLIC
DESCRIPTION;ALTREP="CID:<FFFF__=0ABBE548DFE235B58f9e8a93d@coffeebean.com>":
 Hallo zusammen\,\nleider fällt nun auch das Planungs-Wochenende samt Wande
 rung und Brunch am 14./15. November in Leipzig den Corona-Maßnahmen zum Op
 fer. Für den Jahresplanungsbrunch gibt es eine Ersatzlösung...
DTSTART:20201114T093500Z
DTEND:20201114T180000Z
GEO:00;0
LOCATION:
ORGANIZER:
SEQUENCE:1
SUMMARY:Leipzig-Wanderung am Planungswochenende
TRANSP:OPAQUE
URL:https://test.apricus-ev.de/component/icagenda/leipzig-wanderung-und-pla
 nungsbrunch?layout=vcal
END:VEVENT
END:VCALENDAR
