BEGIN:VCALENDAR
VERSION:2.0
PRODID:-//TEST Apricus e.V.//NONSGML kigkonsult.se iCalcreator 2.41.92//
CALSCALE:GREGORIAN
METHOD:PUBLISH
UID:66373130-6563-4533-a239-316531666564
X-WR-CALNAME:iCagenda
X-WR-CALDESC:Event Management Extension for Joomla!
X-WR-RELCALID:3E26604A-50F4-4449-8B3E-E4F4932D05B5
X-WR-TIMEZONE:Europe/Berlin
BEGIN:VTIMEZONE
TZID:Europe/Berlin
TZUNTIL:20251026T010000Z
BEGIN:STANDARD
TZNAME:CET
DTSTART:20231029T030000
TZOFFSETFROM:+0200
TZOFFSETTO:+0100
RDATE:20241027T030000
END:STANDARD
BEGIN:DAYLIGHT
TZNAME:CEST
DTSTART:20230326T020000
TZOFFSETFROM:+0100
TZOFFSETTO:+0200
RDATE:20240331T020000
RDATE:20250330T020000
END:DAYLIGHT
END:VTIMEZONE
BEGIN:VEVENT
UID:36376562-3866-4332-a264-393231366338
DTSTAMP:20260425T213430Z
CATEGORIES:Radfahren
CLASS:PUBLIC
DESCRIPTION;ALTREP="CID:<FFFF__=0ABBE548DFE235B58f9e8a93d@coffeebean.com>":
 Anradeln am Samstag\, 16.3.\nDie Anradeltour 2024 führt uns – mal wieder -
  auf einige Hügel(chen) im Raum Eilenburg\, Machern\, Brandis und Süd-Leip
 zig.\nWir beginnen mit dem Besuch der Eilenburger Skisprung-Schanzen\, spä
 ter erklimmen wir die Rocknitzer und Gaudlitzer Berge bei Mockrehna\, den 
 Golmesberg\, die Fuchsberge bei Eilenburg/Jesewitz und den höchsten Punkt:
  den Kohlenberg bei Brandis\, welchen wir dieses mal von einer anderen Sei
 te ansteuern werden. Auf dem Rückweg liegt dann noch der Colmberg bei Lieb
 ertwolkwitz. Wer dann noch fit ist\, fährt weiter bis zum bekanntesten Lei
 pziger „Berg“ - den geliebten Fockeberg.\nDie ganze Tour ist ca. 65&nbsp\;
 km lang. Wem das aber gar zu viel wird\, der hat in Machern\, Beucha oder 
 Meusdorf die Möglichkeit\, vorher auszusteigen und den ÖPNV zu nutzen.\n\n
 Treffpunkt in Leipzig ist die Rolltreppe zur S-Bahn auf dem Querbahnsteig 
 des Hauptbahnhofs um 09:10&nbsp\;Uhr. Die S-Bahn (S4 R: Torgau) fährt um 0
 9:28&nbsp\;Uhr nach Eilenburg.\nIn Eilenburg ist der Treffpunkt um 10:00&n
 bsp\;Uhr am Bahnhof.\nWelche Tickets wir benötigen\, klären wir vor Ort.\n
 \nWir werden eine Mittagspause in der Gaststätte Lübschützer Teiche einleg
 en und können später am Albrechtshainer See auch noch ein Päuschen für Kaf
 fee und Toilette machen. Mitbringen braucht ihr nichts Besonderes\, nur wa
 s man auf einer Radtour so an Trinken und kleinen Snacks benötigt.\n\nKost
 en: Für Apricus- oder ADFC Mitglieder 2&nbsp\;€\, für Gäste 3&nbsp\;€ (ent
 hält Versicherungsschutz).\nAnmeldung: ist nicht notwendig – wäre aber net
 t. Dann bitte bei&nbsp\;mkraus70@yahoo.de oder unter 0176-31330108 melden.
 \n\nAuf ein schönes Anradeln freut sichDer Micha\n&nbsp\;
DTSTART:20240316T080000Z
DTEND:20240316T160000Z
GEO:00;0
LOCATION:
ORGANIZER:
SEQUENCE:1
SUMMARY:5. Leipziger Berge
TRANSP:OPAQUE
URL:https://test.apricus-ev.de/component/icagenda/leipziger-berge-5?layout=
 vcal
END:VEVENT
END:VCALENDAR
