BEGIN:VCALENDAR
VERSION:2.0
PRODID:-//TEST Apricus e.V.//NONSGML kigkonsult.se iCalcreator 2.41.92//
CALSCALE:GREGORIAN
METHOD:PUBLISH
UID:63326237-3234-4362-a532-353162376363
X-WR-CALNAME:iCagenda
X-WR-CALDESC:Event Management Extension for Joomla!
X-WR-RELCALID:3E26604A-50F4-4449-8B3E-E4F4932D05B5
X-WR-TIMEZONE:Europe/Berlin
BEGIN:VTIMEZONE
TZID:Europe/Berlin
TZUNTIL:20271031T010000Z
BEGIN:STANDARD
TZNAME:CET
DTSTART:20251026T030000
TZOFFSETFROM:+0200
TZOFFSETTO:+0100
RDATE:20261025T030000
END:STANDARD
BEGIN:DAYLIGHT
TZNAME:CEST
DTSTART:20250330T020000
TZOFFSETFROM:+0100
TZOFFSETTO:+0200
RDATE:20260329T020000
RDATE:20270328T020000
END:DAYLIGHT
END:VTIMEZONE
BEGIN:VEVENT
UID:38333832-3663-4530-b430-356561306161
DTSTAMP:20260425T213435Z
CATEGORIES:Wandern
CLASS:PUBLIC
DESCRIPTION;ALTREP="CID:<FFFF__=0ABBE548DFE235B58f9e8a93d@coffeebean.com>":
 Nachdem einige Apricüsse in 2025 den Saisonauftakt in Leipzig und den Sais
 onabschluss in Berlin gerockt haben\, rufen wir euch auch am 07.03.2026 an
  die Startlinie in Leipzig zum Saisonauftakt.\nStart- &amp\; Zielort: in L
 eipzig ist wie in jedem Jahr die Galopprennbahn im Scheibenholz.\nIn diese
 m Jahr gehen wir (Thomas\, Micha aus Wittenberg und Andreas P). die 42 km 
 an\, auf der 30 km-Strecke starten Jana und Heiko.&nbsp\;Es wäre super wen
 n der ein oder andere die beiden Gruppen verstärken würde- ihr seid herzli
 ch eingeladen\, das Jahr 2026 sportlich zu beginnen und auch zu beenden.&n
 bsp\;Weitere Anmeldungen bitte direkt bei den Veranstaltern buchen über di
 e Web-Seite: www.mammutmarsch.de\nDa wir in zwei Gruppen starten und weite
 re Apricüsse den Fockeberglauf am gleichen Tag absolvieren\, plane ich am 
 Samstagabend ein gemeinsames Abendessen in Leipzig.&nbsp\;Nach eurer Anmel
 dung bitte kurze Info\, damit wir gemeinsam planen können.\nWer eine Übern
 achtung braucht\, wendet sich an uns.\nSportliche Grüße bis zum StartAndre
 as P.\nAndreas.protze@yahoo.de0157-34043847
DTSTART:20260307T210000Z
DTEND:20260307T210100Z
GEO:00;0
LOCATION:
ORGANIZER:
SEQUENCE:1
SUMMARY:Mammutmarsch Leipzig
TRANSP:OPAQUE
URL:https://test.apricus-ev.de/component/icagenda/mammutmarsch-leipzig?layo
 ut=vcal
END:VEVENT
END:VCALENDAR
