BEGIN:VCALENDAR
VERSION:2.0
PRODID:-//TEST Apricus e.V.//NONSGML kigkonsult.se iCalcreator 2.41.92//
CALSCALE:GREGORIAN
METHOD:PUBLISH
UID:66646132-3139-4439-b035-663431666266
X-WR-CALNAME:iCagenda
X-WR-CALDESC:Event Management Extension for Joomla!
X-WR-RELCALID:3E26604A-50F4-4449-8B3E-E4F4932D05B5
X-WR-TIMEZONE:Europe/Berlin
BEGIN:VTIMEZONE
TZID:Europe/Berlin
TZUNTIL:20250330T010000Z
BEGIN:STANDARD
TZNAME:CET
DTSTART:20221030T030000
TZOFFSETFROM:+0200
TZOFFSETTO:+0100
RDATE:20231029T030000
RDATE:20241027T030000
END:STANDARD
BEGIN:DAYLIGHT
TZNAME:CEST
DTSTART:20230326T020000
TZOFFSETFROM:+0100
TZOFFSETTO:+0200
RDATE:20240331T020000
END:DAYLIGHT
END:VTIMEZONE
BEGIN:VEVENT
UID:38313365-3763-4439-a463-386439303839
DTSTAMP:20260425T213432Z
CATEGORIES:Radfahren
CLASS:PUBLIC
DESCRIPTION;ALTREP="CID:<FFFF__=0ABBE548DFE235B58f9e8a93d@coffeebean.com>":
 Radwanderung zum Mühlentag mit Überprüfung des Elberadweges\nPfingstmontag
  ist traditionell Mühlentag. In diesem Jahr laden wir zu einer kleinen Rad
 tour auf dem Elberadweg ein. Ziel ist es dabei auch\, die Abschnitte des E
 lberadweges auf beiden Seiten der Elbe zwischen der Autobahnbrücke Vockero
 de und Wittenberg zu überprüfen und eventuelle Schäden und Missstände\, di
 e uns auffallen\, zu dokumentieren. Wir treffen uns 10.30 am Bahnhof Coswi
 g (auf der Stadtseite\, wo der Zug aus Richtung Dessau einfährt). Das anko
 mmende Zugpaar aus Wittenberg und Dessau wird abgewartet. Dann geht es zun
 ächst über Buro zur Autobahnbrücke und dann über Vockerode und Wörlitz bis
  nach Wittenberg und auf der hiesigen Seite dann über Piesteritz und Grieb
 o zurück.\nIn Griebo werden wir die dortige Mühle besichtigen\, die eigent
 lich zum Mühlentag immer geöffnet ist\, hier kann man auch einen Imbiss zu
  sich nehmen. Ausklingen wird die Tour dann in der Coswiger Niedermühle\, 
 die seit Jahrhunderten im Besitz der Familie Koch ist. Unser Vereinsmitgli
 ed Tesi wird Interessierten natürlich auch die Mühle zeigen und es wird zu
 m Abschluss hier noch den Nachmittagskaffee geben.\nFür die Mitglieder von
  Apricus e.V. ist die Tourenteilnahme kostenlos\, Nichtmitglieder zahlen w
 ie immer 1 € für die Sportunfallversicherung. Den Verzehr und eventuelle E
 intritte oder Spenden für die Mühlen zahlt jeder selbst.\nEine vorherige A
 nmeldung bis zum Freitag\, 26.05.2023 bei Torsten Hammer (034903-189761 – 
 auch AB nutzen!) oder per Mail an thapricus@aol.com wäre gut\, um für den 
 Kaffee in der Niedermühle eine Größenordnung zu haben. Kurzentschlossene w
 erden dennoch mitgenommen\, eventuell dann mit Abstrichen beim Nachmittags
 kaffee.
DTSTART:20230529T083000Z
DTEND:20230529T160000Z
GEO:00;0
LOCATION:
ORGANIZER:
SEQUENCE:1
SUMMARY:Radwanderung zum Mühlentag
TRANSP:OPAQUE
URL:https://test.apricus-ev.de/component/icagenda/muehlenradwandertag?layou
 t=vcal
END:VEVENT
END:VCALENDAR
