BEGIN:VCALENDAR
VERSION:2.0
PRODID:-//TEST Apricus e.V.//NONSGML kigkonsult.se iCalcreator 2.41.92//
CALSCALE:GREGORIAN
METHOD:PUBLISH
UID:32396665-3563-4236-b034-333233653165
X-WR-CALNAME:iCagenda
X-WR-CALDESC:Event Management Extension for Joomla!
X-WR-RELCALID:3E26604A-50F4-4449-8B3E-E4F4932D05B5
X-WR-TIMEZONE:Europe/Berlin
BEGIN:VTIMEZONE
TZID:Europe/Berlin
TZUNTIL:20231029T010000Z
BEGIN:STANDARD
TZNAME:CET
DTSTART:20211031T030000
TZOFFSETFROM:+0200
TZOFFSETTO:+0100
RDATE:20221030T030000
END:STANDARD
BEGIN:DAYLIGHT
TZNAME:CEST
DTSTART:20220327T020000
TZOFFSETFROM:+0100
TZOFFSETTO:+0200
RDATE:20230326T020000
END:DAYLIGHT
END:VTIMEZONE
BEGIN:VEVENT
UID:64643363-3264-4335-b430-353762303832
DTSTAMP:20260425T232440Z
CATEGORIES:Radfahren
CLASS:PUBLIC
DESCRIPTION;ALTREP="CID:<FFFF__=0ABBE548DFE235B58f9e8a93d@coffeebean.com>":
 Der Erlebnissportverein Apricus ruft auf zur Müllsammel-Radtour in Coswig!
 \nNachdem es um diese Jahreszeit – vor dem Sprießen des Grüns – im Jahr 20
 19 bereits eine solche Aktion gab\, musste eine Fortsetzung dieser guten T
 at für unsere Wälder leider 2020 und 2021 coronabedingt ausfallen. 2019 fo
 lgten dem Aufruf leider nur wenige Leute\, denen die Sauberkeit unserer Um
 welt am Herzen liegt. Dennoch haben wir damals mit diesen wenigen Leuten i
 n etwas mehr als 3 Stunden so viel Müll zusammen gesammelt\, dass ein groß
 er Container voll wurde.\nDas Ergebnis der Müllsammelaktion 2019\nInzwisch
 en liegt beiderseits der Straße in Richtung Wiesenburg (damals ein Schwerp
 unkt der Aktion) wieder mindestens genau so viel herum. Auch die Strecken 
 Coswig - Möllensdorf und Coswig - Wörpen sehen arg zugemüllt aus\, genau w
 ie viele andere unserer Straßenränder. Ich freue mich\, dass wir dieses Ja
 hr wieder zu einer solchen Aktion aufrufen dürfen und hoffe natürlich auf 
 eine noch bessere Beteiligung als vor 3&nbsp\;Jahren.\nWir treffen uns wie
 der mit den Fahrrädern auf dem Parkplatz des ehemaligen Edeka-Markts (gege
 nüber des jetzigen Edeka) um 9:45&nbsp\;Uhr. Jeder Teilnehmer soll bitte e
 ine Schutzweste tragen und Arbeitshandschuhe mitbringen\, um Verletzungen 
 durch Glasscherben beispielsweise zu vermeiden.\nStart ist ab dort um 10:0
 0&nbsp\;Uhr. Die Stadt Coswig stellt Müllsäcke zur Verfügung und sorgt mit
  den Stadtwerken für eine sofortige Abholung der Säcke\, wie auch 2019.\nA
 us derzeitiger Sicht präferieren wir für dieses Jahr die Strecke ab Ortsau
 sgangsschild Coswig in Richtung Möllensdorf - sollten sich genügend Teilne
 hmer finden\, kann auch eine zweite Strecke noch in Angriff genommen werde
 n\, z.B. erneut die Straße in Richtung Wiesenburg.\nGerne bitte weitersage
 n und in den sozialen Netzwerken breit teilen. Und natürlich nicht nur lik
 en\, sondern auch selbst 3 bis 4 Stunden seiner Freizeit opfern und mitmac
 hen!\nTorsten\n\nCorona-Regeln bei Apricus-Veranstaltungen\n{loadmoduleid 
 135}\nEntscheidend sind die Regeln für Sachsen-Anhalt bzw. den Landkreis W
 ittenberg.
DTSTART:20220409T080000Z
DTEND:20220409T120000Z
GEO:00;0
LOCATION:
ORGANIZER:
SEQUENCE:1
SUMMARY:Müllsammel-Radtour Coswig
TRANSP:OPAQUE
URL:https://test.apricus-ev.de/component/icagenda/muellsammel-radtour-coswi
 g?layout=vcal
END:VEVENT
END:VCALENDAR
