BEGIN:VCALENDAR
VERSION:2.0
PRODID:-//TEST Apricus e.V.//NONSGML kigkonsult.se iCalcreator 2.41.92//
CALSCALE:GREGORIAN
METHOD:PUBLISH
UID:38616138-3661-4065-a261-373237643661
X-WR-CALNAME:iCagenda
X-WR-CALDESC:Event Management Extension for Joomla!
X-WR-RELCALID:3E26604A-50F4-4449-8B3E-E4F4932D05B5
X-WR-TIMEZONE:Europe/Berlin
BEGIN:VTIMEZONE
TZID:Europe/Berlin
TZUNTIL:20221030T010000Z
BEGIN:STANDARD
TZNAME:CET
DTSTART:20201025T030000
TZOFFSETFROM:+0200
TZOFFSETTO:+0100
RDATE:20211031T030000
END:STANDARD
BEGIN:DAYLIGHT
TZNAME:CEST
DTSTART:20200329T020000
TZOFFSETFROM:+0100
TZOFFSETTO:+0200
RDATE:20210328T020000
RDATE:20220327T020000
END:DAYLIGHT
END:VTIMEZONE
BEGIN:VEVENT
UID:38613338-6665-4239-b361-353066303961
DTSTAMP:20260421T153722Z
CATEGORIES:Absage bzw. Verschiebung
CLASS:PUBLIC
DESCRIPTION;ALTREP="CID:<FFFF__=0ABBE548DFE235B58f9e8a93d@coffeebean.com>":
 Leider kann das Jahrestreffen 2020 nicht wie geplant Mitte Februar nachgeh
 olt werden.
DTSTART:20210212T160000Z
DTEND:20210214T160000Z
GEO:00;0
LOCATION:in / bei Klosterzinna
ORGANIZER:
SEQUENCE:1
SUMMARY:Nachholtermin für das Jahrestreffen 2020
TRANSP:OPAQUE
URL:https://test.apricus-ev.de/component/icagenda/nachholung-des-jahrestref
 fens-2020
END:VEVENT
END:VCALENDAR
