BEGIN:VCALENDAR
VERSION:2.0
PRODID:-//TEST Apricus e.V.//NONSGML kigkonsult.se iCalcreator 2.41.92//
CALSCALE:GREGORIAN
METHOD:PUBLISH
UID:65613731-3466-4435-a633-336365623530
X-WR-CALNAME:iCagenda
X-WR-CALDESC:Event Management Extension for Joomla!
X-WR-RELCALID:3E26604A-50F4-4449-8B3E-E4F4932D05B5
X-WR-TIMEZONE:Europe/Berlin
BEGIN:VTIMEZONE
TZID:Europe/Berlin
TZUNTIL:20270328T010000Z
BEGIN:STANDARD
TZNAME:CET
DTSTART:20241027T030000
TZOFFSETFROM:+0200
TZOFFSETTO:+0100
RDATE:20251026T030000
RDATE:20261025T030000
END:STANDARD
BEGIN:DAYLIGHT
TZNAME:CEST
DTSTART:20250330T020000
TZOFFSETFROM:+0100
TZOFFSETTO:+0200
RDATE:20260329T020000
END:DAYLIGHT
END:VTIMEZONE
BEGIN:VEVENT
UID:65303730-6530-4561-b064-373233323538
DTSTAMP:20260425T213432Z
CATEGORIES:Treffen
CLASS:PUBLIC
DESCRIPTION;ALTREP="CID:<FFFF__=0ABBE548DFE235B58f9e8a93d@coffeebean.com>":
 Wie bereits erwähnt\, haben wir uns zwei Alternativen als Ersatz für den d
 ieses Jahr nicht möglichen Infostand auf dem Umweltfestival in Berlin gesu
 cht - die zweite ist also die Teilnahme an der Ökofete in Leipzig am 15. J
 uni.\nDieses Jahr wollen wir uns in Leipzig auf der Ökofete präsentieren u
 nd mit Leipzigern und Gästen ins Gespräch kommen. Die Ökofete ist ein Park
 fest (geplant vom Leipziger Ökolöwen) am 15.&nbsp\;Juni von 11:00 bis 19:0
 0 Uhr im Clara Zetkin Park nahe der Sachsenbrücke\, s. o.g. Homepage.\nWie
  der Name schon sagt\, präsentieren sich hier Vereine\, Institutionen\, Ge
 schäfte und sonstige Initiativen\, die ökologisch\, nachhaltig und rücksic
 htsvoll unterwegs sind. Wo genau wir stehen\, findet ihr vor Ort heraus\, 
 wenn ihr die Anton-Bruckner-Allee einmal von West nach Ost oder anders rum
  entlang schlendert. Wer am 15.&nbsp\;Juni in Leipzig ist und Zeit hat\, i
 st gern eingeladen\, uns am Stand zu besuchen\, oder uns auch mal ein paar
  Minuten abzulösen. Vor Ort werden auf jeden Fall Jana\, Ute\, Heiko und M
 icha sein.\nBis vielleicht dahinDer Micha
DTSTART:20250615T100000Z
DTEND:20250615T170000Z
GEO:00;0
LOCATION:
ORGANIZER:
SEQUENCE:1
SUMMARY:Ökofete Leipzig
TRANSP:OPAQUE
URL:https://test.apricus-ev.de/component/icagenda/oekofete-leipzig?layout=v
 cal
END:VEVENT
END:VCALENDAR
