BEGIN:VCALENDAR
VERSION:2.0
PRODID:-//TEST Apricus e.V.//NONSGML kigkonsult.se iCalcreator 2.41.92//
CALSCALE:GREGORIAN
METHOD:PUBLISH
UID:34373139-6466-4866-a238-663464396432
X-WR-CALNAME:iCagenda
X-WR-CALDESC:Event Management Extension for Joomla!
X-WR-RELCALID:3E26604A-50F4-4449-8B3E-E4F4932D05B5
X-WR-TIMEZONE:Europe/Berlin
BEGIN:VTIMEZONE
TZID:Europe/Berlin
TZUNTIL:20220327T010000Z
BEGIN:STANDARD
TZNAME:CET
DTSTART:20191027T030000
TZOFFSETFROM:+0200
TZOFFSETTO:+0100
RDATE:20201025T030000
RDATE:20211031T030000
END:STANDARD
BEGIN:DAYLIGHT
TZNAME:CEST
DTSTART:20200329T020000
TZOFFSETFROM:+0100
TZOFFSETTO:+0200
RDATE:20210328T020000
END:DAYLIGHT
END:VTIMEZONE
BEGIN:VEVENT
UID:61366431-3364-4534-a266-313439346630
DTSTAMP:20260419T213206Z
CATEGORIES:Wandern
CLASS:PUBLIC
DESCRIPTION;ALTREP="CID:<FFFF__=0ABBE548DFE235B58f9e8a93d@coffeebean.com>":
 Wichtige Information vom 20. Mai: da die Veranstaltung sehr beliebt bei un
 seren Teilnehmern ist\, müssen zukünftige Anwärter leider auf der Wartelis
 te Platz nehmen. Am besten einfach beim Organisator melden (s.u.). :)\n\nD
 iese Ausschreibung ist unter dem Vorbehalt\, dass uns die Corona-Einschrän
 kungen keinen Strich durch die Rechnung machen. Leider wissen wir noch imm
 er nicht 100%ig\, wie sich bis dahin die Dinge entwickeln\, was erlaubt is
 t und was nicht.\nDa aber auf jeden Fall\, wenn es nicht neue Verschärfung
 en geben wird\, eine Übernachtung auf dem Zeltplatz in Rädigke bei unserem
  altbekannten Freund Fritz Lintow möglich ist\, habe ich diesen Ort als Au
 sgangsort für unseren Kurs gewählt. Fritz kennen vor allem alte Apricus-Ha
 sen noch. Jahrelang hatte er die Gaststätte in Raben und später war er ebe
 nso lange Jahre Geschäftsführer auf der Burg Rabenstein. Er freut sich auf
  jeden Fall sehr\, dass wir kommen.\nUnd die zweite gute Nachricht bei all
 en Unwägbarkeiten ist\, dass jedermann nach Brandenburg einreisen darf\, w
 as ja derzeit nicht in allen Bundesländern möglich ist. Da wir aber vieles
  andere noch nicht wissen\, handhaben wir es so improvisatorisch wie mögli
 ch.\nFür die Anmeldung heißt das:\n\nso schnell wie möglich bei Torsten Ha
 mmer\, thapricus@aol.com\, Tel. 034903-189761 (auch AB nutzen) oder über F
 acebook per Chat\nJeder überweist den Teilnehmerpreis für den Kurs an Apri
 cus (s. Tabelle).\nDer Preis für die Übernachtung errechnet sich laut der 
 Preistabelle&nbsp\;auf der Webseite des Zeltplatzes (https://niemegkerland
 .de/#camping - etwas herunterscrollen). Bitte die unterschiedlichen Preise
  beachten\, je nach genutztem Fahrzeug + Preis für das Zelt + Preis pro Pe
 rson + besondere Wünsche (die Sauna wird voraussichtlich noch nicht freige
 geben sein). Bei der Anmeldung bitte die individuelle Übernachtung mit ang
 eben. Ich leite das dann so an Fritz weiter. Die Bezahlung wird extra gere
 gelt.\n\nDa es einen Run auf den Zeltplatz an sich geben könnte und dieser
  nicht allzu groß ist\, hat man umso bessere Chancen\, je zeitiger man sic
 h verbindlich anmeldet. Ich nehme so lange Anmeldungen entgegen bis Fritz 
 „Stopp“ sagt...\nVerpflegung: Aufgrund dessen\, dass wir nicht wissen\, wi
 e sich die Dinge entwickeln\, ist prinzipiell Selbstverpflegung aus dem Ru
 cksack vorgesehen. Sollte man einkehren können\, zahlen die\, die Einkehre
 n ihre Zeche aus eigenem Portemonnaie. Auf dem Zeltplatz gibt es einen Brö
 tchenservice und einen kleinen Laden mit einigen Lebensmitteln. Nächste Su
 permärkte und Geschäfte sind in Niemegk zu finden.\nCorona wird auch das P
 rogramm an sich bestimmen. Bei Notwendigkeit werden nicht nur die praktisc
 hen Übungen in kleinen Gruppen stattfinden (das wäre auch ohne Corona so)\
 , sondern auch die theoretischen Teile.\nAm Freitag sollte in Kleingruppen
  oder individuell angereist werden\, per Rad von den Bahnhöfen Belzig\, Wi
 esenburg oder Coswig aus\, oder in Fahrgemeinschaften. Ich kann von Coswig
  aus eine Mitfahrgelegenheit für bis zu 3 Personen ohne Radmitnahme anbiet
 en. Für den eigentlichen Kurs sind Räder nicht nötig\, sie empfehlen sich 
 aber zur Anreisealternative\, wer keine Fahrgemeinschaft findet und kein e
 igenes Auto hat.\nIch selbst würde ab ca. 16:00&nbsp\;Uhr vor Ort sein und
  sowie eine erste kleine Gruppe da ist\, bekommt diese auch ihre erste The
 orieeinheit. Ziel ist es\, dass am Freitag sich jeder mit der Karte\, den 
 Kartensymbolen und grundlegenden Orientierungstipps vertraut macht.\nAm Sa
 mstag und Sonntag gibt es praktische Orientierungsaufgaben in kleinen Grup
 pen und jede Gruppe soll wenigstens einmal eine Lehreinheit draußen mit mi
 r bekommen. Jede Gruppe soll auch einmal eine Nachtorientierung absolviere
 n. Ziel ist es\, anhand der Karte herauszufinden\, wo man ist\, unterwegs 
 Orientierungspunkte finden und sich wieder zurück zum Platz finden\, ohne 
 dabei auf andere Hilfsmittel als Karte und gegebenenfalls Kompass zurück z
 u greifen (wer einen Kompass besitzt\, darf ihn gerne mitbringen und nutze
 n). Handy\, GPS\, Leute fragen\, Wanderwegschilder nutzen usw. sollte selb
 stauferlegtes Tabu sein. Richtet euch auf minimale Wanderstrecken von ca. 
 12&nbsp\;bis 15&nbsp\;km pro Tag ein. Verlauft ihr euch\, können es auch m
 ehr werden.\nAm Pfingstmontag werden die Kleingruppen dann in einer Gruppe
 nprüfungssituation blind „irgendwo in der Pampa“ ausgesetzt. Die Zusammens
 etzung dieser Gruppen erfolgt per Auslosung. Sie müssen herausfinden\, wo 
 sie sind\, dann ein oder zwei Orientierungspunkte einsammeln und den angeg
 ebenen Zielort finden. Wenn die Gruppe gut ist\, sollte sie die Aufgabe in
 nerhalb 2 bis 3 Stunden gelöst haben (minimale Entfernung ca. 8 bis 10 km)
 . Jede Gruppe wird dabei natürlich woanders ausgesetzt. Die Nutzung der Ka
 rte ist dabei erlaubt. Jedoch muss die Gruppe sich selbst erschließen\, wo
  sie startet. Eingezeichnet werden nur die Orientierungspunkte und das Zie
 l. Die Gruppe\, die am schnellsten das Ziel erreicht\, darf sich dann mit 
 dem Titel „Apricus-Orientierungsmeister 2020“ schmücken.\nKosten für den K
 urs:\n*) Nachweis beim Organisator vorlegen  \n\n\n\n\n\nTN-Gruppe\nApricu
 s\nGäste\n\n\n\n\nErwachsene\n\n24\n39\n\n\nHartz-IV-Empfänger* / Jugendli
 che bis 26 J.\n\n20\n35\n\n\nKinder bis 14 Jahre\n\n15\n21\n\n\n\n\nzuzügl
 ich individuelle Kosten für die Übernachtung auf dem Zeltplatz\, wie zuvor
  erklärt\nzuzüglich Selbsverpflegung\n\nDie Anmeldung wird wirksam mit der
  Einzahlung des Teilnehmerbeitrags (Kosten für den Kurs) auf das {loadmodu
 leid 114}.\nBis dann\,Torsten
DTSTART:20200529T140000Z
DTEND:20200601T170000Z
GEO:00;0
LOCATION:Rädigke
ORGANIZER:
SEQUENCE:1
SUMMARY:Orientieren im Gelände\, Rädigke – Hoher Fläming
TRANSP:OPAQUE
URL:https://test.apricus-ev.de/component/icagenda/orientieren-im-gelaende?i
 ccaldate=2027-04-1
END:VEVENT
END:VCALENDAR
