BEGIN:VCALENDAR
VERSION:2.0
PRODID:-//TEST Apricus e.V.//NONSGML kigkonsult.se iCalcreator 2.41.92//
CALSCALE:GREGORIAN
METHOD:PUBLISH
UID:35616532-6538-4538-b436-353832356632
X-WR-CALNAME:iCagenda
X-WR-CALDESC:Event Management Extension for Joomla!
X-WR-RELCALID:3E26604A-50F4-4449-8B3E-E4F4932D05B5
X-WR-TIMEZONE:Europe/Berlin
BEGIN:VTIMEZONE
TZID:Europe/Berlin
TZUNTIL:20241027T010000Z
BEGIN:STANDARD
TZNAME:CET
DTSTART:20221030T030000
TZOFFSETFROM:+0200
TZOFFSETTO:+0100
RDATE:20231029T030000
END:STANDARD
BEGIN:DAYLIGHT
TZNAME:CEST
DTSTART:20220327T020000
TZOFFSETFROM:+0100
TZOFFSETTO:+0200
RDATE:20230326T020000
RDATE:20240331T020000
END:DAYLIGHT
END:VTIMEZONE
BEGIN:VEVENT
UID:66653565-3230-4338-b561-633766666437
DTSTAMP:20260425T213437Z
CATEGORIES:Treffen
CLASS:PUBLIC
DESCRIPTION;ALTREP="CID:<FFFF__=0ABBE548DFE235B58f9e8a93d@coffeebean.com>":
 Auch in diesem Jahr wollen wir uns wieder zum Brunch treffen und die Aktiv
 itäten für's nächste Jahr planen…\n…und zwar am Sonntag\, dem 13.11.22\, u
 m 11:00&nbsp\;Uhr - voraussichtlich - im KuBiZ (Kultur- und Bildungszentru
 m) in Berlin Weißensee\, Bernkasteler Straße 78. Das KuBiZ ist erreichbar 
 mit der Straßenbahnlinie M4\, Haltestelle Buschallee. Von dort aus sind es
  noch ca. 600&nbsp\;m zu Fuß.\nDie leckeren Speisen und Getränke werden hö
 chstwahrscheinlich angeliefert\, wir organisieren das im Moment noch. Auf 
 jeden Fall gibt's was zu Essen und zu Trinken\; die Kosten dafür teilen wi
 r uns.\nBitte meldet Euch bis spätestens Donnerstag\, 10.11.2022\, verbind
 lich bei mir an\, wenn ihr kommen wollt (wichtig auch für die Information 
 bei möglichen Planänderungen). Das geht entweder per E-Mail: frankp@apricu
 s-ev.de oder telefonisch unter 0173-8132345.\nAktivitätenplanung 2023\nFür
  alle\, die dabei sind und auch für die\, die das nicht einrichten können\
 , die Bitte bzw. die Fragen:\n\nWer möchte 2023 eine eigene Tour/Veranstal
 tung organisieren und wann?\nWer würde bei einer Veranstaltung mitwirken/m
 itorganisieren (speziell bei Radwandertagen\, Paddeln und Jahrestreffen si
 nd helfende Hände willkommen)?\nKonkret für das Himmelfahrtspaddeln haben 
 wir noch keinen Plan und noch niemanden\, der gesagt hat „mach ich 2023“.
 \n\nMeldet Euch mit Euren Planungen\, Fragen und Hinweisen bis zum 13.11. 
 gern bei Frank (s.o.) oder bei Micha: mkraus70@yahoo.de.\nWir freuen uns a
 uf einen gemütlichen und produktiven Sonntag(vor)mittag mit Euch.Frank und
  Marianne
DTSTART:20221113T100000Z
DTEND:20221113T150000Z
GEO:00;0
LOCATION:
ORGANIZER:
SEQUENCE:1
SUMMARY:Planungsbrunch
TRANSP:OPAQUE
URL:https://test.apricus-ev.de/component/icagenda/planungsbrunch?layout=vca
 l
END:VEVENT
END:VCALENDAR
