BEGIN:VCALENDAR
VERSION:2.0
PRODID:-//TEST Apricus e.V.//NONSGML kigkonsult.se iCalcreator 2.41.92//
CALSCALE:GREGORIAN
METHOD:PUBLISH
UID:31346530-3864-4330-b138-303462373264
X-WR-CALNAME:iCagenda
X-WR-CALDESC:Event Management Extension for Joomla!
X-WR-RELCALID:3E26604A-50F4-4449-8B3E-E4F4932D05B5
X-WR-TIMEZONE:Europe/Berlin
BEGIN:VTIMEZONE
TZID:Europe/Berlin
TZUNTIL:20261025T010000Z
BEGIN:STANDARD
TZNAME:CET
DTSTART:20241027T030000
TZOFFSETFROM:+0200
TZOFFSETTO:+0100
RDATE:20251026T030000
END:STANDARD
BEGIN:DAYLIGHT
TZNAME:CEST
DTSTART:20240331T020000
TZOFFSETFROM:+0100
TZOFFSETTO:+0200
RDATE:20250330T020000
RDATE:20260329T020000
END:DAYLIGHT
END:VTIMEZONE
BEGIN:VEVENT
UID:65333439-3534-4663-a638-386333373535
DTSTAMP:20260425T213433Z
CATEGORIES:Treffen
CLASS:PUBLIC
DESCRIPTION;ALTREP="CID:<FFFF__=0ABBE548DFE235B58f9e8a93d@coffeebean.com>":
 Liebe Apricusse\,\num fürs nächste Jahr wieder ein abwechslungsreiches Pro
 gramm zu planen\, treffen wir uns am Sonntag dem 17.11. um 11:00&nbsp\;Uhr
  im Friederike-Treff&nbsp\;5 in Coswig (Anhalt).\nWer in Coswig nicht dabe
 i ist\, aber noch Ideen fürs nächste Jahr hat\, schickt diese mit einem od
 er besser zwei alternativen Terminvorschlägen an frankp@apricus-ev.de oder
  ruft mich an unter 0173-8132345. Wir versuchen außerdem\, eine Videoschal
 te einzurichten - bei Interessse solltet Ihr Euch ebenfalls per Mail melde
 n\, wir schicken Euch dann gegebenenfalls die Einwahldaten zu.\nWer sich n
 och nicht für die Teilnahme am Planungstreffen angemeldet hat (s. Mail vom
  27.10. an alle Mitglieder)\, kann das noch bis Donnerstag\, 14.11.\, bei 
 Torsten per E-Mail thapricus@aol.com oder telefonisch unter 034903-189761 
 tun.\nHier nochmal die Adresse unseres Planungstreffens:\n\nFriederike-Tre
 ff&nbsp\;5Friederikenstraße&nbsp\;506869&nbsp\;Coswig (Anhalt)\n\nWährend 
 des Treffens gibt es Kaffee und Kuchen zu kleinen Preisen. In unmittelbare
 r Nähe findet ihr außerdem ein vietnamesisches Restaurant und einen Döner-
 Imbiss.\nWir freuen uns auf Euch und auf eure Ideen!
DTSTART:20241117T093000Z
DTEND:20241117T140000Z
GEO:00;0
LOCATION:Coswig (Anhalt)
ORGANIZER:
SEQUENCE:1
SUMMARY:Planungstreff in Coswig (Anhalt)
TRANSP:OPAQUE
URL:https://test.apricus-ev.de/component/icagenda/planungstreff-2024?layout
 =vcal
END:VEVENT
END:VCALENDAR
