BEGIN:VCALENDAR
VERSION:2.0
PRODID:-//TEST Apricus e.V.//NONSGML kigkonsult.se iCalcreator 2.41.92//
CALSCALE:GREGORIAN
METHOD:PUBLISH
UID:34663033-3861-4833-b030-613933323630
X-WR-CALNAME:iCagenda
X-WR-CALDESC:Event Management Extension for Joomla!
X-WR-RELCALID:3E26604A-50F4-4449-8B3E-E4F4932D05B5
X-WR-TIMEZONE:Europe/Berlin
BEGIN:VTIMEZONE
TZID:Europe/Berlin
TZUNTIL:20251026T010000Z
BEGIN:STANDARD
TZNAME:CET
DTSTART:20231029T030000
TZOFFSETFROM:+0200
TZOFFSETTO:+0100
RDATE:20241027T030000
END:STANDARD
BEGIN:DAYLIGHT
TZNAME:CEST
DTSTART:20230326T020000
TZOFFSETFROM:+0100
TZOFFSETTO:+0200
RDATE:20240331T020000
RDATE:20250330T020000
END:DAYLIGHT
END:VTIMEZONE
BEGIN:VEVENT
UID:39616461-3938-4861-b062-336435633631
DTSTAMP:20260425T213437Z
CATEGORIES:Treffen
CLASS:PUBLIC
DESCRIPTION;ALTREP="CID:<FFFF__=0ABBE548DFE235B58f9e8a93d@coffeebean.com>":
 Sonntag\, 12.11.: Kurze Wanderung bis zur Einkehr mit anschließendem Planu
 ngstreff beim Kaffee\nNach der längeren Wanderung am Samstag startet der z
 weite Teil unseres Planungswochenendes am Sonntag mit einer kleinen Wander
 ung im nordwestlichen Leipziger Auenwald über den Nahleberg - einer ehemal
 igen Deponie im Stadtteil Möckern\, heute verwildert und für Leute wie uns
  ein Geheimtipp: malerisch umgeben durch Nahle und Neue Luppe inklusive ei
 nem wunderbaren Weitblick über viele Teile der Stadt. Anschließend geht es
  weiter durch den Auenwald bis zum Auensee\, einem kleinen Baggersee im No
 rdwesten der Stadt mit einer „Pionier“-Eisenbahn um den See und schon seit
  vielen Jahrzehnten ein beliebtes Ausflugsziel für Nordleipziger. Am „Haus
  am See“ können wir eine kurze Pause einlegen\, bevor es auf dem Elsterrad
 weg zurück in den Clara-Zetkin-Park geht. Dort kehren wir in den Musikpavi
 llon zum späten Mittagstisch ein.\nAnschließend starten wir um&nbsp\;14:30
 &nbsp\;Uhr unsere Jahresplanung vor Ort und mit einer Zoom-Videokonferenz.
  Wer online dabei sein möchte\, gibt mir bitte Bescheid und erhält dann di
 e Einwahldaten zeitnah.\nEckdaten:\n\nTreffpunkt zur Wanderung: 10:30&nbsp
 \;Uhr Tankbar&nbsp\;/ Herr Kauzig am Straßenbahnhof Angerstraße\nEinkehr i
 m Musikpavillon ca.: 13:30&nbsp\;Uhr\nStart der Planung mit Zoom 14:30&nbs
 p\;Uhr bis max. 16:00&nbsp\;Uhr\n\nWer an einem der beiden Tage dabei sein
  möchte\, meldet sich bitte bei Michael Kraus unter der 0176 31330108 oder
  bei mkraus70@yahoo.de. Die Teilnahme an einer Wanderung kostet für Apricu
 s-Gäste 1€ Versicherungsbeitrag.\nZu eventuell benötigten Übernachtungsmög
 lichkeiten bei Teilnahme an beiden Tagen findet Ihr weitere Informationen 
 in der Veranstaltungsbeschreibung&nbsp\; für Sonnabend.\nAuf ein tolles Pl
 anungs-Wochenende freuen sichMicha und Thomas\n\nJahresplanung 2024\nAuch 
 2024 möchten wir wieder ein umfangreiches Angebot an Touren und Veranstalt
 ungen anbieten.\nDarum fragen wir Euch:\n\nWer hat Lust eine Tour/Veransta
 ltung zu organisieren/anzubieten?\nWer hat Lust eine Tour/Veranstaltung mi
 tzuorganisieren oder zu helfen?\nWer hat Ideen\, was wir denn noch so anbi
 eten können?\n\nSpeziell 1 Projekt sucht noch Leiter bzw. Helfer:\n\nHimme
 lfahrtspaddeln\, egal wo in der Republik\, Hauptsache nass und lustig\n\nM
 eldet Euch mit Euren Ideen/Vorschlägen/Anregungen vor dem Planungstreff da
 zu bei Michael Kraus unter der 0176 31330108 oder bei mkraus70@yahoo.de.
DTSTART:20231112T093000Z
DTEND:20231112T140000Z
GEO:00;0
LOCATION:Leipzig
ORGANIZER:
SEQUENCE:1
SUMMARY:Planungstreff mit Kaffee
TRANSP:OPAQUE
URL:https://test.apricus-ev.de/component/icagenda/planungstreff?layout=vcal
END:VEVENT
END:VCALENDAR
