BEGIN:VCALENDAR
VERSION:2.0
PRODID:-//TEST Apricus e.V.//NONSGML kigkonsult.se iCalcreator 2.41.92//
CALSCALE:GREGORIAN
METHOD:PUBLISH
UID:66363131-3432-4965-b539-613365306638
X-WR-CALNAME:iCagenda
X-WR-CALDESC:Event Management Extension for Joomla!
X-WR-RELCALID:3E26604A-50F4-4449-8B3E-E4F4932D05B5
X-WR-TIMEZONE:Europe/Berlin
BEGIN:VTIMEZONE
TZID:Europe/Berlin
TZUNTIL:20211031T010000Z
BEGIN:STANDARD
TZNAME:CET
DTSTART:20181028T030000
TZOFFSETFROM:+0200
TZOFFSETTO:+0100
RDATE:20191027T030000
RDATE:20201025T030000
END:STANDARD
BEGIN:DAYLIGHT
TZNAME:CEST
DTSTART:20190331T020000
TZOFFSETFROM:+0100
TZOFFSETTO:+0200
RDATE:20200329T020000
RDATE:20210328T020000
END:DAYLIGHT
END:VTIMEZONE
BEGIN:VEVENT
UID:61336362-6533-4635-a131-353132636432
DTSTAMP:20260425T214126Z
CATEGORIES:Radfahren
CLASS:PUBLIC
DESCRIPTION;ALTREP="CID:<FFFF__=0ABBE548DFE235B58f9e8a93d@coffeebean.com>":
 Im Herbst wollen wir\, gemeinsam mit dem ADFC-Leipzig\, die im Südosten vo
 n Sachen-Anhalt gelegene 'Rad-Acht' erkunden. Sie besteht aus 2 Teilen von
  sehr unterschiedlicher Natur - von Weinanbaugebieten bis zu ehemaligen Ta
 gebaulandschaften reicht die Spannweite. Der zentrale Punkt der '8' ist de
 r Naumburger Hauptbahnhof und damit Ausgangs- und Zielort der beiden Teils
 trecken.\nDonnerstag\, der 3.10.\n...ist der Anreisetag. Wir treffen uns i
 n der Jugendherberge Naumburg\, die ca. 3\,5 km vom Hauptbahnhof entfernt 
 ist. Nach dem Abendbrot besteht noch die Möglichkeit\, einen kleinen Abend
 spaziergang in die Innenstadt mit dem bekannten Naumburger Dom zu unterneh
 men.\nAdresse:\nJugendherberge Naumburg\, Am Tennisplatz 9\, 06618 Naumbur
 g\nFreitag\, der 4.10.\nWestteil der Rad-Acht\, ca. 78 km\nNach dem Frühst
 ück begeben wir uns zum Naumburger Hauptbahnhof. Wenn die Radler vom ADFC-
 Leipzig da sind\, kann der Start gegen 09:15 Uhr erfolgen.\nDann führt uns
  der Weg zuerst zum Saaleradweg und nach Nordosten\, vorbei an der Mündung
  der Unstrut in die Saale bis zur 'Henne'. Über die nach der Wende wieder&
 shy\;aufgebaute Brücke queren wir die Saale und fahren auf der anderen Sei
 te wieder zurück zur Unstrutmündung. Von hier dem Unstrutradweg folgend\, 
 geht es am Blütengrund vorbei nach Freyburg. Nördlich des Weges ist die Ne
 uenburg zu sehen.\nWeiter geht es über Bad Bibra\, bevor wir einige Kilome
 ter vor Karsdorf den Unstrutradweg verlassen. Vor Eckartsberga ist zum Mit
 tag eine Einkehr geplant\; nach der Stärkung fahren wir am Irrgarten in Ec
 kartsberga vorbei nach Bad Sulza (einigen wird das von unseren Radwanderta
 gen zu Ostern bekannt sein). Von hier folgen wir dem Ilmradweg über Großhe
 ringen in Richtung Camburg und gelangen so wieder zum Saaleradweg. Nach de
 r Querung der Saale geht es auf diesem 'links herum' durch das schöne Saal
 etal und wir erreichen über Bad Kösen wieder den Startpunkt\, Hauptbahnhof
  in Naumburg.\nSonnabend\, der 5.10.\nOstteil der Rad-Acht\, ca. 86 km\nSt
 artort und -zeit wie am Samstag.Bitte berücksichtigt\, dass es eventuell k
 eine Einkehrmöglichkeit gibt und damit die Verpflegung aus dem Rucksack bz
 w. der Radtasche erfolgt.\nHeute werden wir den Osttel der '8' erkunden. W
 ieder fahren wir zum Saaleradweg\, und folgen ihm in Richtung Osten - bis 
 Weißenfels bleiben wir auf dem Saaleradweg. Dabei kommen wir auch an der S
 chönburg vorbei. Ab Weißenfels geht es über Hohenmölsen zum Mondsee\, der 
 schon zu DDR-Zeiten als Badesee genutzt wurde. Durch altes\, ehemaliges Ta
 gebaugebiet erreichen wir die Brikettfabrik Deuben. Im weiteren Verlauf le
 rnen wir auch Straßen mit dem so beliebten Kopfsteinpflaster kennen. In Kr
 etzschau werden wir rechts auf den Zuckerradweg abbiegen\, der auf der ehe
 maligen Eisenbahnstrecke zwischen Zeitz und Osterfeld entlang führt. Ab Os
 terfeld fahren wir an der Wethau bis zum gleichnamigen Ort. Dort biegen wi
 r erneut rechts in Richtung Naumburg auf den Saaleradweg ab. Von dort erre
 ichen wir nach weiteren 12 km wieder den Naumburger Hauptbahnhof.\nSonntag
 \, der 6.10.\n...ist Abreisetag. Nach dem Frühstück werden wir das Quartie
 r räumen und anschließend die Heimreise antreten.\nPreise\n*) Nachweis bei
 m Organisator vorlegen **) Die Preise für Kinder und Jugendliche sind durc
 h den Verein gestützt / reduziert \n\n\n\n\n\nTN-Gruppe\nApricus\nGäste\n
 \n\n\n\nErwachsene\n\n97\n112\n\n\n15- bis 26-Jährige / Studenten*\n\n87\n
 102\n\n\nKinder und Jugendliche bis 26 Jahre**\n\n77\n83\n\n\n\nIm Preis e
 nthalten sind 3 Übernachtungen mit Halbpension in der Ju&shy\;gend&shy\;he
 rberge sowie die Kurtaxe. Nicht enthalten sind Kosten für Unterwegsverpfle
 gung.\nOrganisatorisches\nMeldeschluss für die Teilnahme mit Übernachtung 
 ist der 06.08.19\, da die Jugend&shy\;her&shy\;berge bis zum 08.08.19 die 
 verbindliche Angabe der Teilnehmerzahl braucht.\nWie immer gelten die Anme
 ldungen nur bei Einzahlung des Teilnehmerbeitrages auf das {loadposition a
 p-kontodaten}\nDie Anmeldung bitte an Thomas\, per Mail unter troeglitz196
 6&lt\;@&gt\;aol.com oder tele&shy\;fonisch unter 0160-97061324.\nMan kann 
 beide Touren auch als Tagestour fahren. Dann kostet die Teilnahme für Gäst
 e 3 €\, für Apricus- oder ADFC-Mitglieder 2 € pro Tag.\nAn- und Abreise na
 ch bzw. von Naumburg müsste sich jeder selbst organisieren.\nAuf 2 sehr sc
 höne Touren freut sich derThomas
DTSTART:20191003T070000Z
DTEND:20191006T150000Z
GEO:00;0
LOCATION:
ORGANIZER:
SEQUENCE:1
SUMMARY:'Rad-Acht'
TRANSP:OPAQUE
URL:https://test.apricus-ev.de/component/icagenda/rad-acht?layout=vcal
END:VEVENT
END:VCALENDAR
