BEGIN:VCALENDAR
VERSION:2.0
PRODID:-//TEST Apricus e.V.//NONSGML kigkonsult.se iCalcreator 2.41.92//
CALSCALE:GREGORIAN
METHOD:PUBLISH
UID:39333936-6436-4966-a634-353837393161
X-WR-CALNAME:iCagenda
X-WR-CALDESC:Event Management Extension for Joomla!
X-WR-RELCALID:3E26604A-50F4-4449-8B3E-E4F4932D05B5
X-WR-TIMEZONE:Europe/Berlin
BEGIN:VTIMEZONE
TZID:Europe/Berlin
TZUNTIL:20230326T010000Z
BEGIN:STANDARD
TZNAME:CET
DTSTART:20201025T030000
TZOFFSETFROM:+0200
TZOFFSETTO:+0100
RDATE:20211031T030000
RDATE:20221030T030000
END:STANDARD
BEGIN:DAYLIGHT
TZNAME:CEST
DTSTART:20210328T020000
TZOFFSETFROM:+0100
TZOFFSETTO:+0200
RDATE:20220327T020000
END:DAYLIGHT
END:VTIMEZONE
BEGIN:VEVENT
UID:63646337-3263-4832-b238-306561376238
DTSTAMP:20260425T213429Z
CATEGORIES:Treffen
CLASS:PUBLIC
DESCRIPTION;ALTREP="CID:<FFFF__=0ABBE548DFE235B58f9e8a93d@coffeebean.com>":
 Liebe Apricusse\,\nes ist wieder soweit: Anfang September findet unsere Ha
 uptversammlung statt. Wir wählen ein neues Präsidium und diskutieren über 
 die Zukunft unseres kleinen aber feinen Vereins. Allerdings wollen wir nic
 ht nur die Köpfe rauchen lassen\, sondern uns auch erholen und die wald- u
 nd seenreiche Landschaft des Naturparks Barnim genießen.\nUnsere Jugendher
 berge befindet sich direkt am Wandlitzsee. Bei schönen Spätsommerwetter bi
 etet sich ein Sprung ins erfrischende Nass an. Wer will\, kann bei der unm
 ittelbar neben der Herberge befindlichen Surfschule gegen eine Gebühr Surf
 bretter oder Stehpaddelboarde ausleihen.\nNach erfolgreicher Hauptversamml
 ung machen wir am Samstag noch eine kleine Ortsbesichtigung\, wenn noch Ze
 it ist. Zum Abendbrot gibt es Gegrilltes. Dann wird es spannend... besser 
 spät als nie holen wir die Auswertung des Jahreswettbewerbs&nbsp\;2020 nac
 h. Anschließend können wir am Lagerfeuer den Abend gemütlich ausklingen la
 ssen.\nAm Sonntag wandern wir durch Wälder und an Seen vorbei zur Senfmanu
 faktur in Klosterfelde. Wenn sich genügend Leute finden\, die statt wander
 n lieber radeln wollen\, ist auch eine spontane Radtour möglich. Nach der 
 Wanderung (oder Radtour) beenden wir unser schönes Spätsommerwochenende un
 d fahren in unsere Heimatorte zurück.\nTreffpunkt am Freitag\nJugendherber
 ge WandlitzPrenzlauer Chaussee 14616348 Wandlitz\nTel.: 033397-22019\nLage
 : ca. 400&nbsp\;m vom Bahnhof Wandlitzsee entfernt\, von dort stündliche Z
 ugverbindung nach Berlin-Karow. Von Karow aus geht es mit der S2 ins Berli
 ner Zentrum.\nLeistungen und Kosten\nEnthalten sind: die Übernachtungen vo
 m Freitag zum Samstag und vom Samstag zum Sonntag sowie Verpflegung vom Fr
 eitagabend bis Sonntagfrüh und der Besuch der Senfmanufaktur (angefragt)\n
 Für Apricus-Mitglieder ist die Veranstaltung kostenfrei. Wir freuen uns ab
 er über Spenden. Gäste wenden sich bitte an Frank.\nRückfragen\nnehmen Fra
 nk Petrovsky (0173 / 813 2345) oder Marianne Arnold per Mail (MarianneA@ap
 ricus-ev.de) gern entgegen.\nAuf ein erholsames\, aber auch produktives\, 
 Wochenende freuen sich\,Marianne und Frank
DTSTART:20210903T080000Z
DTEND:20210905T160000Z
GEO:00;0
LOCATION:im Naturpark Barnim
ORGANIZER:
SEQUENCE:1
SUMMARY:Rad-/Wanderfreizeit mit Hauptversammlung
TRANSP:OPAQUE
URL:https://test.apricus-ev.de/component/icagenda/rad-wanderfreizeit-mit-ha
 uptversammlung?layout=vcal
END:VEVENT
END:VCALENDAR
