BEGIN:VCALENDAR
VERSION:2.0
PRODID:-//TEST Apricus e.V.//NONSGML kigkonsult.se iCalcreator 2.41.92//
CALSCALE:GREGORIAN
METHOD:PUBLISH
UID:64346562-3830-4461-b336-633262336366
X-WR-CALNAME:iCagenda
X-WR-CALDESC:Event Management Extension for Joomla!
X-WR-RELCALID:3E26604A-50F4-4449-8B3E-E4F4932D05B5
X-WR-TIMEZONE:Europe/Berlin
BEGIN:VTIMEZONE
TZID:Europe/Berlin
TZUNTIL:20260329T010000Z
BEGIN:STANDARD
TZNAME:CET
DTSTART:20231029T030000
TZOFFSETFROM:+0200
TZOFFSETTO:+0100
RDATE:20241027T030000
RDATE:20251026T030000
END:STANDARD
BEGIN:DAYLIGHT
TZNAME:CEST
DTSTART:20240331T020000
TZOFFSETFROM:+0100
TZOFFSETTO:+0200
RDATE:20250330T020000
END:DAYLIGHT
END:VTIMEZONE
BEGIN:VEVENT
UID:61653433-3630-4362-b532-653733616363
DTSTAMP:20260425T214124Z
CATEGORIES:Treffen
CLASS:PUBLIC
DESCRIPTION;ALTREP="CID:<FFFF__=0ABBE548DFE235B58f9e8a93d@coffeebean.com>":
 Liebe Apricusse\,\nkommt am 21. und 22.09. ins Havelland zu unserem Rad- u
 nd Wanderwochenende im KiEZ Bollmannsruh! Unsere Unterkunft liegt im Natur
 park Westhavelland\, dem größten Schutzgebiet Brandenburgs. Der (Bade-)Str
 and des Beetzsees befindet direkt vor der Tür. Biber\, Fischotter\, Großtr
 appe und zahlreiche andere Vogelarten wohnen auch in der sehr seenreichen 
 und gut zum Wandern und Radfahren geeigneten Landschaft.\nFür die Wanderun
 g bietet sich bei Interesse die große Runde um den Beetzsee (21&nbsp\;km) 
 oder eine wesentlich kleinere an dessen westlichem Ufer um das Bagower Bru
 ch (ca.&nbsp\;8 km) an. Die Radtour wird etwas länger sein und uns den Kon
 trast zwischen der Stadt Brandenburg\, die zahlreiche historische Bauten a
 ber auch gemütliche Cafés zu bieten hat\, und der beschaulichen Seenlandsc
 haft vor Augen führen. Außerdem können wir uns dort mal wieder treffen und
  gemütlich beisammen sein.\nFür Apricus-Mitglieder:\nNatürlich gibt es auc
 h vor allem die Hauptversammlung am Sonnabend ab 11:00&nbsp\;Uhr. Leider h
 aben wir bisher noch nicht allzu viele Rückmeldungen erhalten. Da wir in d
 en letzten Jahren ein paar mehr Leute geworden sind\, was schön ist\, benö
 tigen wir im Moment mindestens 16 stimmberechtigte Mitglieder\, um die Hau
 ptversammlung durchführen zu können.\nAlso - ich freue mich auf eure Rückm
 eldungen und: Bitte unterschreiben\, sonst sind die Zettel ungültig. Ihr k
 önnt sie per Post schicken\, wie im Schreiben angegeben\, oder auch einsca
 nnen und per E-Mail an frankp@apricus-ev.de senden.\nDie Teilnahme an der 
 Hauptversammlung einschließlich maximal 2 Übernachtungen und Verpflegung F
 reitagabend\, Samstag ganztägig und Sonntag früh ist für Apricus-Mitgliede
 r frei. Verpflegung am Sonntagmittag ist nicht im Preis enthalten. Wir fre
 uen uns über Spenden\, denn so eine Hauptversammlung kostet schon ein biss
 chen Geld...\nFür Nicht-Mitglieder:\nFalls ihr keine Apricus-Mitglieder se
 id\, aber am Rad- und Wanderwochenende teilnehmen wollt\, meldet euch bitt
 e bei mir unter frankp@apricus-ev.de oder 0173-8132345 wegen der anfallend
 en Kosten.\nUnsere Unterkunft:\n\nKiEZ BollmansruhBollmannsruh 13\n14778 P
 äwesin OT Bollmannsruh\n\n\nAnreise per Bahn:aus Richtung Berlin - Potsdam
  oder Magdeburg mit RE 1 bis zum Bahnhof Brandenburg (Havel) dann mit Bus 
 Nr. 558 oder 569 bis Bollmannsruh\, Päwesin. Der Bus fährt ca. 1 mal pro S
 tunde\nWir freuen uns darau\, Euch im Havelland zu sehen\,Marianne und Fra
 nk
DTSTART:20240920T140000Z
DTEND:20240922T160000Z
GEO:00;0
LOCATION:
ORGANIZER:
SEQUENCE:1
SUMMARY:Rad-/Wanderfreizeit mit Hauptversammlung
TRANSP:OPAQUE
URL:https://test.apricus-ev.de/component/icagenda/rad-wanderfreizeit-und-ha
 uptversammlung?layout=vcal
END:VEVENT
END:VCALENDAR
