BEGIN:VCALENDAR
VERSION:2.0
PRODID:-//TEST Apricus e.V.//NONSGML kigkonsult.se iCalcreator 2.41.92//
CALSCALE:GREGORIAN
METHOD:PUBLISH
UID:37326264-3962-4330-b138-383164666237
X-WR-CALNAME:iCagenda
X-WR-CALDESC:Event Management Extension for Joomla!
X-WR-RELCALID:3E26604A-50F4-4449-8B3E-E4F4932D05B5
X-WR-TIMEZONE:Europe/Berlin
BEGIN:VTIMEZONE
TZID:Europe/Berlin
TZUNTIL:20240331T010000Z
BEGIN:STANDARD
TZNAME:CET
DTSTART:20211031T030000
TZOFFSETFROM:+0200
TZOFFSETTO:+0100
RDATE:20221030T030000
RDATE:20231029T030000
END:STANDARD
BEGIN:DAYLIGHT
TZNAME:CEST
DTSTART:20220327T020000
TZOFFSETFROM:+0100
TZOFFSETTO:+0200
RDATE:20230326T020000
END:DAYLIGHT
END:VTIMEZONE
BEGIN:VEVENT
UID:33636264-3939-4235-a238-303436386332
DTSTAMP:20260425T215230Z
CATEGORIES:Absage bzw. Verschiebung
CLASS:PUBLIC
DESCRIPTION;ALTREP="CID:<FFFF__=0ABBE548DFE235B58f9e8a93d@coffeebean.com>":
 Aus gesundheitlichen und organisatorischen Gründen müssen wir dieses Jahr 
 - traurigen Herzens - das Treffen mit den Sternenfreunden in Bräsen und di
 e dazugehörige(n) Radtour(en) absagen.\nWir haben aber auf jeden Fall vor\
 , das ganze 2023 wieder stattfinden zu lassen!
DTSTART:20220827T070000Z
DTEND:20220828T160000Z
GEO:00;0
LOCATION:
ORGANIZER:
SEQUENCE:1
SUMMARY:Radstern(en)fahrt in Bräsen
TRANSP:OPAQUE
URL:https://test.apricus-ev.de/component/icagenda/radsternenfahrt-braesen?l
 ayout=vcal
END:VEVENT
END:VCALENDAR
