BEGIN:VCALENDAR
VERSION:2.0
PRODID:-//TEST Apricus e.V.//NONSGML kigkonsult.se iCalcreator 2.41.92//
CALSCALE:GREGORIAN
METHOD:PUBLISH
UID:61616463-3132-4430-b431-313130336261
X-WR-CALNAME:iCagenda
X-WR-CALDESC:Event Management Extension for Joomla!
X-WR-RELCALID:3E26604A-50F4-4449-8B3E-E4F4932D05B5
X-WR-TIMEZONE:Europe/Berlin
BEGIN:VTIMEZONE
TZID:Europe/Berlin
TZUNTIL:20250330T010000Z
BEGIN:STANDARD
TZNAME:CET
DTSTART:20221030T030000
TZOFFSETFROM:+0200
TZOFFSETTO:+0100
RDATE:20231029T030000
RDATE:20241027T030000
END:STANDARD
BEGIN:DAYLIGHT
TZNAME:CEST
DTSTART:20230326T020000
TZOFFSETFROM:+0100
TZOFFSETTO:+0200
RDATE:20240331T020000
END:DAYLIGHT
END:VTIMEZONE
BEGIN:VEVENT
UID:32646463-6433-4431-b137-323239363231
DTSTAMP:20260425T213430Z
CATEGORIES:Radfahren
CLASS:PUBLIC
DESCRIPTION;ALTREP="CID:<FFFF__=0ABBE548DFE235B58f9e8a93d@coffeebean.com>":
 Zusammen mit der Bürgerrecht.Akademie Leipzig und dem ADFC-Leipzig fahren 
 wir gemeinsam zum Bergbau-Technik-Park im Leipziger Neuseenland\, mit dort
 iger Führung. Wer will\, kann sich auf dessen Internetseite schon einmal e
 inen Eindruck vverschaffen: https://www.bergbau-technik-park.de/.\nFür die
  Führung ist eine Anmeldung bei der VHS Leipzig notwendig Unter folgenden 
 Link kommt Ihr auf die entsprechende Website\, audf der Ihr auch ausführli
 che Infos bekommt: Angebot der VHS Leipzig.\nUm 10:00&nbsp\;Uhr ist Treffp
 unkt an der Sachsenbrücke in Leipzig. Die Strecke wird als Rundkurs gefahr
 en: Sachsenbrücke\, Elsterradweg\, Cospuhdener See\, Gaschwitz\, Bergbau T
 echnik Park\, Markkleeberger See\, Pleiße-Radweg zurück zur Sachsenbrücke.
 \nLänge der Strecke ca. 32&nbsp\;km. Ob so oder anders herum wird am Start
 punkt entschieden.\nAuf eine schöne\, informative und ruhige Radtour freut
  sichThomas
DTSTART:20230624T073000Z
DTEND:20230624T160000Z
GEO:00;0
LOCATION:
ORGANIZER:
SEQUENCE:1
SUMMARY:Radtour Braunkohle
TRANSP:OPAQUE
URL:https://test.apricus-ev.de/component/icagenda/radtour-braunkohle-2?layo
 ut=vcal
END:VEVENT
END:VCALENDAR
