BEGIN:VCALENDAR
VERSION:2.0
PRODID:-//TEST Apricus e.V.//NONSGML kigkonsult.se iCalcreator 2.41.92//
CALSCALE:GREGORIAN
METHOD:PUBLISH
UID:61363133-6434-4238-b466-623664363739
X-WR-CALNAME:iCagenda
X-WR-CALDESC:Event Management Extension for Joomla!
X-WR-RELCALID:3E26604A-50F4-4449-8B3E-E4F4932D05B5
X-WR-TIMEZONE:Europe/Berlin
BEGIN:VTIMEZONE
TZID:Europe/Berlin
TZUNTIL:20270328T010000Z
BEGIN:STANDARD
TZNAME:CET
DTSTART:20241027T030000
TZOFFSETFROM:+0200
TZOFFSETTO:+0100
RDATE:20251026T030000
RDATE:20261025T030000
END:STANDARD
BEGIN:DAYLIGHT
TZNAME:CEST
DTSTART:20250330T020000
TZOFFSETFROM:+0100
TZOFFSETTO:+0200
RDATE:20260329T020000
END:DAYLIGHT
END:VTIMEZONE
BEGIN:VEVENT
UID:38376462-6463-4661-b731-623134313261
DTSTAMP:20260425T213431Z
CATEGORIES:Radfahren
CLASS:PUBLIC
DESCRIPTION;ALTREP="CID:<FFFF__=0ABBE548DFE235B58f9e8a93d@coffeebean.com>":
 Hello liebe Apricusse\,\nam Sonntag dem 6. September lad' ich Euch zu eine
 r gemeinsamen Radtour mit dem ADFC Leipzig und Chemnitz ein:\nDie Tour sta
 rtet in Chemnitz Hbf und führt anfangs an der Chemnitz entlang durch das C
 hemnitztal aus der Stadt heraus. Dann geht es auf der Landstraße nach Roch
 litz\, wo ein Burgbesuch und eine Ortsbegehung ansteht. Eine feste Einkehr
  ist nicht geplant\, es bleibt aber genügend Zeit\, sich zu verpflegen und
  sich dann wieder auf dem Marktplatz zu treffen. Im Ortszentrum gibt es ei
 nige Möglichkeiten zur Verpflegung und für den Toilettenbesuch. Weiter geh
 t es über Bad Lausick\, größtenteils über kleine Landstraßen zum Störmthal
 er und Markkleeberger See (Baden?) und durch den Leipziger Auenwald / Wild
 park bis in die Stadt und zum Hauptbahnhof. Je nach Zeit und Lust kann in 
 Störmthal im Café im Pfarrhaus oder am Markkleeberger See noch eine Pause 
 eingelegt werden.\nDas Ganze ist auch eine Erkundungstour\, weil es eigent
 lich noch keine echte Radverbindung zwischen Chemnitz und Leipzig gibt.\nD
 ie Tour ist keine Rennradtour (aber rennradgeeignet) und auch keine Bummel
 tour. Es gibt ein paar Höhenmeter im Großraum Rochlitz zu überwinden\, abe
 r Chemnitz liegt höher als Leipzig und darum geht es tendenziell eher abwä
 rts. Zum größten Teil wird auf Asphalt oder festem Untergrund gefahren. In
 sgesamt werden wir ca. 88&nbsp\;km fahren.\n\nTreffpunkt in Leipzig: 09:00
  Uhr Hbf\, Gleis 23 – Zug nach Chemnitz fährt 09:20 Uhr\nTreffpunkt in Che
 mnitz: 10:25 Uhr Hbf\, Gleis 5 – da kommt der Zug aus Leipzig an\nRückfahr
 t nach Chemnitz: 19:20 Uhr Leipzig Hbf\, Gleis 23 (ggf. auch 1 Stunde spät
 er/früher)\nKosten: 2€ für Apricus-/ADFC-Mitglieder / 3€ für Gäste – vor O
 rt zu bezahlen\n\nEine Anmeldung für in Leipzig Startende wäre hilfreich\,
  um die Fahrkarte(n) nach Chemnitz zu koordinieren. Dazu bitte bei Michael
  Kraus per Mail an mkraus70@yahoo.de oder unter 0176 31330108 melden.\nAuf
  eine schöne Tour und auf Euch freut sich\,Der Micha
DTSTART:20250906T070000Z
DTEND:20250906T170000Z
GEO:00;0
LOCATION:
ORGANIZER:
SEQUENCE:1
SUMMARY:Radtour Chemnitz - Leipzig
TRANSP:OPAQUE
URL:https://test.apricus-ev.de/component/icagenda/radtour-chemnitz-leipzig-
 4?layout=vcal
END:VEVENT
END:VCALENDAR
