BEGIN:VCALENDAR
VERSION:2.0
PRODID:-//TEST Apricus e.V.//NONSGML kigkonsult.se iCalcreator 2.41.92//
CALSCALE:GREGORIAN
METHOD:PUBLISH
UID:38643130-6434-4635-b531-326265376439
X-WR-CALNAME:iCagenda
X-WR-CALDESC:Event Management Extension for Joomla!
X-WR-RELCALID:3E26604A-50F4-4449-8B3E-E4F4932D05B5
X-WR-TIMEZONE:Europe/Berlin
BEGIN:VTIMEZONE
TZID:Europe/Berlin
TZUNTIL:20231029T010000Z
BEGIN:STANDARD
TZNAME:CET
DTSTART:20211031T030000
TZOFFSETFROM:+0200
TZOFFSETTO:+0100
RDATE:20221030T030000
END:STANDARD
BEGIN:DAYLIGHT
TZNAME:CEST
DTSTART:20220327T020000
TZOFFSETFROM:+0100
TZOFFSETTO:+0200
RDATE:20230326T020000
END:DAYLIGHT
END:VTIMEZONE
BEGIN:VEVENT
UID:64343462-3363-4230-b338-306335396535
DTSTAMP:20260425T213433Z
CATEGORIES:Radfahren
CLASS:PUBLIC
DESCRIPTION;ALTREP="CID:<FFFF__=0ABBE548DFE235B58f9e8a93d@coffeebean.com>":
 Hello liebe Apricusse\,\nam Sonntag dem 10.&nbsp\;April lad' ich Euch zu e
 iner gemeinsamen Radtour mit dem ADFC Chemnitz und Leipzig ein!\nDie Tour 
 startet in Chemnitz Hbf und führt anfangs an der Chemnitz entlang aus der 
 Stadt heraus.Dann geht es auf der Landstraße nach Rochlitz\, wo ein Burgbe
 such und eine Ortsbegehung ansteht. Eine feste Einkehr ist nicht geplant\,
  es bleibt aber genügend Zeit\, sich zu verpflegen und sich dann wieder au
 f dem Marktplatz zu treffen. Im Ortszentrum gibt es einige Möglichkeiten z
 ur Verpflegung und für den Toilettenbesuch.\nWeiter geht es über Bad Lausi
 ck\, größtenteils über kleine Landstraßen zum Störmthaler und Markleeberge
 r See (Anbaden\, wer noch nicht hat?) und durch den Leipziger Auenwald&nbs
 p\;/ Wildpark bis in die Stadt und zum Hauptbahnhof. Je nach Zeit und Lust
  kann in Störmthal oder am Markleeberger See noch eine Pause eingelegt wer
 den.\nDas Ganze ist auch eine Erkundungstour\, weil es eigentlich noch kei
 ne echte Radverbindung zwischen Chemnitz und Leipzig gibt. (Im September f
 ahren wir dann anders herum und erkunden weiter.)\nDie Tour ist keine Renn
 radtour (aber rennradgeeignet) und auch keine Bummeltour. Es gibt ein paar
  Höhenmeter im Großraum Rochlitz zu überwinden\, aber Chemnitz liegt höher
  als Leipzig und darum geht es tendenziell eher abwärts. Zum größten Teil 
 wird auf Asphalt oder festem Untergrund gefahren. Insgesamt werden wir ca.
 &nbsp\;88&nbsp\;km fahren.\nOrganisatorisches\n\nTreffpunkt in Leipzig: 09
 :00 Uhr am Hbf\, Gleis 23 – Zug nach Chemnitz fährt 09:20 Uhr\nTreffpunkt 
 in Chemnitz: 10:25 Uhr am Hbf\, Gleis 5 – da kommt der Zug aus Leipzig an
 \nRückfahrt nach Chemnitz: 19:20 Uhr\, Leipzig Hbf\, Gleis 23 (ggf. auch 1
  Stunde später/früher)\nKosten: 2&nbsp\;€ für Apricus- oder ADFC-Mitgliede
 r&nbsp\;/ 3&nbsp\;€ für Gäste – vor Ort zu zahlen\n\nEine Anmeldung für in
  Leipzig startende wäre hilfreich\, um die Fahrkarte(n) nach Chemnitz zu k
 oordinieren.\nDazu bitte bei Michael Kraus per Mail an mkraus70@yahoo.de o
 der unter 0176-31330108 melden.\nAuf eine schöne Tour und auf Euch freut s
 ichDer Micha.\n&nbsp\;\n\nCorona-Regeln bei Apricus-Veranstaltungen\n{load
 moduleid 135}Entscheidend sind für diese Tour die Bestimmungen des Bundesl
 ands Sachsen.
DTSTART:20220410T070000Z
DTEND:20220410T170000Z
GEO:00;0
LOCATION:
ORGANIZER:
SEQUENCE:1
SUMMARY:Radtour Chemnitz - Leipzig
TRANSP:OPAQUE
URL:https://test.apricus-ev.de/component/icagenda/radtour-chemnitz-leipzig?
 layout=vcal
END:VEVENT
END:VCALENDAR
