BEGIN:VCALENDAR
VERSION:2.0
PRODID:-//TEST Apricus e.V.//NONSGML kigkonsult.se iCalcreator 2.41.92//
CALSCALE:GREGORIAN
METHOD:PUBLISH
UID:31366633-6238-4165-b764-343664653563
X-WR-CALNAME:iCagenda
X-WR-CALDESC:Event Management Extension for Joomla!
X-WR-RELCALID:3E26604A-50F4-4449-8B3E-E4F4932D05B5
X-WR-TIMEZONE:Europe/Berlin
BEGIN:VTIMEZONE
TZID:Europe/Berlin
TZUNTIL:20241027T010000Z
BEGIN:STANDARD
TZNAME:CET
DTSTART:20211031T030000
TZOFFSETFROM:+0200
TZOFFSETTO:+0100
RDATE:20221030T030000
RDATE:20231029T030000
END:STANDARD
BEGIN:DAYLIGHT
TZNAME:CEST
DTSTART:20220327T020000
TZOFFSETFROM:+0100
TZOFFSETTO:+0200
RDATE:20230326T020000
RDATE:20240331T020000
END:DAYLIGHT
END:VTIMEZONE
BEGIN:VEVENT
UID:61363762-3838-4032-a463-376436623935
DTSTAMP:20260425T215227Z
CATEGORIES:Absage bzw. Verschiebung
CLASS:PUBLIC
DESCRIPTION;ALTREP="CID:<FFFF__=0ABBE548DFE235B58f9e8a93d@coffeebean.com>":
 Leider kann die geplante Radtour von Coswig (Anhalt) durch den Hohen Flämi
 ng nach Görzke in diesem Jahr nicht stattfinden. Dafür wird es an diesem T
 ag einen zweiten Versuch für die Radtour von Coswig nach Bad Schmiedeberg 
 geben.\nWir bleiben also in der Region… übrigens auch noch am darauffolgen
 den Sonntag\, an dem eine weitere Etappe des Europäischen Fernwanderwegs E
 11 zwischen Vockerode und Dessau erwandert wird.
DTSTART:20221015T080000Z
DTEND:20221015T160000Z
GEO:00;0
LOCATION:
ORGANIZER:
SEQUENCE:1
SUMMARY:Radtour Coswig – Görzke
TRANSP:OPAQUE
URL:https://test.apricus-ev.de/component/icagenda/radtour-coswig-goerzke?la
 yout=vcal
END:VEVENT
END:VCALENDAR
