BEGIN:VCALENDAR
VERSION:2.0
PRODID:-//TEST Apricus e.V.//NONSGML kigkonsult.se iCalcreator 2.41.92//
CALSCALE:GREGORIAN
METHOD:PUBLISH
UID:31653564-3738-4531-b666-346365383130
X-WR-CALNAME:iCagenda
X-WR-CALDESC:Event Management Extension for Joomla!
X-WR-RELCALID:3E26604A-50F4-4449-8B3E-E4F4932D05B5
X-WR-TIMEZONE:Europe/Berlin
BEGIN:VTIMEZONE
TZID:Europe/Berlin
TZUNTIL:20231029T010000Z
BEGIN:STANDARD
TZNAME:CET
DTSTART:20211031T030000
TZOFFSETFROM:+0200
TZOFFSETTO:+0100
RDATE:20221030T030000
END:STANDARD
BEGIN:DAYLIGHT
TZNAME:CEST
DTSTART:20220327T020000
TZOFFSETFROM:+0100
TZOFFSETTO:+0200
RDATE:20230326T020000
END:DAYLIGHT
END:VTIMEZONE
BEGIN:VEVENT
UID:32346235-3932-4163-b063-393737316133
DTSTAMP:20260425T215725Z
CATEGORIES:Radfahren
CLASS:PUBLIC
DESCRIPTION;ALTREP="CID:<FFFF__=0ABBE548DFE235B58f9e8a93d@coffeebean.com>":
 Die Radtour am Samstag\, 02.04.2022 startet am Bahnhof Coswig/Anhalt (Nett
 o Parkplatz). Treffzeit ist 10:30&nbsp\;Uhr\, beide Züge&nbsp\;- aus Witte
 nberg wie auch aus Dessau&nbsp\;- werden abgewartet.\nIm Abschnitt Stackel
 itz über die Wüstung Schleesen – Golmenglin und Grimme bis Bärenthoren erw
 artet uns ein besonders ausgedehntes und abwechslungsreiches Waldgebiet mi
 t zum Teil auch sehr alten Baumbeständen. In Grimme werden wir die romanis
 che Flämingkirche besuchen\, die in ihrem Inneren einige Sehenswürdigkeite
 n versteckt und insgesamt recht schön ausgestattet ist\, einige barocke Ma
 lereien wurden restauriert.\nEs wird teilweise auf unbefestigten Wald- und
  Feldwegen gefahren\, einige Straßenabschnitte gibt es auch. Schlauchreife
 n sind aber grundsätzlich nicht zu empfehlen. Die gesamte Radelstrecke ist
  ca. 62&nbsp\;km lang\, nach etwa zwei Dritteln der Strecke ist eine Einke
 hr auf eigene Kosten in Garitz zum Mittagessen geplant (bitte die dann gel
 tenden Corona-Bedingungen beachten). Auf dem Rückweg nach der Einkehr in G
 aritz werden wir auch einen Einkaufsstopp am Forellenhof in Thießen einpla
 nen.\nOrganisatorisches\nEine Anmeldung vorab ist ratsam\, um die Einkehr 
 in Garitz entsprechend planen zu können.\nNähere Auskünfte und Anmeldungen
  bei Torsten Hammer unter thapricus@aol.com oder telefonisch unter 034903-
 189761 (auch AB nutzen!).\nGäste zahlen neben den Kosten ihrer Verpflegung
  einen Nichtmitgliederbeitrag in Höhe von 1&nbsp\;€ für den Tag. Für Apric
 us-Mitglieder entstehen keine Teilnehmerkosten außerhalb der Verpflegung.
 \n&nbsp\;\n\nCorona-Regeln bei Apricus-Veranstaltungen\n{loadmoduleid 135}
 \nMaßgeblich für diese Tour sind die Regelungen der Landkreise Wittenberg 
 und Anhalt-Bitterfeld (beide Sachsen-Anhalt) - achtet insbesondere auf eve
 ntuell notwendige Test- oder sonstige Nachweise und Regelungen für die Gas
 tronomie. Auskunft darüber erteilen die Landkreise auch auf ihren Internet
 seiten.
DTSTART:20220402T080000Z
DTEND:20220402T160000Z
GEO:00;0
LOCATION:
ORGANIZER:
SEQUENCE:1
SUMMARY:Radtour Coswig - Grimme
TRANSP:OPAQUE
URL:https://test.apricus-ev.de/component/icagenda/radtour-coswig-grimme?lay
 out=vcal
END:VEVENT
END:VCALENDAR
