BEGIN:VCALENDAR
VERSION:2.0
PRODID:-//TEST Apricus e.V.//NONSGML kigkonsult.se iCalcreator 2.41.92//
CALSCALE:GREGORIAN
METHOD:PUBLISH
UID:38376331-3735-4230-b433-383038323439
X-WR-CALNAME:iCagenda
X-WR-CALDESC:Event Management Extension for Joomla!
X-WR-RELCALID:3E26604A-50F4-4449-8B3E-E4F4932D05B5
X-WR-TIMEZONE:Europe/Berlin
BEGIN:VTIMEZONE
TZID:Europe/Berlin
TZUNTIL:20260329T010000Z
BEGIN:STANDARD
TZNAME:CET
DTSTART:20231029T030000
TZOFFSETFROM:+0200
TZOFFSETTO:+0100
RDATE:20241027T030000
RDATE:20251026T030000
END:STANDARD
BEGIN:DAYLIGHT
TZNAME:CEST
DTSTART:20240331T020000
TZOFFSETFROM:+0100
TZOFFSETTO:+0200
RDATE:20250330T020000
END:DAYLIGHT
END:VTIMEZONE
BEGIN:VEVENT
UID:35633362-3462-4562-b561-623034376231
DTSTAMP:20260425T214124Z
CATEGORIES:Radfahren
CLASS:PUBLIC
DESCRIPTION;ALTREP="CID:<FFFF__=0ABBE548DFE235B58f9e8a93d@coffeebean.com>":
 Radtour in den Frühling durch Elbaue und Heide-Wälder nach Bad Düben - Sam
 stag\, 27.04.\nDie verschobene&nbsp\;(ursprünglich: 18.8.) und anstelle de
 r Görzke-Tour geplante Radeltour führt uns zunächst durch das frühlingshaf
 te Elbauengebiet von Coswig über die Fähre nach Wörlitz und durch idyllisc
 he Dörfer\, an Oranienbaum und Ferropolis vorbei\, mit einem Stück Skulptu
 renpfad\, nach Gräfenhainichen. Hier legen wir einen kurzen Stopp ein\, um
  uns mit evtl. hier dazustoßenden Mitradlern zu treffen\, die nicht die ko
 mplette Strecke radeln wollen oder können. Ankunft aus Coswig ca. 11:00&nb
 sp\;Uhr\, Ankunft der Züge aus Leipzig oder Berlin jeweils etwa halb zwölf
 . Die 'Wartezeit'\, je nachdem wer wann ankommt\, kann mit kleiner Stadtbe
 sichtigung oder Eisschlecken überbrückt werden.\nWeiter geht es zum nächst
 en See\, ein Stück am Gröberner See entlang\, durch Krina\, hier werden wi
 r übrigens auch einen 'Mittelpunkt' (nicht der DDR) besuchen. Entweder hie
 r oder spätestens dann in Bad Düben werden wir uns beim Mittagessen stärke
 n. In Bad Düben soll außerdem die Burg mit Landschaftsmuseum unser Ziel se
 in.\nAuf dem Rückweg halten wir uns nördlich auf Rad- und Waldwegen oder k
 leineren Straßen durch die Wälder der Düberner Heide in Richtung Ochsenkop
 f (Kaffeepause ?). Von hier ist es nicht weit zurück nach Gräfenhainichen 
 (für die Richtung Süden-) oder nach Bergwitz (für die nach Norden Fahrende
 n). Ansonsten radeln wir über Bergwitz schließlich nach Wittenberg als off
 izielle Endstation.\n\nTreffpunkt: 27.04. um 9:45&nbsp\;Uhr in Coswig an d
 er Fähreoder gegen 11:00 …11:30&nbsp\;Uhr in Gräfenhainichen\nStreckenläng
 e ab Coswig nach Bad Düben und zurück nach Wittenberg: ca. 85&nbsp\;… 90&n
 bsp\;kmab/bis Gräfenhainichen ca. 50&nbsp\;… 55&nbsp\;km\nKosten: für Gäst
 e 1€ (enthält Versicherungsschutz)\nAnmeldung: nicht zwingend notwendig\, 
 aber wünschenswert\, an Andreas Koch\, a.koch-coswig@t-online.de oder 0151
 -57534833\n\nAuf ein schönes Radeln durch den Frühling mit Euch freut sich
 \,Andreas/Tesi
DTSTART:20240427T080000Z
DTEND:20240427T170000Z
GEO:00;0
LOCATION:
ORGANIZER:
SEQUENCE:1
SUMMARY:Radtour in der Dübener Heide
TRANSP:OPAQUE
URL:https://test.apricus-ev.de/component/icagenda/radtour-duebener-heide-2?
 layout=vcal
END:VEVENT
END:VCALENDAR
