BEGIN:VCALENDAR
VERSION:2.0
PRODID:-//TEST Apricus e.V.//NONSGML kigkonsult.se iCalcreator 2.41.92//
CALSCALE:GREGORIAN
METHOD:PUBLISH
UID:30646330-3038-4939-a264-653539323039
X-WR-CALNAME:iCagenda
X-WR-CALDESC:Event Management Extension for Joomla!
X-WR-RELCALID:3E26604A-50F4-4449-8B3E-E4F4932D05B5
X-WR-TIMEZONE:Europe/Berlin
BEGIN:VTIMEZONE
TZID:Europe/Berlin
TZUNTIL:20270328T010000Z
BEGIN:STANDARD
TZNAME:CET
DTSTART:20241027T030000
TZOFFSETFROM:+0200
TZOFFSETTO:+0100
RDATE:20251026T030000
RDATE:20261025T030000
END:STANDARD
BEGIN:DAYLIGHT
TZNAME:CEST
DTSTART:20250330T020000
TZOFFSETFROM:+0100
TZOFFSETTO:+0200
RDATE:20260329T020000
END:DAYLIGHT
END:VTIMEZONE
BEGIN:VEVENT
UID:64336139-3466-4863-a139-653333343433
DTSTAMP:20260425T231943Z
CATEGORIES:Radfahren
CLASS:PUBLIC
DESCRIPTION;ALTREP="CID:<FFFF__=0ABBE548DFE235B58f9e8a93d@coffeebean.com>":
 Schlösser und Burgen im Süden von Leipzig\nAuf unserer ca. 60&nbsp\;km lan
 gen Fahrradtour werden wir Schlösser\, Burgen und Ruinen im Süden von Leip
 zig erkunden. Diese werden heutzutage in unterschiedlicher Art und Weise g
 enutzt.\nNach kurzer Begrüßung starten wir in den Süden von Leipzig. Am Wi
 ldpark vorbei kommen wir zum Cospudener See. In der Nähe liegt das Schloß 
 Zöbigker Markkleeberg\, das heute als Wohnraum genutzt wird.. An der Ostse
 ite vom Zwenkauer See entlang und nach kurzer Stadtdurchfahrt erreichen wi
 r die Stadtverwaltung von Zwenkau\, die im Schloss untergebracht ist.\nAuf
  der zum Radweg umgebauten Bahnstrecke von Zwenkau nach Groitzsch\, steuer
 n wir kurz das Schloß Audigast an. Dieses wird ebenfalls als Wohnraum genu
 tzt\, weswegen es nicht besichtbar ist. Am Stadtrand von Groitzsch liegt d
 ie Ruine Wiprechtsburg. Die Überreste sind frei zugänglich.\nDurch die Els
 teraue erreichen wir Pegau. Dort werden wir eine größere Pause einlegen. B
 itte bringt etwas für's Picknick mit\, da es unsicher ist\, ob wir die Mög
 lichkeit haben\, eine Gaststätte zu besuchen. Nach der Stärkung fahren wir
  auf dem Elsteradweg am Sender Wiederau vorbei zum Schloß Wiederau\, das i
 m Privatbesitz ist. Weiter am Zwenkauer See entlang\, treten wir die Rückr
 eise zur Sachsenbrücke in Leipzig an.\nGebühr für ADFC- und Apricus-Mitgli
 eder\, sowie mit Ehrenamtpass Leipzig: 2€ - für alle anderen: 3€.\nAuf ein
 e schöne Radtour freut sichder Thomas
DTSTART:20250920T073000Z
DTEND:20250920T160000Z
GEO:00;0
LOCATION:
ORGANIZER:
SEQUENCE:1
SUMMARY:Radtour im Süden von Leipzig
TRANSP:OPAQUE
URL:https://test.apricus-ev.de/component/icagenda/radtour-im-sueden-von-lei
 pzig?layout=vcal
END:VEVENT
END:VCALENDAR
