BEGIN:VCALENDAR
VERSION:2.0
PRODID:-//TEST Apricus e.V.//NONSGML kigkonsult.se iCalcreator 2.41.92//
CALSCALE:GREGORIAN
METHOD:PUBLISH
UID:35343035-3534-4337-b330-613264643563
X-WR-CALNAME:iCagenda
X-WR-CALDESC:Event Management Extension for Joomla!
X-WR-RELCALID:3E26604A-50F4-4449-8B3E-E4F4932D05B5
X-WR-TIMEZONE:Europe/Berlin
BEGIN:VTIMEZONE
TZID:Europe/Berlin
TZUNTIL:20260329T010000Z
BEGIN:STANDARD
TZNAME:CET
DTSTART:20231029T030000
TZOFFSETFROM:+0200
TZOFFSETTO:+0100
RDATE:20241027T030000
RDATE:20251026T030000
END:STANDARD
BEGIN:DAYLIGHT
TZNAME:CEST
DTSTART:20240331T020000
TZOFFSETFROM:+0100
TZOFFSETTO:+0200
RDATE:20250330T020000
END:DAYLIGHT
END:VTIMEZONE
BEGIN:VEVENT
UID:32303237-6361-4264-a563-666532666539
DTSTAMP:20260425T221102Z
CATEGORIES:Radfahren
CLASS:PUBLIC
DESCRIPTION;ALTREP="CID:<FFFF__=0ABBE548DFE235B58f9e8a93d@coffeebean.com>":
 am Sonntag den 26.05.2024 geht es von Königs-Wusterhausen Richtung Spreewa
 ld. Zuerst auf dem Hofjagdradweg\, später auf dem Gurkenradweg.\nDer Hofja
 gdweg verbindet die berlinnahe Region im Südosten Berlins mit dem Naturpar
 k Dahme-Heideseen und dem Spreewald und führt an historischen Orten preußi
 scher Hofjagdgesellschaften des 18.&nbsp\;und 19.&nbsp\;Jahrhunderts vorbe
 i. Ab Königs Wusterhausen geht es fast ausnahmslos über Felder und Wiesen\
 , vorbei an Seen und durch Heidelandschaften bis man den Unterspreewald mi
 t den Spreewalddörfern Groß Wasserburg und Krausnick erreicht. Ab Schlepzi
 g geht es weiter durch das einzigartige Fließlabyrinth des Spreewaldes bis
  nach Lübben und von dort aus direkt an der Spree bis zum Zielort Lübbenau
 .\nTreffpunkt: kurz nach 9:00&nbsp\;Uhr\, Bahnhof Königs Wusterhausen\nAnr
 eise: RE2 von Berlin Hauptbahnhof ab 8:23&nbsp\;Uhr\, Königs Wusterhausen 
 an 09:03&nbsp\;Uhr\nRückfahrt: etwa halbstündlich von Lübbenau nach Berlin
  (Fahrzeit bis Hauptbahnhof eine gute Stunde)\n\nDie Strecke ist etwa 75&n
 bsp\;km lang.(Bei Wunsch kann auch um 10&nbsp\;km gekürzt werden\, Tourend
 e wäre dann in Lübben.)\nBitte Verpflegung mitbringen\, ein Gaststättenbes
 uch ist nicht geplant.\nGäste zahlen wie immer einen Versicherungsbeitrag 
 von 1&nbsp\;€.\n\nAnmeldung bitte bis 24.05.2024 unter markus.grabolle@gma
 il.com oder 01577-9414660\nBis dann\,Markus
DTSTART:20240526T080000Z
DTEND:20240526T160000Z
GEO:00;0
LOCATION:
ORGANIZER:
SEQUENCE:1
SUMMARY:Radtour Königs Wusterhausen - Lübbenau
TRANSP:OPAQUE
URL:https://test.apricus-ev.de/component/icagenda/radtour-kw-luebbenau?layo
 ut=vcal
END:VEVENT
END:VCALENDAR
