BEGIN:VCALENDAR
VERSION:2.0
PRODID:-//TEST Apricus e.V.//NONSGML kigkonsult.se iCalcreator 2.41.92//
CALSCALE:GREGORIAN
METHOD:PUBLISH
UID:66373863-3762-4236-b435-353761643938
X-WR-CALNAME:iCagenda
X-WR-CALDESC:Event Management Extension for Joomla!
X-WR-RELCALID:3E26604A-50F4-4449-8B3E-E4F4932D05B5
X-WR-TIMEZONE:Europe/Berlin
BEGIN:VTIMEZONE
TZID:Europe/Berlin
TZUNTIL:20241027T010000Z
BEGIN:STANDARD
TZNAME:CET
DTSTART:20211031T030000
TZOFFSETFROM:+0200
TZOFFSETTO:+0100
RDATE:20221030T030000
RDATE:20231029T030000
END:STANDARD
BEGIN:DAYLIGHT
TZNAME:CEST
DTSTART:20220327T020000
TZOFFSETFROM:+0100
TZOFFSETTO:+0200
RDATE:20230326T020000
RDATE:20240331T020000
END:DAYLIGHT
END:VTIMEZONE
BEGIN:VEVENT
UID:65623234-3731-4333-b536-633163616436
DTSTAMP:20260425T213431Z
CATEGORIES:Radfahren
CLASS:PUBLIC
DESCRIPTION;ALTREP="CID:<FFFF__=0ABBE548DFE235B58f9e8a93d@coffeebean.com>":
 Die Tour führt uns zunächst zum Schlosspark Lützschena. Das Schloss selbst
  ist zwar keine Besichtigung wert\, der wunderschöne Park des Ritterguts L
 ützschena aber sehr wohl. Er ist im Stil eines englischen Landschaftsparks
  angelegt. Bei einem Spaziergang kann man die Landschaft des Auwaldes geni
 eßen und am Flusslauf von Elster und Luppe entlanggehen. Die geschlungene 
 Wegführung bildet mit dem Park und der Auenwald-Landschaft eine harmonisch
 e Einheit. Auf Inseln oder kleinen Erhebungen im Park findest du prunkvoll
 e\, kleine Tempel.\nWeiter geht es dann auf dem Elsterradweg bis nach Dies
 kau zum dortigen Schloss mit Schlosspark. Der malerische Park entstand End
 e des 18.&nbsp\;Jh. Neben mehreren Teichen und Kanälen gehörten verschiede
 ne Parkbauten und Denkmäler zur Ausstattung. Einige davon - wie das Chines
 ische Teehaus\, der Obelisk und die Flora-Statue - wurden nachgebildet und
  bereichern nun wieder die Anlage. Zum Ensemble gehören das ursprünglich i
 m Renaissance-Stil erbaute Schloss und die erneuerte Barockkirche St. Anna
 .\nHier machen wir auch Mittagspause draußen mit Mitgebrachtem. Kurz vor D
 ieskau kommen wir an einem Supermarkt vorbei\, wo wir noch was dafür einka
 ufen können.\nNach der Pause fahren wir am Wallendorfer See entlang bis zu
 r Schleusenruine Wüsteneutzsch. 1920 wurde der Bau des Elster-Saale-Kanals
  beschlossen. In einem 1926 abgeschlossenen Staatsvertrag zur Vollendung d
 es Mittellandkanals wurde ausdrücklich der gleichzeitige Baubeginn und die
  Fertigstellung dieser auch als Südflügel des Mittellandkanals bezeichnete
 n Wasserstraße festgelegt. 1933 begannen bei Burghausen die Arbeiten am Ka
 nal. Zur Überwindung des Höhenunterschieds zur Saale war eine Schleusentre
 ppe mit zwei Schleusen bei Wüsteneutzsch geplant. Die Schleusen waren als 
 Sparschleuse projektiert. Die Schleusenkammern sollten eine Länge von 85 M
 etern\, eine Breite von 12 Metern sowie eine Drempeltiefe von drei Metern 
 haben und entsprächen somit in ihren Abmessungen den Anforderungen zur Sch
 leusung von Schiffen bis 1000&nbsp\;Tonnen Tragfähigkeit.\nNach kurzer Bes
 ichtigungspause fahren wir am Elster-Saale Kanal weiter zum Bienitz-Wald u
 nd dann zurück zum ADFC-Home. Hinweis: Toilettenbesuche sind anfangs am Ha
 us am Auensee und dann erst wieder im Löwencenter Rückmarsdorf möglich. Ei
 nkehren sind nicht geplant. Kurz vor Schloss Dieskau kommen wir an einem S
 upermarkt vorbei (s.o.). Wenn das Wetter nicht mitspielt\, können wir aber
  auch improvisieren und bei Dieskau einen Imbiss aufsuchen.\n\nTreffpunkt:
  10:00&nbsp\;Uhr in der ADFC-Geschäftsstelle\, Ranstädter Steinweg 1\nEnde
 : ca. 18:30 Uhr\, selber Ort\nKosten: 2€ für Apricus-/ADFC Mitglieder\, 3€
  für Gäste\nLänge: ca. 73 km\nUntergrund: teilweise unbefestigte Wege\n\nA
 nmeldung (nicht erforderlich) und Infos bei Michael Kraus – 0176 31330108 
 – michael.kraus@adfc-leipzig.de\nMan sieht sich im Leipziger Nordwesten!De
 r Micha
DTSTART:20221029T080000Z
DTEND:20221029T163000Z
GEO:00;0
LOCATION:
ORGANIZER:
SEQUENCE:1
SUMMARY:Leipziger Nordwesten
TRANSP:OPAQUE
URL:https://test.apricus-ev.de/component/icagenda/radtour-leipzig-nw?layout
 =vcal
END:VEVENT
END:VCALENDAR
