BEGIN:VCALENDAR
VERSION:2.0
PRODID:-//TEST Apricus e.V.//NONSGML kigkonsult.se iCalcreator 2.41.92//
CALSCALE:GREGORIAN
METHOD:PUBLISH
UID:64666665-3131-4230-b631-396566373133
X-WR-CALNAME:iCagenda
X-WR-CALDESC:Event Management Extension for Joomla!
X-WR-RELCALID:3E26604A-50F4-4449-8B3E-E4F4932D05B5
X-WR-TIMEZONE:Europe/Berlin
BEGIN:VTIMEZONE
TZID:Europe/Berlin
TZUNTIL:20250330T010000Z
BEGIN:STANDARD
TZNAME:CET
DTSTART:20221030T030000
TZOFFSETFROM:+0200
TZOFFSETTO:+0100
RDATE:20231029T030000
RDATE:20241027T030000
END:STANDARD
BEGIN:DAYLIGHT
TZNAME:CEST
DTSTART:20230326T020000
TZOFFSETFROM:+0100
TZOFFSETTO:+0200
RDATE:20240331T020000
END:DAYLIGHT
END:VTIMEZONE
BEGIN:VEVENT
UID:66313235-3463-4334-b433-646532376366
DTSTAMP:20260425T231640Z
CATEGORIES:Radfahren
CLASS:PUBLIC
DESCRIPTION;ALTREP="CID:<FFFF__=0ABBE548DFE235B58f9e8a93d@coffeebean.com>":
 Pödelwitz - ein Dorf im Strukturwandel\nLeipzig liegt mitten im Mitteldeut
 schen Braunkohlerevier\, Kohleabbau und Kohlekraft prägen seit langer Zeit
  die Region. Fortschritt und Wohlstand\, aber auch Umweltzerstörung und Um
 siedlungen sind Teil dieser Geschichte. Der Kohleausstieg birgt Herausford
 erungen und Chancen. Pödelwitz\, ein vor der Umsiedelung gerettetes Dorf\,
  versucht den Strukturwandel zu meistern.\nDie Bürgerechts.Akademie der Vo
 lkshochschule Leipzig lädt gemeinsam mit dem ADFC Leipzig\, dem Verein 'Pö
 delwitz hat Zukunft' und Apricus e.V. zu einer Fahrradtour nach Pödelwitz 
 und Schauplätzen des Kohleabbaus ein.\nIn Pödelwitz gibt es nach der Dorff
 ührung eine Pause mit Kaffee\, Tee und einigen Kleinigkeiten im Bürgerhaus
 . Trotzdem bitte für ausreichend Verpflegung nach individuellem Bedarf sor
 gen.\nDie Tour endet offiziell in Neukieritzsch und beträgt ca. 40 km. Von
  dort aus erfolgt eine individuelle Rückreise (mit der S-Bahn oder als Gru
 ppe mit dem Rad).\nAnmeldungen sind nicht erforderlich.\nKontakt: Thomas S
 tark\, Tel: 0160 97061324
DTSTART:20230513T073000Z
DTEND:20230513T160000Z
GEO:00;0
LOCATION:
ORGANIZER:
SEQUENCE:1
SUMMARY:Radtour Leipzig - Pödelwitz
TRANSP:OPAQUE
URL:https://test.apricus-ev.de/component/icagenda/radtour-leipzig-poedelwit
 z?layout=vcal
END:VEVENT
END:VCALENDAR
