BEGIN:VCALENDAR
VERSION:2.0
PRODID:-//TEST Apricus e.V.//NONSGML kigkonsult.se iCalcreator 2.41.92//
CALSCALE:GREGORIAN
METHOD:PUBLISH
UID:34616662-6564-4631-b261-623834303339
X-WR-CALNAME:iCagenda
X-WR-CALDESC:Event Management Extension for Joomla!
X-WR-RELCALID:3E26604A-50F4-4449-8B3E-E4F4932D05B5
X-WR-TIMEZONE:Europe/Berlin
BEGIN:VTIMEZONE
TZID:Europe/Berlin
TZUNTIL:20201025T010000Z
BEGIN:STANDARD
TZNAME:CET
DTSTART:20181028T030000
TZOFFSETFROM:+0200
TZOFFSETTO:+0100
RDATE:20191027T030000
END:STANDARD
BEGIN:DAYLIGHT
TZNAME:CEST
DTSTART:20190331T020000
TZOFFSETFROM:+0100
TZOFFSETTO:+0200
RDATE:20200329T020000
END:DAYLIGHT
END:VTIMEZONE
BEGIN:VEVENT
UID:31346563-3130-4234-b939-306237623430
DTSTAMP:20260425T215711Z
CATEGORIES:Radfahren
CLASS:PUBLIC
DESCRIPTION;ALTREP="CID:<FFFF__=0ABBE548DFE235B58f9e8a93d@coffeebean.com>":
 Liebe Apricusse und -innen\,\nam Sonntag den 7.4. laden ich und der ADFC L
 eipzig euch zu einer kleinen und spannenden Radtour in und bei Leipzig ein
 . Dabei wird es heftig ?\, denn wir erkunden die „Berge“ in der Umgebung.
 \nAber keine Angst! Der höchste Berg in Leipzig ist der Monarchenhügel mit
  159 m kurz vor dem bekannten Fockeberg mit 153 m. Im Umland ist der Kohle
 berg bei Brandis mit 179 m noch höher\, aber noch lange nichts\, wovor wir
  Angst haben müssten. Neben dem Radeln erfahrt ihr auch viel zur Geschicht
 e der Berge\, die vom Müll entsorgen über die Völkerschlacht und dem Kohle
 abbau bis zur Vorgeschichte reicht.\nOrganisatorisches:\n\nStart: 10:00 Uh
 r Leipzig Hbf Westeingang\nEinkehr: ca. 12:00 Uhr Imbiss (draußen) auf der
  Bistumshöhe (am Aussichtsturm)\,evtl. Kaffee kurz vor oder am Ziel.Am bes
 ten ein paar Kleinigkeiten zum Picknicken mitbringen.\nZiel: ca. 17:30 Uhr
  in BeuchaHier fährt der Zug nach Leipzig immer zur Minute 43 - und erreic
 ht zur Minute 00 Leipzig.\n\nFür Gäste kostet die Teilnahme 3 €.Für Apricu
 s- oder ADFC-Mitglieder 2 €.\nEine Anmeldung ist nicht notwendig – wäre ab
 er nett. Dann bitte eine Mail an mkraus70&lt\;@&gt\;yahoo.de oder unter 01
 76-31330108 melden.\nAuf eine Hammer-Bergtour und auf Euch freut sichder M
 icha
DTSTART:20190407T080000Z
DTEND:20190407T160000Z
GEO:00;0
LOCATION:
ORGANIZER:
SEQUENCE:1
SUMMARY:Radtour 'Leipziger Berge'
TRANSP:OPAQUE
URL:https://test.apricus-ev.de/component/icagenda/radtour-leipziger-berge?l
 ayout=vcal
END:VEVENT
END:VCALENDAR
