BEGIN:VCALENDAR
VERSION:2.0
PRODID:-//TEST Apricus e.V.//NONSGML kigkonsult.se iCalcreator 2.41.92//
CALSCALE:GREGORIAN
METHOD:PUBLISH
UID:33613566-6334-4131-b737-656637313537
X-WR-CALNAME:iCagenda
X-WR-CALDESC:Event Management Extension for Joomla!
X-WR-RELCALID:3E26604A-50F4-4449-8B3E-E4F4932D05B5
X-WR-TIMEZONE:Europe/Berlin
BEGIN:VTIMEZONE
TZID:Europe/Berlin
TZUNTIL:20251026T010000Z
BEGIN:STANDARD
TZNAME:CET
DTSTART:20231029T030000
TZOFFSETFROM:+0200
TZOFFSETTO:+0100
RDATE:20241027T030000
END:STANDARD
BEGIN:DAYLIGHT
TZNAME:CEST
DTSTART:20240331T020000
TZOFFSETFROM:+0100
TZOFFSETTO:+0200
RDATE:20250330T020000
END:DAYLIGHT
END:VTIMEZONE
BEGIN:VEVENT
UID:32343765-3664-4739-a633-333639316637
DTSTAMP:20260426T003207Z
CATEGORIES:Absage bzw. Verschiebung
CLASS:PUBLIC
DESCRIPTION;ALTREP="CID:<FFFF__=0ABBE548DFE235B58f9e8a93d@coffeebean.com>":
 Liebe Apricüsse und Gäste\,\ndie für Sonntag\, 14.04. geplante Radtour nac
 h Görzke wird verschoben\, da wir ja erst zu Ostern dort in der Gegend war
 en und auch wegen vermutlich nur weniger Mitradler. Dafür soll am Samstag\
 , 27.04\,. die ursprünglich deutlich später geplante Tour nach Bad Düben s
 tattfinden (volle Strecke ca. 90 ... 100km\, Abkürzungen möglich ab / bis 
 Gräfenhainichen z.B.). Die Ausschreibung folgt in Kürze.\nViele Grüße aus 
 Coswig\,Andreas
DTSTART:20240414T073000Z
DTEND:20240414T160000Z
GEO:00;0
LOCATION:
ORGANIZER:
SEQUENCE:1
SUMMARY:Radtour nach Görzke
TRANSP:OPAQUE
URL:https://test.apricus-ev.de/component/icagenda/radtour-nach-goerzke-2?la
 yout=vcal
END:VEVENT
END:VCALENDAR
