BEGIN:VCALENDAR
VERSION:2.0
PRODID:-//TEST Apricus e.V.//NONSGML kigkonsult.se iCalcreator 2.41.92//
CALSCALE:GREGORIAN
METHOD:PUBLISH
UID:39396461-3961-4236-b336-373733383764
X-WR-CALNAME:iCagenda
X-WR-CALDESC:Event Management Extension for Joomla!
X-WR-RELCALID:3E26604A-50F4-4449-8B3E-E4F4932D05B5
X-WR-TIMEZONE:Europe/Berlin
BEGIN:VTIMEZONE
TZID:Europe/Berlin
TZUNTIL:20220327T010000Z
BEGIN:STANDARD
TZNAME:CET
DTSTART:20191027T030000
TZOFFSETFROM:+0200
TZOFFSETTO:+0100
RDATE:20201025T030000
RDATE:20211031T030000
END:STANDARD
BEGIN:DAYLIGHT
TZNAME:CEST
DTSTART:20200329T020000
TZOFFSETFROM:+0100
TZOFFSETTO:+0200
RDATE:20210328T020000
END:DAYLIGHT
END:VTIMEZONE
BEGIN:VEVENT
UID:63623636-3663-4261-b035-373031386633
DTSTAMP:20260425T221203Z
CATEGORIES:Radfahren
CLASS:PUBLIC
DESCRIPTION;ALTREP="CID:<FFFF__=0ABBE548DFE235B58f9e8a93d@coffeebean.com>":
 Liebe Apricusse und Gäste\,\nobwohl schon am Sonntag die Tour durch die Ca
 lauer Schweiz gefahren wird\, möchten wir euch alternativ zu einer Radtour
  in die Dübener Heide einladen. Durch das Corona-Frühjahr drängeln sich je
 tzt leider die Veranstaltungen...\nWir starten um 10:00 Uhr an der Fähre i
 n Coswig (Anhalt) und fahren zunächst über Wörlitz und Oranienbaum bis Gol
 tewitz überwiegend auf der Staße\, nach Jüdenberg dann ruhiger durch den W
 ald. An Ferropolis geht es diesmal nur vorbei. In Gräfenhainichen am Bahnh
 of können wir uns etwa um 12 Uhr mit denen treffen\, die direkt aus Richtu
 ng Wittenberg / Kemberg dazustoßen wollen.\nWeiter geht es überwiegend auf
  Rad- und Waldwegen zur mitten im Wald gelegenen Waldschänke Jösigk - früh
 er stand hier die Breitewitzer Mühle\, und im Sumpfgebiet des Jösigk wurde
  Torf gestochen. Idyllisch gelegen kann man heute sich hier am Wochenende 
 köstlich stärken\, zumindest wenn offen ist... \;)&nbsp\; Wenn nicht\, dan
 n suchen wir uns für die Mittagseinkehr eine andere Gaststätte (z.B. in Sc
 hköna). Die tatsächlichen Öffnungszeiten der Waldschänke erfahre ich erst 
 am Donnerstag (dann nochmal kurze Info dazu).\nZurück geht es wieder erst 
 mal durch den Wald\, zumindest teilweise auf Radwegen Richtung Radis. Über
  kleine Elbauendörfer gelangen wir wieder nach Wörlitz und zurück zur Fähr
 e.\n\nLänge der Tour: ca. 75 km\n\nKosten:\nGäste zahlen einen Euro Versic
 herungsbeitrag vor Ort.\nAnsonsten trägt jeder seine Kosten für Fahrt und 
 Verpflegung selbst. Die Fährkosten (Fährzeiten bis etwa 20:45 Uhr) betrage
 n für die Tageskarte 3\,00 € hin und zurück.\nAnmeldung:\n...nicht zwingen
 d erforderlich\, aber wünschenswert zwecks Anmeldung in der Gaststätte!\nD
 aher Anmeldungen gern schon bis Donnerstag bei Andreas Koch - telefonisch:
  034903 48874 oder 0151 57534833 oder per E-Mail an: a.koch-coswig@t-onlin
 e.de\nAuf eine schöne Radtour freuen sichAndreas und die anderen Coswiger
DTSTART:20200906T080000Z
DTEND:20200906T170000Z
GEO:00;0
LOCATION:
ORGANIZER:
SEQUENCE:1
SUMMARY:Radtour nach Jösigk / Dübener Heide
TRANSP:OPAQUE
URL:https://test.apricus-ev.de/component/icagenda/radtour-nach-joesigk-dueb
 ener-heide?layout=vcal
END:VEVENT
END:VCALENDAR
