BEGIN:VCALENDAR
VERSION:2.0
PRODID:-//TEST Apricus e.V.//NONSGML kigkonsult.se iCalcreator 2.41.92//
CALSCALE:GREGORIAN
METHOD:PUBLISH
UID:65313864-3634-4865-b530-333162633833
X-WR-CALNAME:iCagenda
X-WR-CALDESC:Event Management Extension for Joomla!
X-WR-RELCALID:3E26604A-50F4-4449-8B3E-E4F4932D05B5
X-WR-TIMEZONE:Europe/Berlin
BEGIN:VTIMEZONE
TZID:Europe/Berlin
TZUNTIL:20261025T010000Z
BEGIN:STANDARD
TZNAME:CET
DTSTART:20241027T030000
TZOFFSETFROM:+0200
TZOFFSETTO:+0100
RDATE:20251026T030000
END:STANDARD
BEGIN:DAYLIGHT
TZNAME:CEST
DTSTART:20240331T020000
TZOFFSETFROM:+0100
TZOFFSETTO:+0200
RDATE:20250330T020000
RDATE:20260329T020000
END:DAYLIGHT
END:VTIMEZONE
BEGIN:VEVENT
UID:31336437-6537-4766-b231-346366393665
DTSTAMP:20260425T214124Z
CATEGORIES:Radfahren
CLASS:PUBLIC
DESCRIPTION;ALTREP="CID:<FFFF__=0ABBE548DFE235B58f9e8a93d@coffeebean.com>":
 Dieses Jahr wollen wir mal wieder eine schöne herbstliche Tradition aufleb
 en lassen und als Abradeltour zu den Kranichen nach Linum fahren. Das letz
 te Mal\, dass wir die Tour unternommen haben\, ist schon über 10 Jahre her
  - Zeit also\, sie einmal wieder zu fahren.\nLinum liegt auf einem schmale
 n Höhenzug zwischen Rhin- und Havelländischem Luch\, dem Ländchen Bellin. 
 Das Rhinluch ist in der letzten Eiszeit entstanden. Dabei hat sich in den 
 Niederungen des Eberswalder Urstromtales eine Niedermoorlandschaft gebilde
 t. Bis vor 350 Jahren war hier ein unzugängliches Gebiet und vor allem unt
 er Friedrich Wilhelm\, dem Soldatenkönig\, wurde das Land entwässert und u
 rbar gemacht. Im 19. Jahrhundert konnte in der Region reichlich Torf zum H
 eizen für die Berliner gewonnen werden. Im Herbst und im Frühjahr rasten i
 n Linum Zehntausende von Wildgänsen und Kranichen im angrenzenden Teichlan
 d\, dem größten binnenländischen Kranichrastplatz Mitteleuropas.\nAn einem
  hoffentlich sonnig-herbstlichen Samstagmorgen treffen wir uns und fahren 
 mit dem Zug von Berlin nach Nauen. Dort satteln wir auf unsere Räder um un
 d fahren in ländlich-idyllischer Umgebung und auf ruhigen Straßen ca. zwei
  Stunden durch das Havelländische Luch nach Linum. Bei früheren Touren kon
 nten wir schon auf dem Weg dorthin zahlreiche Kraniche auf den abgeerntete
 n Feldern beobachten. Zur Mittagszeit kehren wir in das Landgasthaus „Stor
 chenklause“ ein\, was mit ländlich-herbstlicher Kost aufwartet. Wer Lust h
 at\, wirft danach noch einen Blick in den gegenüberliegenden „Rixmanns Hof
 “ und kann dort aus hunderten Kürbissen von Baby Boo\, über Pink Banana\, 
 Sweet Mama bis hin zu Heart of Gold seinen persönlichen Favoriten wählen. 
 Oft gibt es gleich ein tolles Rezept dazu. Nach dieser Verschnaufpause kön
 nen wir noch bei gutem Wetter und Zeit zur Fischerhütte an den Teichen fah
 ren und dort die einfliegenden Kraniche beobachten bzw. zum Aussichtspunkt
  an den abendlichen Kranichrastplätzen ein kurzes Stück wandern. Nach dem 
 Kranich-Sightseeing fahren wir auf etwas anderen Wegen zurück nach Nauen\,
  von wo es mit der Bahn zurückgeht.\nOrganisatorisches\nBringt bitte warme
  Sachen und ggf. heißen Tee mit\, da es oftmals morgens und abends recht k
 alt sein kann. Wer hat - gern auch ein Fernglas. Bei Regen wird die Tour n
 icht stattfinden!\nTreffpunkt ist um 11&nbsp\;Uhr am Bahnhof Nauen...\n...
 von Berlin aus empfiehlt sich dann die Fahrt mit der RB10 (ab Südkreuz 10:
 02&nbsp\;Uhr über Potsdamer Platz\, Hbf. 10:12&nbsp\;Uhr\, Jungfernheide 1
 0:17&nbsp\;Uhr\, Spandau 10:25&nbsp\;Uhr\, ..\, Ankunft Nauen um 10:51&nbs
 p\;Uhr) oder mit dem RE8 (ab Flughafen BER über Oskreuz 10:03&nbsp\;Uhr\, 
 Ostbahnhof\, Alexanderplatz 10:11&nbsp\;Uhr\, Friedrichstraße\, Hbf. 10:20
 &nbsp\;Uhr\, Zoologischer Garten\, Spandau\, ..\, Ankunft Nauen um 10:54&n
 bsp\;Uhr).\nLänge der Tour: ca. 50 - 55 Kilometer\nEine Anmeldung ist nich
 t unbedingt notwendig\, aber für die Tischreservierung in der Storchenklau
 se wünschenswert. Meldet Euch am besten bis zum 27.10. bei Marianne Arnold
  (MarianneA@apricus-ev.de oder 0171-8396692).\nWie immer zahlen Gäste 1€ f
 ür die Sportversicherung.\nAuf eine schöne Herbsttour freuen sich\,Mariann
 e und Frank\n\n&nbsp\;\nP.S.: Die Tourenbeschreibung entspricht weitgehend
  einer älteren Version von Anke Meißner (es passte einfach alles). Vielen 
 Dank!
DTSTART:20241103T083000Z
DTEND:20241103T170000Z
GEO:00;0
LOCATION:
ORGANIZER:
SEQUENCE:1
SUMMARY:Radtour nach Linum
TRANSP:OPAQUE
URL:https://test.apricus-ev.de/component/icagenda/radtour-nach-linum?layout
 =vcal
END:VEVENT
END:VCALENDAR
