BEGIN:VCALENDAR
VERSION:2.0
PRODID:-//TEST Apricus e.V.//NONSGML kigkonsult.se iCalcreator 2.41.92//
CALSCALE:GREGORIAN
METHOD:PUBLISH
UID:30313734-3963-4330-b565-643531323138
X-WR-CALNAME:iCagenda
X-WR-CALDESC:Event Management Extension for Joomla!
X-WR-RELCALID:3E26604A-50F4-4449-8B3E-E4F4932D05B5
X-WR-TIMEZONE:Europe/Berlin
BEGIN:VTIMEZONE
TZID:Europe/Berlin
TZUNTIL:20210328T010000Z
BEGIN:STANDARD
TZNAME:CET
DTSTART:20181028T030000
TZOFFSETFROM:+0200
TZOFFSETTO:+0100
RDATE:20191027T030000
RDATE:20201025T030000
END:STANDARD
BEGIN:DAYLIGHT
TZNAME:CEST
DTSTART:20190331T020000
TZOFFSETFROM:+0100
TZOFFSETTO:+0200
RDATE:20200329T020000
END:DAYLIGHT
END:VTIMEZONE
BEGIN:VEVENT
UID:37646164-3836-4861-b735-613836306565
DTSTAMP:20260425T232536Z
CATEGORIES:Radfahren
CLASS:PUBLIC
DESCRIPTION;ALTREP="CID:<FFFF__=0ABBE548DFE235B58f9e8a93d@coffeebean.com>":
 2019 heißt es für mich – und vielleicht für einige von euch – wieder mal: 
 Ab auf die Insel! Auch wenn Großbritannien gerade unruhige Zeiten durchmac
 ht und wir noch nicht wissen\, wie es nach einem Brexit aussieht\, oder ob
  es den denn gibt\, lade ich euch zu einer Urlaubsradtour in den Norden En
 glands ein - wobei wir einmal von Ost nach West und dann andersrum wieder 
 zurückfahren werden.\nWichtigste Eckpunkte auf der Tour sind zunächst einm
 al Hull\, wo das Schiff aus Rotterdam eintrifft\, sowie der Zielort Newcas
 tle\, wo in der Nähe der „Hadrian's Wall“ beginnt\, der England von Ost na
 ch West vom Norden trennt. Der römische Kaiser Hadrian ließ ihn damals bau
 en\, um die kleinen aber hartnäckig nervigen Scharen aufmüpfiger Schotten 
 aufzuhalten\, ohne gleich in einen Krieg ziehen zu müssen. Oder hatte es n
 och andere Gründe? Wir werden Gelegenheit haben\, uns das mal vor Ort anzu
 sehen.\nNach dem Start in Hull fahren wir erstmal ein fehlendes Stück der 
 letzten Englandtour (da hatten wir den Zug ge­nutzt) nach Norden Rich­tung
  Whitby und ins Küsten­dörf­chen Staithes. Von hier aus geht es auf einige
 n größeren und lo­kalen Cycleways in west­licher Richtung zu­nächst nach H
 arrogate - mit dem dann gerade laufen­den „Harrogate Mu­sic Festi­val“. Vo
 n dort aus können wir einen Ab­stecher ins nah gelegene York machen. Die i
 noffizielle Hauptstadt Nordenglands ist unbedingt einen Besuch wert\, um d
 ie vielen historischen Stätte – vor Allem aber das York Minster – eine bee
 indruckende Kathedrale und Englands größte Mittelalterliche Kirche – zu be
 suchen. Weiter geht es nach Lancaster – eine der wichtigsten Hafenstädte d
 es Mittelalters an Englands Westküste – mit einem von Normannen gebauten C
 astle aus dem 12.&nbsp\;Jahr­hundert.\nHier können wir uns nach Lust und L
 aune entscheiden\, einen Abstecher auf die „Isle of Man“ zu machen\, eine 
 Insel in der Irischen See\, die als autonomer Kronbesitz direkt der britis
 chen Krone unterstellt\, jedoch weder Teil des Königreichs noch des britis
 chen Überseegebiets ist. Des Weiteren stellt sie ein gesondertes Rechtssub
 jekt dar und ist kein Mitglied der Europäischen Union. Bekannt ist sie als
  Steueroase sowie für das Motorradrennen „Isle of Man TT“. Dann geht es zu
 rück an die Ostküste über Whitehaven\, dem westlichen Ende des Hadrianwall
 s und dem Startpunkt des Hadrian's Wall Cycleway\, der uns über Carlisle u
 nd Hexham nach Newcastle führt. Dabei erfährt man an vielen Orten eine Men
 ge über die Historie der Mauer und der Menschen\, die damals und bis heute
  auf beiden Seiten leb(t)en.\nInsgesamt ist die Tour nicht festgelegt. Nur
  der erste Campingplatz (siehe Treffpunkt) steht fest. Alles andere darf g
 ern der Zufall oder Lust und Laune bestimmen - mehr Details später und vor
  Allem wenn sich das mit dem Brexit irgendwie geklärt hat!\nWichtig: Falls
  der Brexit etwas härter wird\, werden wir einen Reisepass benötigen. Bitt
 e schaut\, dass euer Pass zu der Zeit gültig ist bzw. besorgt euch erstmal
  einen (so wie ich).\nOrganisatorisches\nTreffpunkt:\n\nAlle\, die die org
 anisierte An- und Abreise mitmachen\, treffen sich irgendwie am Donnerstag
  den 11.7. im IC Berlin – Hannover - Amsterdam oder - wenn sie es anders b
 ewerkstelligen - in Hoek van Holland am Schiff der P&amp\;O nach Hull.\nWe
 r komplett anders nach England anreist\, begibt sich am 12.7. zum „Centena
 ry Way Camping &amp\; Caravan Park“ (siehe 1. ÜN)\, ca. 60 km nördlich vom
  Hafen in Hull entfernt\, wo die organisierte Gruppe am Nachmittag / Abend
  eintrifft.\n\nErste Übernachtung\nhttp://centenarywaycamping.co.uk/ Musto
 n Grange\, Muston Rd\, Filey\, North Yorkshire\, YO14 0HU\nÜbernachtungen:
 \nSofern möglich\, werden wir zelten. Da es in England nicht immer Zeltplä
 tze gibt\, werden wir auch zwei-\, dreimal in eine Herberge oder ein B&amp
 \;B&nbsp\;/ Guesthouse gehen. Vielleicht machen wir das auch\, wenn das We
 tter nicht so mitspielt wie 2016. (Ich ruf' aber vorher nochmal oben an \;
 -) )\nOrganisierte Anreise\, Donnerstag 11.Juli:\nWir organisieren die Anr
 eise mit dem Zug bis Rotterdam und dann mit dem Schiff nach Hull. Das Schi
 ff legt in Hoek van Holland ca. 21:00&nbsp\;Uhr ab (kann aber früher erobe
 rt werden).\nOrganisierte Abreise\, Sonntag 28.Juli:\nDas Schiff von Newca
 stle&nbsp\;/ North Shields nach Ijmuiden legt 17:00&nbsp\;Uhr ab. Am nächs
 ten Morgen radeln wir ein paar Kilometer bis Amsterdam und treten die Heim
 reise per Zug an.\nAlternative Anreise und Abreise:\nWer sich erst später 
 anmeldet\, oder nicht mit dem Schiff fahren will\, muss die An- und Abreis
 e selbst organisieren. Nach Hull kommt man am ehesten von den Londoner Flu
 ghäfen. Newcastle Airport wird von Hannover oder Berlin angeflogen. Alles 
 andere dürfte eine organisatorische Herausforderung werden.\nWichtig: Wer 
 alternativ anreist\, sollte Freitag den 12.Juli entweder ca. 10&nbsp\;Uhr 
 am Hafen in Hull eintreffen\, oder später auf dem ersten Campingplatz zu u
 ns stoßen (siehe Treffpunkt).\nPreise:\n\n\nTN-GruppeFrühbucher ** (s.u.)N
 ormalpreis\nA-MitgliedGästeA-MitgliedGäste\n\nErwachsene\n300 €\n325 €\n32
 0 €\n345 €\n\n\nErmäßigt&nbsp\;/ Hartz4-Empfänger\n270 €\n295 €\n290 €\n31
 5 €\n\n\nKinder&nbsp\;/ Jugendliche bis 26 J\, Studenten *\n240 €\n265 €\n
 260 €\n285 €\n\n\n\n*) weitere Altersklassen auf Anfrage **) Frühbucher gi
 lt bis zum 24.03.2019\, Anmeldeschluss 05.05.2019 ***) Sollte erkennbar et
 was zu viel in der Kasse sein\, springen gern ein paar Pubbesuche raus ?\n
 Im Preis enthalten sind:\n\nalle Übernachtungen\, egal ob im Zelt oder übe
 rdacht\nlokale Fährkosten in England\nteilweise kulturelle Einrichtungen&n
 bsp\;/ Besuche\n\nNicht im Preis enthalten sind:\n\nAn- und Abreise. Die o
 rganisieren wir zwar\, die Bezahlung machen wir aber separat. Rechnet da m
 al mit ca. 300&nbsp\;€ für die beiden Schiffspassagen und die Zugkosten na
 ch und von Holland.\nBewirtung. Da müssen wir uns schon selbst was jagen u
 nd sammeln.\n\nWie immer gilt die Anmeldung nur bei gleichzeitiger Einzahl
 ung des Teilnehmerbeitrages auf das Apricus-Konto.\nAnmeldung:\nBitte meld
 et euch bei mkraus70&lt\;@&gt\;yahoo.de. oder unter der Telefonnummer 0176
 -31330108 an.\nGebt bei der Anmeldung bitte auch an:\n\nob ihr an der orga
 nisierten An- und Abreise teilnehmen möchtet\nob ihr ein eigenes Zelt mitb
 ringt oder Platz in einer WG sucht\nob und mit welchen Koch-/Ess-Utensilie
 n ihr ausgestattet seid\n\nBei Fragen könnt ihr euch gern an mich oder an 
 Heiko (heiko.griebsch&lt\;@&gt\;web.de) wenden.\nMitbringen:\n\nZelt\, Sch
 lafsack\, Matte und sonstiges zum Zelten (auf Anfrage versuchen wir gern\,
  Zelt-WGs zu vermitteln)\nKoch- und Essutensilien (Das versuchen wir auch 
 abzugleichen\, damit wir nicht zu viel mitbringen.)\nSachen für jedes Wett
 er (kann nicht jedes Jahr Jahrhundertsommer werden)\nReisepass – sofern de
 r Brexit nicht ausfällt oder extrem weich ausfällt\nAuslandskrankenversich
 erung – sofern das nicht über die eigene Krankenkasse abgedeckt ist (Unter
 schiede bei EU- / Nicht-EU-Ausland). Oder lieber generell\, weil wir ja ni
 cht wissen\, welchen Brexit wir bekommen.\n\nAlso dann: Auf England\, auf 
 einen neuerlichen tollen Sommer\, auf's Links-Radeln und natürlich auf euc
 h freuen sich Micha und Heiko.
DTSTART:20190711T060000Z
DTEND:20190729T150000Z
GEO:00;0
LOCATION:
ORGANIZER:
SEQUENCE:1
SUMMARY:Radtour Nordengland und 'Hadrian's Wall'
TRANSP:OPAQUE
URL:https://test.apricus-ev.de/component/icagenda/radtour-nordengland-und-h
 adrian-s-wall?layout=vcal
END:VEVENT
END:VCALENDAR
