BEGIN:VCALENDAR
VERSION:2.0
PRODID:-//TEST Apricus e.V.//NONSGML kigkonsult.se iCalcreator 2.41.92//
CALSCALE:GREGORIAN
METHOD:PUBLISH
UID:32663965-3535-4232-b236-633261343563
X-WR-CALNAME:iCagenda
X-WR-CALDESC:Event Management Extension for Joomla!
X-WR-RELCALID:3E26604A-50F4-4449-8B3E-E4F4932D05B5
X-WR-TIMEZONE:Europe/Berlin
BEGIN:VTIMEZONE
TZID:Europe/Berlin
TZUNTIL:20220327T010000Z
BEGIN:STANDARD
TZNAME:CET
DTSTART:20191027T030000
TZOFFSETFROM:+0200
TZOFFSETTO:+0100
RDATE:20201025T030000
RDATE:20211031T030000
END:STANDARD
BEGIN:DAYLIGHT
TZNAME:CEST
DTSTART:20200329T020000
TZOFFSETFROM:+0100
TZOFFSETTO:+0200
RDATE:20210328T020000
END:DAYLIGHT
END:VTIMEZONE
BEGIN:VEVENT
UID:36366362-3036-4161-b661-313233633038
DTSTAMP:20260425T221216Z
CATEGORIES:Radfahren
CLASS:PUBLIC
DESCRIPTION;ALTREP="CID:<FFFF__=0ABBE548DFE235B58f9e8a93d@coffeebean.com>":
 Liebe Apricusse und Gäste\,\ndas dumme\, kleine Virus hat uns ja den Apric
 us-Kalender gehörig durcheinander gebracht. Jetzt schauen wir aber positiv
  auf den Sommer und freuen uns der Aktivitäten\, die uns erwarten und die 
 uns möglich sein werden.\nSo wie es derzeit aussieht\, können wir im Somme
 r zu unseren polnischen Nachbarn fahren und wie geplant die Radtour um das
  Stettiner Haff in Angriff nehmen. Die Tour startet in Grambin\, nahe Ueck
 ermünde\, wo wir uns am Freitag den 7.8. auf dem Campingplatz treffen.\nVo
 n hier aus starten wir im Uhrzeigersinn. Zunächst durchqueren wir den Ankl
 amer Stadtbruch und das untere Peenetal\, bevor wir die Halbinseln Usedom 
 und Wollin erreichen und dabei in/bei Swinemünde auch mal an die richtige 
 Ostsee kommen. Ab hier wird die Tour frei und wir fahren je nach Zeit und 
 Wetter die Ostseite des Stettiner Haffs entlang und machen immer mal wiede
 r Abstecher ins ruhige Hinterland der Wojewodschaft Westpommern und&nbsp\;
 / oder steuern auch interessante Ziele abseits des Haffs an.\nEtwa am 2.&n
 bsp\;Freitag oder Samstag erreichen wir dann die große Hafenstadt und Haup
 tstadt Westpommerns Szczecin\, die wir gern näher erkunden können.\nZusatz
 information / Plan B:\nFalls die Corona-Vorschriften dann doch einen Polen
 -Besuch verhindern\, können wir mit gleichem Start (Grambin) und Ziel (Uec
 kermünde) eine Tour auf der deutschen Seite des Haffs und der Oder sowie d
 er Peene machen.\nDie ganze Tour ist ca. 350 bis 400 km lang. Hier ein ext
 rem grober Kartenausschnitt:\n\nÜbernachtung:Generell wird gezeltet auf Ze
 lt-/Campingplätzen oder dort wo Platz ist und wir uns niederlassen dürfen.
  Bei ganz schlechtem Wetter können wir auch mal in einer Herberge übernach
 ten.Treffpunkt:Freitag\, 7.&nbsp\;August ab 16:00&nbsp\;UhrErste Übernacht
 ung und endgültiger Treffpunkt ist der Campingplatz in Grambin. Dieser bef
 indet sich nahe Ueckermünde\, wo eine Regionalbahn hinfährt.Anreise:Nicht 
 im Teilnehmerpreis enthalten ist die Anreise per Zug und Rad. Ich organisi
 ere aber gern die Anreise per Zug nach Jatznick (letzter Bahnhof für das B
 randenburg-Berlin-Ticket) und von dort die 30&nbsp\;km per Rad nach Grambi
 n.Abreise:Die offizielle Abreise erfolgt ab Ueckermünde. Nach einem kleine
 n Stadtrundgang und Abschiedskaffee nehmen wir hier 15:01&nbsp\;Uhr die Re
 gionalbahn Richtung Pasewalk und dann den RE nach Berlin. (Die Abreise ist
  ebenfalls nicht im Preis enthalten und kann auch anders und individuell e
 rfolgen.)\nTeilnehmerpreis:\n*) Nachweis beim Organisator vorlegen \n\n\n
 \n\n\nTN-Gruppe\nApricus\nGäste\n\n\n\n\nErwachsene\n\n190\n220\n\n\nErmäß
 igt / Hartz-IV-Empfänger*\n\n170\n200\n\n\nSchüler\, Studenten\, Jugendlic
 he bis 26 J.\n\n150\n180\n\n\nKinder 7 - 14 Jahre\n\n130\n160\n\n\nKinder 
 4 - 6 Jahre\n\n100\n130\n\n\n\nIm Preis enthalten sind:\n\nalle Übernachtu
 ngen\, egal ob im Zelt oder überdacht\nlokale Fährkosten auf der Tour\ntei
 lweise Eintritt für kulturelle Einrichtungen&nbsp\;/ Besuche\n\nNicht im P
 reis enthalten sind:\n\nAn- und Abreise\nEssen und Trinken\n\nMitbringen:
 \n\nCampingutensilien (Zelt\, Schlafsack\, Matte\, etc.\nKoch- und Essgerä
 tschaften\nFahrrad\, Luftpumpe und Flickzeug\n\n\nAnmeldung:\nBitte meldet
  euch bei&nbsp\;mkraus70@yahoo.de oder unter der Telefonnummer 0176-313301
 08 an.\nWie immer gilt die Anmeldung nur bei gleichzeitiger Einzahlung des
  Teilnehmerbeitrages auf das {loadmoduleid 114}\nGebt bei der Anmeldung bi
 tte auch an:\n\nob ihr an der organisierten An- und Abreise teilnehmen möc
 htet.\nob ihr ein eigenes Zelt mitbringt oder Platz in einer WG sucht.\nob
  und mit welchen Koch-/Ess-Utensilien ihr ausgestattet seid.\n\nAuf eine s
 chöne\, sportliche und erlebnisreiche Tour und auf Euch freut sich\nDer Mi
 cha
DTSTART:20200807T140000Z
DTEND:20200817T130000Z
GEO:00;0
LOCATION:
ORGANIZER:
SEQUENCE:1
SUMMARY:Sommer-Radtour um das Stettiner Haff
TRANSP:OPAQUE
URL:https://test.apricus-ev.de/component/icagenda/radtour-stettiner-haff-wo
 llin?layout=vcal
END:VEVENT
END:VCALENDAR
