BEGIN:VCALENDAR
VERSION:2.0
PRODID:-//TEST Apricus e.V.//NONSGML kigkonsult.se iCalcreator 2.41.92//
CALSCALE:GREGORIAN
METHOD:PUBLISH
UID:37633431-6237-4234-a263-323338653765
X-WR-CALNAME:iCagenda
X-WR-CALDESC:Event Management Extension for Joomla!
X-WR-RELCALID:3E26604A-50F4-4449-8B3E-E4F4932D05B5
X-WR-TIMEZONE:Europe/Berlin
BEGIN:VTIMEZONE
TZID:Europe/Berlin
TZUNTIL:20231029T010000Z
BEGIN:STANDARD
TZNAME:CET
DTSTART:20201025T030000
TZOFFSETFROM:+0200
TZOFFSETTO:+0100
RDATE:20211031T030000
RDATE:20221030T030000
END:STANDARD
BEGIN:DAYLIGHT
TZNAME:CEST
DTSTART:20210328T020000
TZOFFSETFROM:+0100
TZOFFSETTO:+0200
RDATE:20220327T020000
RDATE:20230326T020000
END:DAYLIGHT
END:VTIMEZONE
BEGIN:VEVENT
UID:37383730-6133-4566-a431-656536646331
DTSTAMP:20260425T232410Z
CATEGORIES:Absage bzw. Verschiebung
CLASS:PUBLIC
DESCRIPTION;ALTREP="CID:<FFFF__=0ABBE548DFE235B58f9e8a93d@coffeebean.com>":
 Aus organisatorischen Gründen wird die geplante Radtour von Coswig&nbsp\;(
 Anhalt) nach Garrey / Rädigke verschoben (an diesem Wochenende ist die Bah
 nanreise nach Belzig für Berliner wegen Bauarbeiten nicht möglich).\nAnste
 lle dessen bieten wir eine Woche vorher (am 10.10.) eine zusätzliche Radto
 ur durch den Fläming am Naturparktag an.
DTSTART:20211017T080000Z
DTEND:20211017T160000Z
GEO:00;0
LOCATION:
ORGANIZER:
SEQUENCE:1
SUMMARY:Radtour von Coswig nach Garrey
TRANSP:OPAQUE
URL:https://test.apricus-ev.de/component/icagenda/radtour-von-coswig-nach-g
 arrey?layout=vcal
END:VEVENT
END:VCALENDAR
