BEGIN:VCALENDAR
VERSION:2.0
PRODID:-//TEST Apricus e.V.//NONSGML kigkonsult.se iCalcreator 2.41.92//
CALSCALE:GREGORIAN
METHOD:PUBLISH
UID:61656365-3136-4163-a334-356361363366
X-WR-CALNAME:iCagenda
X-WR-CALDESC:Event Management Extension for Joomla!
X-WR-RELCALID:3E26604A-50F4-4449-8B3E-E4F4932D05B5
X-WR-TIMEZONE:Europe/Berlin
BEGIN:VTIMEZONE
TZID:Europe/Berlin
TZUNTIL:20270328T010000Z
BEGIN:STANDARD
TZNAME:CET
DTSTART:20241027T030000
TZOFFSETFROM:+0200
TZOFFSETTO:+0100
RDATE:20251026T030000
RDATE:20261025T030000
END:STANDARD
BEGIN:DAYLIGHT
TZNAME:CEST
DTSTART:20250330T020000
TZOFFSETFROM:+0100
TZOFFSETTO:+0200
RDATE:20260329T020000
END:DAYLIGHT
END:VTIMEZONE
BEGIN:VEVENT
UID:31303464-3361-4235-a666-363033383261
DTSTAMP:20260425T221233Z
CATEGORIES:Radfahren
CLASS:PUBLIC
DESCRIPTION;ALTREP="CID:<FFFF__=0ABBE548DFE235B58f9e8a93d@coffeebean.com>":
 Hallo liebe Apricusse und Gäste\,\nam Pfingstmontag den 09.Juni ist in Sac
 hsen-Anhalt mal wieder Mühlentag und dazu unternehmen wir eine Radtour im 
 Fläming zwischen Bergwitz\, Coswig und Dessau und werden uns unterwegs ein
 e echte Wassermühle anschauen.\nDie Anreise findet mit dem RE ab Berlin Hb
 f. - 08:32 Uhr - oder der S-Bahn ab Leipzig Hbf. - 09:48 Uhr - bis Bergwit
 z statt.\nIn Bergwitz umrunden wir erstmal den Bergwitzsee. Danach radeln 
 wir weiter bis in den Wörlitzer Park\, wo wir die Räder am „Kiosk am Flora
 tempel“ stehen lassen und auf eigene Faust den Schlosspark erkunden bzw. e
 inen Mittagssnack einnehmen können/werden. Dafür nehmen wir uns 2 Stunden 
 Zeit.\nGut erholt und genährt geht es weiter mit der Fähre über die Elbe n
 ach Coswig\, wo wir bei Andreas Koch klingeln werden und er uns die Wasser
 mühle zeigen und erklären wird. Entweder trinken wir da noch einen Kaffee 
 und/oder holen uns einen Kaffee und ein Eis am Eiscafé am Schlossplatz.\nD
 ie letzte Etappe führt uns dann an alten Elb-Armen und Vogelschutzbereiche
 n vorbei und über die Autobahnbrücke bei Vockerode bis nach Dessau\, wo wi
 r geplant nach 19:00&nbsp\;Uhr die Rückreise mit der S-Bahn oder dem RE an
 treten. Falls noch ausreichend Zeit ist\, können wir kurz vorm Ziel\, im D
 essauer Stadtwald noch im Forsthaus Leiner Berg auf ein Feierabendgetränk 
 vorbeischauen.\nTreffpunkt/Anreise:\n\n09:30&nbsp\;Uhr Leipzig Hbf. vor de
 n Rolltreppen zur S-Bahn (S-Bahn fährt 09:48)\n10:46&nbsp\;Uhr am Bahnhof 
 Bergwitz (Berliner warten hier auf die Leipziger)\nIn Berlin Hbf. fährt de
 r RE 08:32 Uhr und erreicht (nach Umstieg in Wittenberg) Bergwitz 10:10 Uh
 r\n\nRückfahrt:\n\n19:05&nbsp\;Uhr ab Dessau nach Berlin\n19:20&nbsp\;Uhr 
 ab Dessau nach Leipzig\n\nEinkehr und Toilette: Imbiss/Freisitz in Wörlitz
 \nAnmeldung bitte bei: mkraus70@yahoo.de oder unter 017 31330108.\nTeilneh
 merbeitrag: Apricus- und ADFC Mitglieder zahlen 2€\, Gäste zahlen zusätzli
 ch 1€ Versicherungsbeitrag\nBis Pfingstmontag dann!\nEs grüßt und freut si
 chDer Micha
DTSTART:20250609T073000Z
DTEND:20250609T160000Z
GEO:00;0
LOCATION:
ORGANIZER:
SEQUENCE:1
SUMMARY:Radtour zum Mühlentag
TRANSP:OPAQUE
URL:https://test.apricus-ev.de/component/icagenda/radtour-zum-muehlentag?la
 yout=vcal
END:VEVENT
END:VCALENDAR
