BEGIN:VCALENDAR
VERSION:2.0
PRODID:-//TEST Apricus e.V.//NONSGML kigkonsult.se iCalcreator 2.41.92//
CALSCALE:GREGORIAN
METHOD:PUBLISH
UID:62646161-3166-4963-a638-336239623531
X-WR-CALNAME:iCagenda
X-WR-CALDESC:Event Management Extension for Joomla!
X-WR-RELCALID:3E26604A-50F4-4449-8B3E-E4F4932D05B5
X-WR-TIMEZONE:Europe/Berlin
BEGIN:VTIMEZONE
TZID:Europe/Berlin
TZUNTIL:20231029T010000Z
BEGIN:STANDARD
TZNAME:CET
DTSTART:20201025T030000
TZOFFSETFROM:+0200
TZOFFSETTO:+0100
RDATE:20211031T030000
RDATE:20221030T030000
END:STANDARD
BEGIN:DAYLIGHT
TZNAME:CEST
DTSTART:20210328T020000
TZOFFSETFROM:+0100
TZOFFSETTO:+0200
RDATE:20220327T020000
RDATE:20230326T020000
END:DAYLIGHT
END:VTIMEZONE
BEGIN:VEVENT
UID:38373035-6132-4234-b766-366463663733
DTSTAMP:20260425T215226Z
CATEGORIES:Radfahren
CLASS:PUBLIC
DESCRIPTION;ALTREP="CID:<FFFF__=0ABBE548DFE235B58f9e8a93d@coffeebean.com>":
 ...mit dem Erlebnissportverband „Apricus“ e.V.\nWir bieten einen attraktiv
 en Rundkurs ab der Buchholzmühle nach Stackelitz und zurück an. Zum Teil v
 erläuft der Weg auf unbefestigten Wegen\, es kann also mal sandig oder ges
 chottert sein. Es wird in der Gruppe gefahren\, d.h. niemand wird zurück g
 elassen - daher bietet sich die Tour auch für jedermann an.\nEs geht über 
 Thießen&nbsp\;– Ragösen (Besichtigung der romanischen Dorfkirche)&nbsp\;– 
 Krakau&nbsp\;– Stackelitz (Besichtigung der Dorfkirche und des Künstlerate
 liers Lesnik&nbsp\;+ Verpflegungspause) und zurück über Jeber-Bergfrieden&
 nbsp\;– Hundeluft und Thießen (Forellenhof\, Möglichkeit zum Fischimbiss&n
 bsp\;/ Einkauf) wieder zur Buchholzmühle (Möglichkeit\, bei Kaffee und Kuc
 hen die Tour zu beenden). Unterwegs werden wir noch einen alten Wegestein 
 im Wald zwischen Krakau und Stackelitz finden und Reste des Naturlehrpfade
 s Jeber – Bergfrieden sehen.\n\nDer Rundkurs ab der Buchholzmühle ist 28&n
 bsp\;km lang.\nStart ab hier: 11:30&nbsp\;Uhr\n\nAutofahrer werden gebeten
 \, in Mühlstedt zu parken und sich dort dem Roßlauer Anreisestrang anzusch
 ließen oder selbständig zur Buchholzmühle zu radeln (etwas Extrazeit einpl
 anen).\n\nAb&nbsp\;/ an Mühlstedt insgesamt 34&nbsp\;km\n\nWer etwas sport
 licher ist\, parkt in Roßlau und schließt sich den Radlern am Bahnhof an:
 \n\nStartpunkt Bahnhof Roßlau: 11:00&nbsp\;Uhr\nAb&nbsp\;/ an Roßlau insge
 samt 46&nbsp\;km\n\nAuch ab Coswig kann gemeinsam geradelt werden\, Treffp
 unkt dort ist der Bahnhof Coswig auf der Seite vom Bahnsteig nach Dessau\n
 \nStart Bahnhof Coswig 10:30&nbsp\;Uhr (ankommendes Zugpaar wird abgewarte
 t)\nAb&nbsp\;/ an Coswig insgesamt 62&nbsp\;km\n\nWem die gesamte Tour ab 
 / an Coswig zu lang ist\, der kann auch einen Teil davon per Bahn fahren:
 \n\nAb Roßlau&nbsp\;/ an Coswig bzw. ab Coswig&nbsp\;/ an Roßlau wären dan
 n 54&nbsp\;km\n\nAnmeldung\n...bis 02.10.2021 mit gleichzeitiger Einzahlun
 g des Startgeldes bei Torsten Hammer\, Telefon: 034903/189761 (auch AB nut
 zen) bzw. thapricus@aol.com\nKurzfristige Nachmeldungen sind möglich.\nSta
 rtgelder\n\nBei Anmeldung UND Einzahlung bis 02.10.2021:\n\nMitglieder von
  Apricus&nbsp\;e.V = 4&nbsp\;€\nNichtmitglieder = 5&nbsp\;€\n\n\nBarzahler
  am Start bzw. wer nicht bis 02.10.2021 eingezahlt hat:\n\nMitglieder = 6&
 nbsp\;€\nNichtmitglieder = 7&nbsp\;€\n\n\n\nNicht im Startgeld enthalten s
 ind Kosten für die Verpflegung unterwegs und für Eintrittsgelder / Spenden
 .\nDie Anmeldungen gelten nur als verbindlich bei Einzahlung des Teilnehme
 rbeitrages auf das{loadposition ap-kontodaten}.\n
DTSTART:20211010T080000Z
DTEND:20211010T153000Z
GEO:00;0
LOCATION:
ORGANIZER:
SEQUENCE:1
SUMMARY:Radwanderung am Naturparktag
TRANSP:OPAQUE
URL:https://test.apricus-ev.de/component/icagenda/radwanderung-am-naturpark
 tag?layout=vcal
END:VEVENT
END:VCALENDAR
