BEGIN:VCALENDAR
VERSION:2.0
PRODID:-//TEST Apricus e.V.//NONSGML kigkonsult.se iCalcreator 2.41.92//
CALSCALE:GREGORIAN
METHOD:PUBLISH
UID:30373331-6661-4336-b165-396235373234
X-WR-CALNAME:iCagenda
X-WR-CALDESC:Event Management Extension for Joomla!
X-WR-RELCALID:3E26604A-50F4-4449-8B3E-E4F4932D05B5
X-WR-TIMEZONE:Europe/Berlin
BEGIN:VTIMEZONE
TZID:Europe/Berlin
TZUNTIL:20230326T010000Z
BEGIN:STANDARD
TZNAME:CET
DTSTART:20201025T030000
TZOFFSETFROM:+0200
TZOFFSETTO:+0100
RDATE:20211031T030000
RDATE:20221030T030000
END:STANDARD
BEGIN:DAYLIGHT
TZNAME:CEST
DTSTART:20210328T020000
TZOFFSETFROM:+0100
TZOFFSETTO:+0200
RDATE:20220327T020000
END:DAYLIGHT
END:VTIMEZONE
BEGIN:VEVENT
UID:65363163-3137-4066-b561-313566666531
DTSTAMP:20260425T232910Z
CATEGORIES:Radfahren
CLASS:PUBLIC
DESCRIPTION;ALTREP="CID:<FFFF__=0ABBE548DFE235B58f9e8a93d@coffeebean.com>":
 Die ursprünglich für den 20.06.2021 vorgesehene Tagesradtour wird aus orga
 nisatorischen Gründen auf den 12.06.2021 vorverlegt\, vielleicht gibt es j
 a doch noch Hoffnung\, vom 18. bis 21.06.2021 in die Sächsische Schweiz zu
 m Klettern fahren zu können.\nGleichzeitig habe ich mir überlegt\, die Tou
 r vom Sonntag auf einen Samstag zu verlegen\, da noch immer unklar ist\, o
 b wegen der Corona-Maßnahmen eine Einkehr an einem Sonntag erfolgen kann o
 der wir einmal mehr auf Picknick zurückgreifen müssen. Für diesen Fall kön
 nten wir am Samstag in Elster noch einkaufen.\nDer Wittenberger Treffpunkt
  ist vor dem Intersport Klöpping in der Dresdener Straße&nbsp\;165. Dort k
 ann man sich ab 10:00&nbsp\;Uhr einen Schnelltest holen\, der nötig werden
  kann\, um einkehren zu dürfen. Der Laden liegt direkt an unserer Strecke 
 und ist nur wenige Minuten vom Wittenberger Bahnhof entfernt. Wer nicht di
 e Chance vorher anderswo auf den Test hat und einen benötigt\, melde sich 
 vorher unter Tel. 03491-4590127 dort an. Bitte so einrichten\, dass wir bi
 s 11:00&nbsp\;Uhr alle unseren Test haben und von dort starten können.\nDe
 r Treffpunkt in Coswig ist um 9:30&nbsp\;Uhr an der kleinen Parkanlage Am 
 Walberg (Abzweig der Straße nach Wörlitz) – Coswiger sollten sich ebenfall
 s auf den Test in Wittenberg einstellen\, da die Coswiger Teststation an d
 er Marina ebenfalls erst ab 10:00 Uhr öffnet und man nach dem Test ja auch
  noch ca. 15 Minuten Wartezeit einplanen muss.\nSollte das Fahren in der k
 ompletten Gruppe aufgrund der Restriktionen noch nicht möglich sein\, fahr
 en wir wieder in kleinen Teilgruppen wie wir es bisher auch machen mussten
 .\nFür den Hinweg nach Klöden nutzen wir den Elberadweg. Ziel ist die Wass
 erburg Klöden\, die eine der ältesten Burgen unserer Region ist. Normalerw
 eise gibt es hier gastronomische Versorgung und auch ein Burgmuseum mit Fo
 lterkeller\, in dem es auch um das Kapitel der Hexenverbrennungen in unser
 er Heimat geht. Schön wäre es natürlich\, wenn sich beide Angebote wahrneh
 men ließen.\nEin weiteres Wasserschloss mit Park lädt in Gorsdorf-Hemsendo
 rf zu einem weiteren Kultur-Stopp ein. Einen weiteren kulinarischen Höhepu
 nkt bietet uns das weithin berühmte Eiscafé in Elster\, ehe wir dann nach 
 Wittenberg zurückradeln. Um nicht auf der Bundesstraße fahren zu müssen\, 
 werden wir nördlich der Eisenbahnlinie Wald- und Feldwege über Dietrichsdo
 rf nutzen.\nWer von/bis Wittenberg radelt\, hat dann ca. 55&nbsp\;km im Ge
 päck\, bei Start und Ziel in Coswig sind es insgesamt 30&nbsp\;km mehr.\nJ
 eder zahlt seine Unkosten für Verpflegung und eventuelle Eintritte selbst\
 , Gäste entrichten zudem vor Ort 1&nbsp\;€ Startgeld\, in dem auch die Spo
 rtunfallversicherung abgedeckt ist.\nAnmeldungen und nähere Informationen 
 bei Torsten Hammer\, thapricus@aol.com.\nDa die Lage dieses Jahr momentan 
 noch so unsicher ist\, verzichte ich auf eine Ausschreibung der Tour als Z
 weitagestour mit möglicher Zeltübernachtung.\nAuf ein Wiedersehen freut si
 chder Torsten
DTSTART:20210612T080000Z
DTEND:20210612T160000Z
GEO:00;0
LOCATION:
ORGANIZER:
SEQUENCE:1
SUMMARY:Radwanderung zur Wasserburg Klöden
TRANSP:OPAQUE
URL:https://test.apricus-ev.de/component/icagenda/radwanderung-zur-wasserbu
 rg-kloeden?layout=vcal
END:VEVENT
END:VCALENDAR
